BEGIN:VCALENDAR
VERSION:2.0
PRODID:-//SKHC - ECPv6.15.18//NONSGML v1.0//EN
CALSCALE:GREGORIAN
METHOD:PUBLISH
X-WR-CALNAME:SKHC
X-ORIGINAL-URL:https://skhc.ca
X-WR-CALDESC:Events for SKHC
REFRESH-INTERVAL;VALUE=DURATION:PT1H
X-Robots-Tag:noindex
X-PUBLISHED-TTL:PT1H
BEGIN:VTIMEZONE
TZID:America/Toronto
BEGIN:DAYLIGHT
TZOFFSETFROM:-0500
TZOFFSETTO:-0400
TZNAME:EDT
DTSTART:20240310T070000
END:DAYLIGHT
BEGIN:STANDARD
TZOFFSETFROM:-0400
TZOFFSETTO:-0500
TZNAME:EST
DTSTART:20241103T060000
END:STANDARD
BEGIN:DAYLIGHT
TZOFFSETFROM:-0500
TZOFFSETTO:-0400
TZNAME:EDT
DTSTART:20250309T070000
END:DAYLIGHT
BEGIN:STANDARD
TZOFFSETFROM:-0400
TZOFFSETTO:-0500
TZNAME:EST
DTSTART:20251102T060000
END:STANDARD
BEGIN:DAYLIGHT
TZOFFSETFROM:-0500
TZOFFSETTO:-0400
TZNAME:EDT
DTSTART:20260308T070000
END:DAYLIGHT
BEGIN:STANDARD
TZOFFSETFROM:-0400
TZOFFSETTO:-0500
TZNAME:EST
DTSTART:20261101T060000
END:STANDARD
END:VTIMEZONE
BEGIN:VEVENT
DTSTART;TZID=America/Toronto:20250805T100000
DTEND;TZID=America/Toronto:20250805T120000
DTSTAMP:20260424T020705
CREATED:20250130T151559Z
LAST-MODIFIED:20250130T151559Z
UID:10002033-1754388000-1754395200@skhc.ca
SUMMARY:Fitness Health
DESCRIPTION:
URL:https://skhc.ca/event/fitness-health-2/2025-08-05/
LOCATION:YMCA\, 140 Durham Street\, Sudbury\, ON\, P3E 3M7\, Canada
CATEGORIES:Community Programs
ATTACH;FMTTYPE=image/jpeg:https://skhc.ca/wp-content/uploads/2024/05/AdobeStock_209473934_WEB.jpg
ORGANIZER;CN="Jordan Assinewe":MAILTO:jassinewe@skhc.ca
GEO:46.4902172;-80.9942653
X-APPLE-STRUCTURED-LOCATION;VALUE=URI;X-ADDRESS=YMCA 140 Durham Street Sudbury ON P3E 3M7 Canada;X-APPLE-RADIUS=500;X-TITLE=140 Durham Street:geo:-80.9942653,46.4902172
END:VEVENT
BEGIN:VEVENT
DTSTART;TZID=America/Toronto:20250807T100000
DTEND;TZID=America/Toronto:20250807T120000
DTSTAMP:20260424T020705
CREATED:20250130T162742Z
LAST-MODIFIED:20250130T162742Z
UID:10002151-1754560800-1754568000@skhc.ca
SUMMARY:Fitness Health
DESCRIPTION:
URL:https://skhc.ca/event/fitness-health-3/2025-08-07/
LOCATION:YMCA\, 140 Durham Street\, Sudbury\, ON\, P3E 3M7\, Canada
CATEGORIES:Community Programs
ATTACH;FMTTYPE=image/jpeg:https://skhc.ca/wp-content/uploads/2024/05/AdobeStock_209473934_WEB.jpg
ORGANIZER;CN="Jordan Assinewe":MAILTO:jassinewe@skhc.ca
GEO:46.4902172;-80.9942653
X-APPLE-STRUCTURED-LOCATION;VALUE=URI;X-ADDRESS=YMCA 140 Durham Street Sudbury ON P3E 3M7 Canada;X-APPLE-RADIUS=500;X-TITLE=140 Durham Street:geo:-80.9942653,46.4902172
END:VEVENT
BEGIN:VEVENT
DTSTART;TZID=America/Toronto:20250808T130000
DTEND;TZID=America/Toronto:20250808T150000
DTSTAMP:20260424T020705
CREATED:20250520T165615Z
LAST-MODIFIED:20250520T165615Z
UID:10002233-1754658000-1754665200@skhc.ca
SUMMARY:Bowling
DESCRIPTION:
URL:https://skhc.ca/event/bowling/2025-08-08/
LOCATION:Plaza Bowl\, 1799 Garden Street\, Sudbury\, ON\, P3A 5E7\, Canada
CATEGORIES:Community Programs
ATTACH;FMTTYPE=image/jpeg:https://skhc.ca/wp-content/uploads/2025/05/SKHC_HEP_Bowling_2025_Header.jpg
ORGANIZER;CN="Jordan Assinewe":MAILTO:jassinewe@skhc.ca
GEO:46.5207442;-80.9313711
X-APPLE-STRUCTURED-LOCATION;VALUE=URI;X-ADDRESS=Plaza Bowl 1799 Garden Street Sudbury ON P3A 5E7 Canada;X-APPLE-RADIUS=500;X-TITLE=1799 Garden Street:geo:-80.9313711,46.5207442
END:VEVENT
BEGIN:VEVENT
DTSTART;TZID=America/Toronto:20250812T100000
DTEND;TZID=America/Toronto:20250812T120000
DTSTAMP:20260424T020705
CREATED:20250130T151559Z
LAST-MODIFIED:20250130T151559Z
UID:10002034-1754992800-1755000000@skhc.ca
SUMMARY:Fitness Health
DESCRIPTION:
URL:https://skhc.ca/event/fitness-health-2/2025-08-12/
LOCATION:YMCA\, 140 Durham Street\, Sudbury\, ON\, P3E 3M7\, Canada
CATEGORIES:Community Programs
ATTACH;FMTTYPE=image/jpeg:https://skhc.ca/wp-content/uploads/2024/05/AdobeStock_209473934_WEB.jpg
ORGANIZER;CN="Jordan Assinewe":MAILTO:jassinewe@skhc.ca
GEO:46.4902172;-80.9942653
X-APPLE-STRUCTURED-LOCATION;VALUE=URI;X-ADDRESS=YMCA 140 Durham Street Sudbury ON P3E 3M7 Canada;X-APPLE-RADIUS=500;X-TITLE=140 Durham Street:geo:-80.9942653,46.4902172
END:VEVENT
BEGIN:VEVENT
DTSTART;TZID=America/Toronto:20250814T100000
DTEND;TZID=America/Toronto:20250814T120000
DTSTAMP:20260424T020705
CREATED:20250130T162742Z
LAST-MODIFIED:20250130T162742Z
UID:10002152-1755165600-1755172800@skhc.ca
SUMMARY:Fitness Health
DESCRIPTION:
URL:https://skhc.ca/event/fitness-health-3/2025-08-14/
LOCATION:YMCA\, 140 Durham Street\, Sudbury\, ON\, P3E 3M7\, Canada
CATEGORIES:Community Programs
ATTACH;FMTTYPE=image/jpeg:https://skhc.ca/wp-content/uploads/2024/05/AdobeStock_209473934_WEB.jpg
ORGANIZER;CN="Jordan Assinewe":MAILTO:jassinewe@skhc.ca
GEO:46.4902172;-80.9942653
X-APPLE-STRUCTURED-LOCATION;VALUE=URI;X-ADDRESS=YMCA 140 Durham Street Sudbury ON P3E 3M7 Canada;X-APPLE-RADIUS=500;X-TITLE=140 Durham Street:geo:-80.9942653,46.4902172
END:VEVENT
BEGIN:VEVENT
DTSTART;TZID=America/Toronto:20250819T100000
DTEND;TZID=America/Toronto:20250819T120000
DTSTAMP:20260424T020705
CREATED:20250130T151559Z
LAST-MODIFIED:20250130T151559Z
UID:10002035-1755597600-1755604800@skhc.ca
SUMMARY:Fitness Health
DESCRIPTION:
URL:https://skhc.ca/event/fitness-health-2/2025-08-19/
LOCATION:YMCA\, 140 Durham Street\, Sudbury\, ON\, P3E 3M7\, Canada
CATEGORIES:Community Programs
ATTACH;FMTTYPE=image/jpeg:https://skhc.ca/wp-content/uploads/2024/05/AdobeStock_209473934_WEB.jpg
ORGANIZER;CN="Jordan Assinewe":MAILTO:jassinewe@skhc.ca
GEO:46.4902172;-80.9942653
X-APPLE-STRUCTURED-LOCATION;VALUE=URI;X-ADDRESS=YMCA 140 Durham Street Sudbury ON P3E 3M7 Canada;X-APPLE-RADIUS=500;X-TITLE=140 Durham Street:geo:-80.9942653,46.4902172
END:VEVENT
BEGIN:VEVENT
DTSTART;TZID=America/Toronto:20250821T100000
DTEND;TZID=America/Toronto:20250821T120000
DTSTAMP:20260424T020705
CREATED:20250130T162742Z
LAST-MODIFIED:20250130T162742Z
UID:10002153-1755770400-1755777600@skhc.ca
SUMMARY:Fitness Health
DESCRIPTION:
URL:https://skhc.ca/event/fitness-health-3/2025-08-21/
LOCATION:YMCA\, 140 Durham Street\, Sudbury\, ON\, P3E 3M7\, Canada
CATEGORIES:Community Programs
ATTACH;FMTTYPE=image/jpeg:https://skhc.ca/wp-content/uploads/2024/05/AdobeStock_209473934_WEB.jpg
ORGANIZER;CN="Jordan Assinewe":MAILTO:jassinewe@skhc.ca
GEO:46.4902172;-80.9942653
X-APPLE-STRUCTURED-LOCATION;VALUE=URI;X-ADDRESS=YMCA 140 Durham Street Sudbury ON P3E 3M7 Canada;X-APPLE-RADIUS=500;X-TITLE=140 Durham Street:geo:-80.9942653,46.4902172
END:VEVENT
BEGIN:VEVENT
DTSTART;TZID=America/Toronto:20250826T100000
DTEND;TZID=America/Toronto:20250826T120000
DTSTAMP:20260424T020705
CREATED:20250130T151559Z
LAST-MODIFIED:20250130T151559Z
UID:10002036-1756202400-1756209600@skhc.ca
SUMMARY:Fitness Health
DESCRIPTION:
URL:https://skhc.ca/event/fitness-health-2/2025-08-26/
LOCATION:YMCA\, 140 Durham Street\, Sudbury\, ON\, P3E 3M7\, Canada
CATEGORIES:Community Programs
ATTACH;FMTTYPE=image/jpeg:https://skhc.ca/wp-content/uploads/2024/05/AdobeStock_209473934_WEB.jpg
ORGANIZER;CN="Jordan Assinewe":MAILTO:jassinewe@skhc.ca
GEO:46.4902172;-80.9942653
X-APPLE-STRUCTURED-LOCATION;VALUE=URI;X-ADDRESS=YMCA 140 Durham Street Sudbury ON P3E 3M7 Canada;X-APPLE-RADIUS=500;X-TITLE=140 Durham Street:geo:-80.9942653,46.4902172
END:VEVENT
BEGIN:VEVENT
DTSTART;TZID=America/Toronto:20250828T100000
DTEND;TZID=America/Toronto:20250828T120000
DTSTAMP:20260424T020705
CREATED:20250130T162742Z
LAST-MODIFIED:20250130T162742Z
UID:10002154-1756375200-1756382400@skhc.ca
SUMMARY:Fitness Health
DESCRIPTION:
URL:https://skhc.ca/event/fitness-health-3/2025-08-28/
LOCATION:YMCA\, 140 Durham Street\, Sudbury\, ON\, P3E 3M7\, Canada
CATEGORIES:Community Programs
ATTACH;FMTTYPE=image/jpeg:https://skhc.ca/wp-content/uploads/2024/05/AdobeStock_209473934_WEB.jpg
ORGANIZER;CN="Jordan Assinewe":MAILTO:jassinewe@skhc.ca
GEO:46.4902172;-80.9942653
X-APPLE-STRUCTURED-LOCATION;VALUE=URI;X-ADDRESS=YMCA 140 Durham Street Sudbury ON P3E 3M7 Canada;X-APPLE-RADIUS=500;X-TITLE=140 Durham Street:geo:-80.9942653,46.4902172
END:VEVENT
END:VCALENDAR