BEGIN:VCALENDAR
VERSION:2.0
PRODID:-//SKHC - ECPv6.15.18//NONSGML v1.0//EN
CALSCALE:GREGORIAN
METHOD:PUBLISH
X-ORIGINAL-URL:https://skhc.ca
X-WR-CALDESC:Events for SKHC
REFRESH-INTERVAL;VALUE=DURATION:PT1H
X-Robots-Tag:noindex
X-PUBLISHED-TTL:PT1H
BEGIN:VTIMEZONE
TZID:America/Toronto
BEGIN:DAYLIGHT
TZOFFSETFROM:-0500
TZOFFSETTO:-0400
TZNAME:EDT
DTSTART:20240310T070000
END:DAYLIGHT
BEGIN:STANDARD
TZOFFSETFROM:-0400
TZOFFSETTO:-0500
TZNAME:EST
DTSTART:20241103T060000
END:STANDARD
BEGIN:DAYLIGHT
TZOFFSETFROM:-0500
TZOFFSETTO:-0400
TZNAME:EDT
DTSTART:20250309T070000
END:DAYLIGHT
BEGIN:STANDARD
TZOFFSETFROM:-0400
TZOFFSETTO:-0500
TZNAME:EST
DTSTART:20251102T060000
END:STANDARD
BEGIN:DAYLIGHT
TZOFFSETFROM:-0500
TZOFFSETTO:-0400
TZNAME:EDT
DTSTART:20260308T070000
END:DAYLIGHT
BEGIN:STANDARD
TZOFFSETFROM:-0400
TZOFFSETTO:-0500
TZNAME:EST
DTSTART:20261101T060000
END:STANDARD
END:VTIMEZONE
BEGIN:VEVENT
DTSTART;TZID=America/Toronto:20250902T100000
DTEND;TZID=America/Toronto:20250902T120000
DTSTAMP:20260424T005006
CREATED:20250130T151559Z
LAST-MODIFIED:20250130T151559Z
UID:10002037-1756807200-1756814400@skhc.ca
SUMMARY:Fitness Health
DESCRIPTION:
URL:https://skhc.ca/event/fitness-health-2/2025-09-02/
LOCATION:YMCA\, 140 Durham Street\, Sudbury\, ON\, P3E 3M7\, Canada
CATEGORIES:Community Programs
ATTACH;FMTTYPE=image/jpeg:https://skhc.ca/wp-content/uploads/2024/05/AdobeStock_209473934_WEB.jpg
ORGANIZER;CN="Jordan Assinewe":MAILTO:jassinewe@skhc.ca
GEO:46.4902172;-80.9942653
X-APPLE-STRUCTURED-LOCATION;VALUE=URI;X-ADDRESS=YMCA 140 Durham Street Sudbury ON P3E 3M7 Canada;X-APPLE-RADIUS=500;X-TITLE=140 Durham Street:geo:-80.9942653,46.4902172
END:VEVENT
BEGIN:VEVENT
DTSTART;TZID=America/Toronto:20250903T163000
DTEND;TZID=America/Toronto:20250903T183000
DTSTAMP:20260424T005006
CREATED:20250130T160248Z
LAST-MODIFIED:20250130T183316Z
UID:10002196-1756917000-1756924200@skhc.ca
SUMMARY:Young Thunderbirds Drum Group
DESCRIPTION:
URL:https://skhc.ca/event/young-thunderbirds-drum-group/2025-09-03/
LOCATION:Community Centre\, 105 Elm Street\, Suite E4\, Sudbury\, ON\, Canada
CATEGORIES:Traditional Program
ATTACH;FMTTYPE=image/jpeg:https://skhc.ca/wp-content/uploads/2025/01/IMG_1050_Edited_WEB.jpg
ORGANIZER;CN="Debbie Plain-McGregor":MAILTO:dplain-mcgregor@skhc.ca
GEO:46.4929321;-80.9986778
X-APPLE-STRUCTURED-LOCATION;VALUE=URI;X-ADDRESS=Community Centre 105 Elm Street Suite E4 Sudbury ON Canada;X-APPLE-RADIUS=500;X-TITLE=105 Elm Street\, Suite E4:geo:-80.9986778,46.4929321
END:VEVENT
BEGIN:VEVENT
DTSTART;TZID=America/Toronto:20250904T100000
DTEND;TZID=America/Toronto:20250904T120000
DTSTAMP:20260424T005006
CREATED:20250130T162742Z
LAST-MODIFIED:20250130T162742Z
UID:10002155-1756980000-1756987200@skhc.ca
SUMMARY:Fitness Health
DESCRIPTION:
URL:https://skhc.ca/event/fitness-health-3/2025-09-04/
LOCATION:YMCA\, 140 Durham Street\, Sudbury\, ON\, P3E 3M7\, Canada
CATEGORIES:Community Programs
ATTACH;FMTTYPE=image/jpeg:https://skhc.ca/wp-content/uploads/2024/05/AdobeStock_209473934_WEB.jpg
ORGANIZER;CN="Jordan Assinewe":MAILTO:jassinewe@skhc.ca
GEO:46.4902172;-80.9942653
X-APPLE-STRUCTURED-LOCATION;VALUE=URI;X-ADDRESS=YMCA 140 Durham Street Sudbury ON P3E 3M7 Canada;X-APPLE-RADIUS=500;X-TITLE=140 Durham Street:geo:-80.9942653,46.4902172
END:VEVENT
BEGIN:VEVENT
DTSTART;TZID=America/Toronto:20250909T100000
DTEND;TZID=America/Toronto:20250909T120000
DTSTAMP:20260424T005006
CREATED:20250130T151559Z
LAST-MODIFIED:20250130T151559Z
UID:10002038-1757412000-1757419200@skhc.ca
SUMMARY:Fitness Health
DESCRIPTION:
URL:https://skhc.ca/event/fitness-health-2/2025-09-09/
LOCATION:YMCA\, 140 Durham Street\, Sudbury\, ON\, P3E 3M7\, Canada
CATEGORIES:Community Programs
ATTACH;FMTTYPE=image/jpeg:https://skhc.ca/wp-content/uploads/2024/05/AdobeStock_209473934_WEB.jpg
ORGANIZER;CN="Jordan Assinewe":MAILTO:jassinewe@skhc.ca
GEO:46.4902172;-80.9942653
X-APPLE-STRUCTURED-LOCATION;VALUE=URI;X-ADDRESS=YMCA 140 Durham Street Sudbury ON P3E 3M7 Canada;X-APPLE-RADIUS=500;X-TITLE=140 Durham Street:geo:-80.9942653,46.4902172
END:VEVENT
BEGIN:VEVENT
DTSTART;TZID=America/Toronto:20250910T163000
DTEND;TZID=America/Toronto:20250910T183000
DTSTAMP:20260424T005006
CREATED:20250130T160248Z
LAST-MODIFIED:20250130T183316Z
UID:10002197-1757521800-1757529000@skhc.ca
SUMMARY:Young Thunderbirds Drum Group
DESCRIPTION:
URL:https://skhc.ca/event/young-thunderbirds-drum-group/2025-09-10/
LOCATION:Community Centre\, 105 Elm Street\, Suite E4\, Sudbury\, ON\, Canada
CATEGORIES:Traditional Program
ATTACH;FMTTYPE=image/jpeg:https://skhc.ca/wp-content/uploads/2025/01/IMG_1050_Edited_WEB.jpg
ORGANIZER;CN="Debbie Plain-McGregor":MAILTO:dplain-mcgregor@skhc.ca
GEO:46.4929321;-80.9986778
X-APPLE-STRUCTURED-LOCATION;VALUE=URI;X-ADDRESS=Community Centre 105 Elm Street Suite E4 Sudbury ON Canada;X-APPLE-RADIUS=500;X-TITLE=105 Elm Street\, Suite E4:geo:-80.9986778,46.4929321
END:VEVENT
BEGIN:VEVENT
DTSTART;TZID=America/Toronto:20250911T100000
DTEND;TZID=America/Toronto:20250911T120000
DTSTAMP:20260424T005006
CREATED:20250130T162742Z
LAST-MODIFIED:20250130T162742Z
UID:10002156-1757584800-1757592000@skhc.ca
SUMMARY:Fitness Health
DESCRIPTION:
URL:https://skhc.ca/event/fitness-health-3/2025-09-11/
LOCATION:YMCA\, 140 Durham Street\, Sudbury\, ON\, P3E 3M7\, Canada
CATEGORIES:Community Programs
ATTACH;FMTTYPE=image/jpeg:https://skhc.ca/wp-content/uploads/2024/05/AdobeStock_209473934_WEB.jpg
ORGANIZER;CN="Jordan Assinewe":MAILTO:jassinewe@skhc.ca
GEO:46.4902172;-80.9942653
X-APPLE-STRUCTURED-LOCATION;VALUE=URI;X-ADDRESS=YMCA 140 Durham Street Sudbury ON P3E 3M7 Canada;X-APPLE-RADIUS=500;X-TITLE=140 Durham Street:geo:-80.9942653,46.4902172
END:VEVENT
BEGIN:VEVENT
DTSTART;TZID=America/Toronto:20250912T130000
DTEND;TZID=America/Toronto:20250912T150000
DTSTAMP:20260424T005006
CREATED:20250520T165615Z
LAST-MODIFIED:20250520T165615Z
UID:10002234-1757682000-1757689200@skhc.ca
SUMMARY:Bowling
DESCRIPTION:
URL:https://skhc.ca/event/bowling/2025-09-12/
LOCATION:Plaza Bowl\, 1799 Garden Street\, Sudbury\, ON\, P3A 5E7\, Canada
CATEGORIES:Community Programs
ATTACH;FMTTYPE=image/jpeg:https://skhc.ca/wp-content/uploads/2025/05/SKHC_HEP_Bowling_2025_Header.jpg
ORGANIZER;CN="Jordan Assinewe":MAILTO:jassinewe@skhc.ca
GEO:46.5207442;-80.9313711
X-APPLE-STRUCTURED-LOCATION;VALUE=URI;X-ADDRESS=Plaza Bowl 1799 Garden Street Sudbury ON P3A 5E7 Canada;X-APPLE-RADIUS=500;X-TITLE=1799 Garden Street:geo:-80.9313711,46.5207442
END:VEVENT
BEGIN:VEVENT
DTSTART;TZID=America/Toronto:20250916T100000
DTEND;TZID=America/Toronto:20250916T120000
DTSTAMP:20260424T005006
CREATED:20250130T151559Z
LAST-MODIFIED:20250130T151559Z
UID:10002039-1758016800-1758024000@skhc.ca
SUMMARY:Fitness Health
DESCRIPTION:
URL:https://skhc.ca/event/fitness-health-2/2025-09-16/
LOCATION:YMCA\, 140 Durham Street\, Sudbury\, ON\, P3E 3M7\, Canada
CATEGORIES:Community Programs
ATTACH;FMTTYPE=image/jpeg:https://skhc.ca/wp-content/uploads/2024/05/AdobeStock_209473934_WEB.jpg
ORGANIZER;CN="Jordan Assinewe":MAILTO:jassinewe@skhc.ca
GEO:46.4902172;-80.9942653
X-APPLE-STRUCTURED-LOCATION;VALUE=URI;X-ADDRESS=YMCA 140 Durham Street Sudbury ON P3E 3M7 Canada;X-APPLE-RADIUS=500;X-TITLE=140 Durham Street:geo:-80.9942653,46.4902172
END:VEVENT
BEGIN:VEVENT
DTSTART;TZID=America/Toronto:20250917T163000
DTEND;TZID=America/Toronto:20250917T183000
DTSTAMP:20260424T005006
CREATED:20250130T160248Z
LAST-MODIFIED:20250130T183316Z
UID:10002198-1758126600-1758133800@skhc.ca
SUMMARY:Young Thunderbirds Drum Group
DESCRIPTION:
URL:https://skhc.ca/event/young-thunderbirds-drum-group/2025-09-17/
LOCATION:Community Centre\, 105 Elm Street\, Suite E4\, Sudbury\, ON\, Canada
CATEGORIES:Traditional Program
ATTACH;FMTTYPE=image/jpeg:https://skhc.ca/wp-content/uploads/2025/01/IMG_1050_Edited_WEB.jpg
ORGANIZER;CN="Debbie Plain-McGregor":MAILTO:dplain-mcgregor@skhc.ca
GEO:46.4929321;-80.9986778
X-APPLE-STRUCTURED-LOCATION;VALUE=URI;X-ADDRESS=Community Centre 105 Elm Street Suite E4 Sudbury ON Canada;X-APPLE-RADIUS=500;X-TITLE=105 Elm Street\, Suite E4:geo:-80.9986778,46.4929321
END:VEVENT
BEGIN:VEVENT
DTSTART;TZID=America/Toronto:20250918T100000
DTEND;TZID=America/Toronto:20250918T120000
DTSTAMP:20260424T005006
CREATED:20250130T162742Z
LAST-MODIFIED:20250130T162742Z
UID:10002157-1758189600-1758196800@skhc.ca
SUMMARY:Fitness Health
DESCRIPTION:
URL:https://skhc.ca/event/fitness-health-3/2025-09-18/
LOCATION:YMCA\, 140 Durham Street\, Sudbury\, ON\, P3E 3M7\, Canada
CATEGORIES:Community Programs
ATTACH;FMTTYPE=image/jpeg:https://skhc.ca/wp-content/uploads/2024/05/AdobeStock_209473934_WEB.jpg
ORGANIZER;CN="Jordan Assinewe":MAILTO:jassinewe@skhc.ca
GEO:46.4902172;-80.9942653
X-APPLE-STRUCTURED-LOCATION;VALUE=URI;X-ADDRESS=YMCA 140 Durham Street Sudbury ON P3E 3M7 Canada;X-APPLE-RADIUS=500;X-TITLE=140 Durham Street:geo:-80.9942653,46.4902172
END:VEVENT
BEGIN:VEVENT
DTSTART;TZID=America/Toronto:20250923T100000
DTEND;TZID=America/Toronto:20250923T120000
DTSTAMP:20260424T005006
CREATED:20250130T151559Z
LAST-MODIFIED:20250130T151559Z
UID:10002040-1758621600-1758628800@skhc.ca
SUMMARY:Fitness Health
DESCRIPTION:
URL:https://skhc.ca/event/fitness-health-2/2025-09-23/
LOCATION:YMCA\, 140 Durham Street\, Sudbury\, ON\, P3E 3M7\, Canada
CATEGORIES:Community Programs
ATTACH;FMTTYPE=image/jpeg:https://skhc.ca/wp-content/uploads/2024/05/AdobeStock_209473934_WEB.jpg
ORGANIZER;CN="Jordan Assinewe":MAILTO:jassinewe@skhc.ca
GEO:46.4902172;-80.9942653
X-APPLE-STRUCTURED-LOCATION;VALUE=URI;X-ADDRESS=YMCA 140 Durham Street Sudbury ON P3E 3M7 Canada;X-APPLE-RADIUS=500;X-TITLE=140 Durham Street:geo:-80.9942653,46.4902172
END:VEVENT
BEGIN:VEVENT
DTSTART;TZID=America/Toronto:20250924T163000
DTEND;TZID=America/Toronto:20250924T183000
DTSTAMP:20260424T005006
CREATED:20250130T160248Z
LAST-MODIFIED:20250130T183316Z
UID:10002199-1758731400-1758738600@skhc.ca
SUMMARY:Young Thunderbirds Drum Group
DESCRIPTION:
URL:https://skhc.ca/event/young-thunderbirds-drum-group/2025-09-24/
LOCATION:Community Centre\, 105 Elm Street\, Suite E4\, Sudbury\, ON\, Canada
CATEGORIES:Traditional Program
ATTACH;FMTTYPE=image/jpeg:https://skhc.ca/wp-content/uploads/2025/01/IMG_1050_Edited_WEB.jpg
ORGANIZER;CN="Debbie Plain-McGregor":MAILTO:dplain-mcgregor@skhc.ca
GEO:46.4929321;-80.9986778
X-APPLE-STRUCTURED-LOCATION;VALUE=URI;X-ADDRESS=Community Centre 105 Elm Street Suite E4 Sudbury ON Canada;X-APPLE-RADIUS=500;X-TITLE=105 Elm Street\, Suite E4:geo:-80.9986778,46.4929321
END:VEVENT
BEGIN:VEVENT
DTSTART;TZID=America/Toronto:20250925T100000
DTEND;TZID=America/Toronto:20250925T120000
DTSTAMP:20260424T005006
CREATED:20250130T162742Z
LAST-MODIFIED:20250130T162742Z
UID:10002158-1758794400-1758801600@skhc.ca
SUMMARY:Fitness Health
DESCRIPTION:
URL:https://skhc.ca/event/fitness-health-3/2025-09-25/
LOCATION:YMCA\, 140 Durham Street\, Sudbury\, ON\, P3E 3M7\, Canada
CATEGORIES:Community Programs
ATTACH;FMTTYPE=image/jpeg:https://skhc.ca/wp-content/uploads/2024/05/AdobeStock_209473934_WEB.jpg
ORGANIZER;CN="Jordan Assinewe":MAILTO:jassinewe@skhc.ca
GEO:46.4902172;-80.9942653
X-APPLE-STRUCTURED-LOCATION;VALUE=URI;X-ADDRESS=YMCA 140 Durham Street Sudbury ON P3E 3M7 Canada;X-APPLE-RADIUS=500;X-TITLE=140 Durham Street:geo:-80.9942653,46.4902172
END:VEVENT
END:VCALENDAR