BEGIN:VCALENDAR
VERSION:2.0
PRODID:-//SKHC - ECPv6.15.18//NONSGML v1.0//EN
CALSCALE:GREGORIAN
METHOD:PUBLISH
X-WR-CALNAME:SKHC
X-ORIGINAL-URL:https://skhc.ca
X-WR-CALDESC:Events for SKHC
REFRESH-INTERVAL;VALUE=DURATION:PT1H
X-Robots-Tag:noindex
X-PUBLISHED-TTL:PT1H
BEGIN:VTIMEZONE
TZID:America/Toronto
BEGIN:DAYLIGHT
TZOFFSETFROM:-0500
TZOFFSETTO:-0400
TZNAME:EDT
DTSTART:20260308T070000
END:DAYLIGHT
BEGIN:STANDARD
TZOFFSETFROM:-0400
TZOFFSETTO:-0500
TZNAME:EST
DTSTART:20261101T060000
END:STANDARD
BEGIN:DAYLIGHT
TZOFFSETFROM:-0500
TZOFFSETTO:-0400
TZNAME:EDT
DTSTART:20270314T070000
END:DAYLIGHT
BEGIN:STANDARD
TZOFFSETFROM:-0400
TZOFFSETTO:-0500
TZNAME:EST
DTSTART:20271107T060000
END:STANDARD
BEGIN:DAYLIGHT
TZOFFSETFROM:-0500
TZOFFSETTO:-0400
TZNAME:EDT
DTSTART:20280312T070000
END:DAYLIGHT
BEGIN:STANDARD
TZOFFSETFROM:-0400
TZOFFSETTO:-0500
TZNAME:EST
DTSTART:20281105T060000
END:STANDARD
END:VTIMEZONE
BEGIN:VEVENT
DTSTART;VALUE=DATE:20271108
DTEND;VALUE=DATE:20271109
DTSTAMP:20260424T004638
CREATED:20241112T152741Z
LAST-MODIFIED:20241112T152741Z
UID:10001980-1825632000-1825718399@skhc.ca
SUMMARY:National Aboriginal Veterans Day
DESCRIPTION:
URL:https://skhc.ca/event/national-aboriginal-veterans-day/2027-11-08/
LOCATION:ON
CATEGORIES:Notable Dates
ATTACH;FMTTYPE=image/jpeg:https://skhc.ca/wp-content/uploads/2024/11/SKHC_IndigenousVeteransDay_2022_1.jpg
END:VEVENT
BEGIN:VEVENT
DTSTART;VALUE=DATE:20271111
DTEND;VALUE=DATE:20271112
DTSTAMP:20260424T004638
CREATED:20241112T152852Z
LAST-MODIFIED:20241112T152852Z
UID:10001986-1825891200-1825977599@skhc.ca
SUMMARY:Remembrance Day
DESCRIPTION:
URL:https://skhc.ca/event/remembrance-day/2027-11-11/
LOCATION:ON
CATEGORIES:Notable Dates
ATTACH;FMTTYPE=image/jpeg:https://skhc.ca/wp-content/uploads/2024/11/SKHC_IndigenousVeteransDay_2022_1.jpg
END:VEVENT
END:VCALENDAR