BEGIN:VCALENDAR
VERSION:2.0
PRODID:-//SKHC - ECPv6.15.18//NONSGML v1.0//EN
CALSCALE:GREGORIAN
METHOD:PUBLISH
X-WR-CALNAME:SKHC
X-ORIGINAL-URL:https://skhc.ca
X-WR-CALDESC:Events for SKHC
REFRESH-INTERVAL;VALUE=DURATION:PT1H
X-Robots-Tag:noindex
X-PUBLISHED-TTL:PT1H
BEGIN:VTIMEZONE
TZID:America/Toronto
BEGIN:DAYLIGHT
TZOFFSETFROM:-0500
TZOFFSETTO:-0400
TZNAME:EDT
DTSTART:20230312T070000
END:DAYLIGHT
BEGIN:STANDARD
TZOFFSETFROM:-0400
TZOFFSETTO:-0500
TZNAME:EST
DTSTART:20231105T060000
END:STANDARD
BEGIN:DAYLIGHT
TZOFFSETFROM:-0500
TZOFFSETTO:-0400
TZNAME:EDT
DTSTART:20240310T070000
END:DAYLIGHT
BEGIN:STANDARD
TZOFFSETFROM:-0400
TZOFFSETTO:-0500
TZNAME:EST
DTSTART:20241103T060000
END:STANDARD
BEGIN:DAYLIGHT
TZOFFSETFROM:-0500
TZOFFSETTO:-0400
TZNAME:EDT
DTSTART:20250309T070000
END:DAYLIGHT
BEGIN:STANDARD
TZOFFSETFROM:-0400
TZOFFSETTO:-0500
TZNAME:EST
DTSTART:20251102T060000
END:STANDARD
END:VTIMEZONE
BEGIN:VEVENT
DTSTART;TZID=America/Toronto:20240726T130000
DTEND;TZID=America/Toronto:20240726T153000
DTSTAMP:20260424T210307
CREATED:20240430T211442Z
LAST-MODIFIED:20240430T211629Z
UID:10001138-1721998800-1722007800@skhc.ca
SUMMARY:Creative Hearts and Hands Art Drop-In
DESCRIPTION:
URL:https://skhc.ca/event/creative-hearts-and-hands-art-drop-in/2024-07-26/
LOCATION:Community Centre\, 105 Elm Street\, Suite E4\, Sudbury\, ON\, Canada
CATEGORIES:Community Programs
ATTACH;FMTTYPE=image/jpeg:https://skhc.ca/wp-content/uploads/2024/04/CuttingLeather.jpg
ORGANIZER;CN="Angela Nahwegahbow":MAILTO:anahwegahbow@skhc.ca
GEO:46.4929321;-80.9986778
X-APPLE-STRUCTURED-LOCATION;VALUE=URI;X-ADDRESS=Community Centre 105 Elm Street Suite E4 Sudbury ON Canada;X-APPLE-RADIUS=500;X-TITLE=105 Elm Street\, Suite E4:geo:-80.9986778,46.4929321
END:VEVENT
BEGIN:VEVENT
DTSTART;TZID=America/Toronto:20240719T130000
DTEND;TZID=America/Toronto:20240719T153000
DTSTAMP:20260424T210307
CREATED:20240430T211442Z
LAST-MODIFIED:20240430T211629Z
UID:10001137-1721394000-1721403000@skhc.ca
SUMMARY:Creative Hearts and Hands Art Drop-In
DESCRIPTION:
URL:https://skhc.ca/event/creative-hearts-and-hands-art-drop-in/2024-07-19/
LOCATION:Community Centre\, 105 Elm Street\, Suite E4\, Sudbury\, ON\, Canada
CATEGORIES:Community Programs
ATTACH;FMTTYPE=image/jpeg:https://skhc.ca/wp-content/uploads/2024/04/CuttingLeather.jpg
ORGANIZER;CN="Angela Nahwegahbow":MAILTO:anahwegahbow@skhc.ca
GEO:46.4929321;-80.9986778
X-APPLE-STRUCTURED-LOCATION;VALUE=URI;X-ADDRESS=Community Centre 105 Elm Street Suite E4 Sudbury ON Canada;X-APPLE-RADIUS=500;X-TITLE=105 Elm Street\, Suite E4:geo:-80.9986778,46.4929321
END:VEVENT
BEGIN:VEVENT
DTSTART;TZID=America/Toronto:20240712T130000
DTEND;TZID=America/Toronto:20240712T153000
DTSTAMP:20260424T210307
CREATED:20240430T211442Z
LAST-MODIFIED:20240430T211629Z
UID:10001136-1720789200-1720798200@skhc.ca
SUMMARY:Creative Hearts and Hands Art Drop-In
DESCRIPTION:
URL:https://skhc.ca/event/creative-hearts-and-hands-art-drop-in/2024-07-12/
LOCATION:Community Centre\, 105 Elm Street\, Suite E4\, Sudbury\, ON\, Canada
CATEGORIES:Community Programs
ATTACH;FMTTYPE=image/jpeg:https://skhc.ca/wp-content/uploads/2024/04/CuttingLeather.jpg
ORGANIZER;CN="Angela Nahwegahbow":MAILTO:anahwegahbow@skhc.ca
GEO:46.4929321;-80.9986778
X-APPLE-STRUCTURED-LOCATION;VALUE=URI;X-ADDRESS=Community Centre 105 Elm Street Suite E4 Sudbury ON Canada;X-APPLE-RADIUS=500;X-TITLE=105 Elm Street\, Suite E4:geo:-80.9986778,46.4929321
END:VEVENT
BEGIN:VEVENT
DTSTART;TZID=America/Toronto:20240705T130000
DTEND;TZID=America/Toronto:20240705T153000
DTSTAMP:20260424T210307
CREATED:20240430T211442Z
LAST-MODIFIED:20240430T211629Z
UID:10001135-1720184400-1720193400@skhc.ca
SUMMARY:Creative Hearts and Hands Art Drop-In
DESCRIPTION:
URL:https://skhc.ca/event/creative-hearts-and-hands-art-drop-in/2024-07-05/
LOCATION:Community Centre\, 105 Elm Street\, Suite E4\, Sudbury\, ON\, Canada
CATEGORIES:Community Programs
ATTACH;FMTTYPE=image/jpeg:https://skhc.ca/wp-content/uploads/2024/04/CuttingLeather.jpg
ORGANIZER;CN="Angela Nahwegahbow":MAILTO:anahwegahbow@skhc.ca
GEO:46.4929321;-80.9986778
X-APPLE-STRUCTURED-LOCATION;VALUE=URI;X-ADDRESS=Community Centre 105 Elm Street Suite E4 Sudbury ON Canada;X-APPLE-RADIUS=500;X-TITLE=105 Elm Street\, Suite E4:geo:-80.9986778,46.4929321
END:VEVENT
BEGIN:VEVENT
DTSTART;TZID=America/Toronto:20240628T130000
DTEND;TZID=America/Toronto:20240628T153000
DTSTAMP:20260424T210307
CREATED:20240430T211442Z
LAST-MODIFIED:20240430T211629Z
UID:10001134-1719579600-1719588600@skhc.ca
SUMMARY:Creative Hearts and Hands Art Drop-In
DESCRIPTION:
URL:https://skhc.ca/event/creative-hearts-and-hands-art-drop-in/2024-06-28/
LOCATION:Community Centre\, 105 Elm Street\, Suite E4\, Sudbury\, ON\, Canada
CATEGORIES:Community Programs
ATTACH;FMTTYPE=image/jpeg:https://skhc.ca/wp-content/uploads/2024/04/CuttingLeather.jpg
ORGANIZER;CN="Angela Nahwegahbow":MAILTO:anahwegahbow@skhc.ca
GEO:46.4929321;-80.9986778
X-APPLE-STRUCTURED-LOCATION;VALUE=URI;X-ADDRESS=Community Centre 105 Elm Street Suite E4 Sudbury ON Canada;X-APPLE-RADIUS=500;X-TITLE=105 Elm Street\, Suite E4:geo:-80.9986778,46.4929321
END:VEVENT
BEGIN:VEVENT
DTSTART;TZID=America/Toronto:20240621T130000
DTEND;TZID=America/Toronto:20240621T153000
DTSTAMP:20260424T210307
CREATED:20240430T211442Z
LAST-MODIFIED:20240430T211629Z
UID:10001133-1718974800-1718983800@skhc.ca
SUMMARY:Creative Hearts and Hands Art Drop-In
DESCRIPTION:
URL:https://skhc.ca/event/creative-hearts-and-hands-art-drop-in/2024-06-21/
LOCATION:Community Centre\, 105 Elm Street\, Suite E4\, Sudbury\, ON\, Canada
CATEGORIES:Community Programs
ATTACH;FMTTYPE=image/jpeg:https://skhc.ca/wp-content/uploads/2024/04/CuttingLeather.jpg
ORGANIZER;CN="Angela Nahwegahbow":MAILTO:anahwegahbow@skhc.ca
GEO:46.4929321;-80.9986778
X-APPLE-STRUCTURED-LOCATION;VALUE=URI;X-ADDRESS=Community Centre 105 Elm Street Suite E4 Sudbury ON Canada;X-APPLE-RADIUS=500;X-TITLE=105 Elm Street\, Suite E4:geo:-80.9986778,46.4929321
END:VEVENT
BEGIN:VEVENT
DTSTART;TZID=America/Toronto:20240614T130000
DTEND;TZID=America/Toronto:20240614T153000
DTSTAMP:20260424T210307
CREATED:20240430T211442Z
LAST-MODIFIED:20240430T211629Z
UID:10001132-1718370000-1718379000@skhc.ca
SUMMARY:Creative Hearts and Hands Art Drop-In
DESCRIPTION:
URL:https://skhc.ca/event/creative-hearts-and-hands-art-drop-in/2024-06-14/
LOCATION:Community Centre\, 105 Elm Street\, Suite E4\, Sudbury\, ON\, Canada
CATEGORIES:Community Programs
ATTACH;FMTTYPE=image/jpeg:https://skhc.ca/wp-content/uploads/2024/04/CuttingLeather.jpg
ORGANIZER;CN="Angela Nahwegahbow":MAILTO:anahwegahbow@skhc.ca
GEO:46.4929321;-80.9986778
X-APPLE-STRUCTURED-LOCATION;VALUE=URI;X-ADDRESS=Community Centre 105 Elm Street Suite E4 Sudbury ON Canada;X-APPLE-RADIUS=500;X-TITLE=105 Elm Street\, Suite E4:geo:-80.9986778,46.4929321
END:VEVENT
BEGIN:VEVENT
DTSTART;TZID=America/Toronto:20240607T130000
DTEND;TZID=America/Toronto:20240607T153000
DTSTAMP:20260424T210307
CREATED:20240430T211442Z
LAST-MODIFIED:20240430T211629Z
UID:10001131-1717765200-1717774200@skhc.ca
SUMMARY:Creative Hearts and Hands Art Drop-In
DESCRIPTION:
URL:https://skhc.ca/event/creative-hearts-and-hands-art-drop-in/2024-06-07/
LOCATION:Community Centre\, 105 Elm Street\, Suite E4\, Sudbury\, ON\, Canada
CATEGORIES:Community Programs
ATTACH;FMTTYPE=image/jpeg:https://skhc.ca/wp-content/uploads/2024/04/CuttingLeather.jpg
ORGANIZER;CN="Angela Nahwegahbow":MAILTO:anahwegahbow@skhc.ca
GEO:46.4929321;-80.9986778
X-APPLE-STRUCTURED-LOCATION;VALUE=URI;X-ADDRESS=Community Centre 105 Elm Street Suite E4 Sudbury ON Canada;X-APPLE-RADIUS=500;X-TITLE=105 Elm Street\, Suite E4:geo:-80.9986778,46.4929321
END:VEVENT
BEGIN:VEVENT
DTSTART;TZID=America/Toronto:20240531T130000
DTEND;TZID=America/Toronto:20240531T153000
DTSTAMP:20260424T210307
CREATED:20240430T211442Z
LAST-MODIFIED:20240430T211629Z
UID:10001130-1717160400-1717169400@skhc.ca
SUMMARY:Creative Hearts and Hands Art Drop-In
DESCRIPTION:
URL:https://skhc.ca/event/creative-hearts-and-hands-art-drop-in/2024-05-31/
LOCATION:Community Centre\, 105 Elm Street\, Suite E4\, Sudbury\, ON\, Canada
CATEGORIES:Community Programs
ATTACH;FMTTYPE=image/jpeg:https://skhc.ca/wp-content/uploads/2024/04/CuttingLeather.jpg
ORGANIZER;CN="Angela Nahwegahbow":MAILTO:anahwegahbow@skhc.ca
GEO:46.4929321;-80.9986778
X-APPLE-STRUCTURED-LOCATION;VALUE=URI;X-ADDRESS=Community Centre 105 Elm Street Suite E4 Sudbury ON Canada;X-APPLE-RADIUS=500;X-TITLE=105 Elm Street\, Suite E4:geo:-80.9986778,46.4929321
END:VEVENT
BEGIN:VEVENT
DTSTART;TZID=America/Toronto:20240524T130000
DTEND;TZID=America/Toronto:20240524T153000
DTSTAMP:20260424T210307
CREATED:20240430T211442Z
LAST-MODIFIED:20240430T211629Z
UID:10001129-1716555600-1716564600@skhc.ca
SUMMARY:Creative Hearts and Hands Art Drop-In
DESCRIPTION:
URL:https://skhc.ca/event/creative-hearts-and-hands-art-drop-in/2024-05-24/
LOCATION:Community Centre\, 105 Elm Street\, Suite E4\, Sudbury\, ON\, Canada
CATEGORIES:Community Programs
ATTACH;FMTTYPE=image/jpeg:https://skhc.ca/wp-content/uploads/2024/04/CuttingLeather.jpg
ORGANIZER;CN="Angela Nahwegahbow":MAILTO:anahwegahbow@skhc.ca
GEO:46.4929321;-80.9986778
X-APPLE-STRUCTURED-LOCATION;VALUE=URI;X-ADDRESS=Community Centre 105 Elm Street Suite E4 Sudbury ON Canada;X-APPLE-RADIUS=500;X-TITLE=105 Elm Street\, Suite E4:geo:-80.9986778,46.4929321
END:VEVENT
BEGIN:VEVENT
DTSTART;TZID=America/Toronto:20240517T130000
DTEND;TZID=America/Toronto:20240517T153000
DTSTAMP:20260424T210307
CREATED:20240430T211442Z
LAST-MODIFIED:20240430T211629Z
UID:10001128-1715950800-1715959800@skhc.ca
SUMMARY:Creative Hearts and Hands Art Drop-In
DESCRIPTION:
URL:https://skhc.ca/event/creative-hearts-and-hands-art-drop-in/2024-05-17/
LOCATION:Community Centre\, 105 Elm Street\, Suite E4\, Sudbury\, ON\, Canada
CATEGORIES:Community Programs
ATTACH;FMTTYPE=image/jpeg:https://skhc.ca/wp-content/uploads/2024/04/CuttingLeather.jpg
ORGANIZER;CN="Angela Nahwegahbow":MAILTO:anahwegahbow@skhc.ca
GEO:46.4929321;-80.9986778
X-APPLE-STRUCTURED-LOCATION;VALUE=URI;X-ADDRESS=Community Centre 105 Elm Street Suite E4 Sudbury ON Canada;X-APPLE-RADIUS=500;X-TITLE=105 Elm Street\, Suite E4:geo:-80.9986778,46.4929321
END:VEVENT
BEGIN:VEVENT
DTSTART;TZID=America/Toronto:20240510T130000
DTEND;TZID=America/Toronto:20240510T153000
DTSTAMP:20260424T210307
CREATED:20240430T211442Z
LAST-MODIFIED:20240430T211629Z
UID:10001127-1715346000-1715355000@skhc.ca
SUMMARY:Creative Hearts and Hands Art Drop-In
DESCRIPTION:
URL:https://skhc.ca/event/creative-hearts-and-hands-art-drop-in/2024-05-10/
LOCATION:Community Centre\, 105 Elm Street\, Suite E4\, Sudbury\, ON\, Canada
CATEGORIES:Community Programs
ATTACH;FMTTYPE=image/jpeg:https://skhc.ca/wp-content/uploads/2024/04/CuttingLeather.jpg
ORGANIZER;CN="Angela Nahwegahbow":MAILTO:anahwegahbow@skhc.ca
GEO:46.4929321;-80.9986778
X-APPLE-STRUCTURED-LOCATION;VALUE=URI;X-ADDRESS=Community Centre 105 Elm Street Suite E4 Sudbury ON Canada;X-APPLE-RADIUS=500;X-TITLE=105 Elm Street\, Suite E4:geo:-80.9986778,46.4929321
END:VEVENT
BEGIN:VEVENT
DTSTART;TZID=America/Toronto:20240503T130000
DTEND;TZID=America/Toronto:20240503T153000
DTSTAMP:20260424T210307
CREATED:20240430T211442Z
LAST-MODIFIED:20240430T211629Z
UID:10001126-1714741200-1714750200@skhc.ca
SUMMARY:Creative Hearts and Hands Art Drop-In
DESCRIPTION:
URL:https://skhc.ca/event/creative-hearts-and-hands-art-drop-in/2024-05-03/
LOCATION:Community Centre\, 105 Elm Street\, Suite E4\, Sudbury\, ON\, Canada
CATEGORIES:Community Programs
ATTACH;FMTTYPE=image/jpeg:https://skhc.ca/wp-content/uploads/2024/04/CuttingLeather.jpg
ORGANIZER;CN="Angela Nahwegahbow":MAILTO:anahwegahbow@skhc.ca
GEO:46.4929321;-80.9986778
X-APPLE-STRUCTURED-LOCATION;VALUE=URI;X-ADDRESS=Community Centre 105 Elm Street Suite E4 Sudbury ON Canada;X-APPLE-RADIUS=500;X-TITLE=105 Elm Street\, Suite E4:geo:-80.9986778,46.4929321
END:VEVENT
BEGIN:VEVENT
DTSTART;TZID=America/Toronto:20240426T130000
DTEND;TZID=America/Toronto:20240426T153000
DTSTAMP:20260424T210307
CREATED:20240430T211442Z
LAST-MODIFIED:20240430T211629Z
UID:10001125-1714136400-1714145400@skhc.ca
SUMMARY:Creative Hearts and Hands Art Drop-In
DESCRIPTION:
URL:https://skhc.ca/event/creative-hearts-and-hands-art-drop-in/2024-04-26/
LOCATION:Community Centre\, 105 Elm Street\, Suite E4\, Sudbury\, ON\, Canada
CATEGORIES:Community Programs
ATTACH;FMTTYPE=image/jpeg:https://skhc.ca/wp-content/uploads/2024/04/CuttingLeather.jpg
ORGANIZER;CN="Angela Nahwegahbow":MAILTO:anahwegahbow@skhc.ca
GEO:46.4929321;-80.9986778
X-APPLE-STRUCTURED-LOCATION;VALUE=URI;X-ADDRESS=Community Centre 105 Elm Street Suite E4 Sudbury ON Canada;X-APPLE-RADIUS=500;X-TITLE=105 Elm Street\, Suite E4:geo:-80.9986778,46.4929321
END:VEVENT
BEGIN:VEVENT
DTSTART;TZID=America/Toronto:20240419T130000
DTEND;TZID=America/Toronto:20240419T153000
DTSTAMP:20260424T210307
CREATED:20240430T211442Z
LAST-MODIFIED:20240430T211629Z
UID:10001124-1713531600-1713540600@skhc.ca
SUMMARY:Creative Hearts and Hands Art Drop-In
DESCRIPTION:
URL:https://skhc.ca/event/creative-hearts-and-hands-art-drop-in/2024-04-19/
LOCATION:Community Centre\, 105 Elm Street\, Suite E4\, Sudbury\, ON\, Canada
CATEGORIES:Community Programs
ATTACH;FMTTYPE=image/jpeg:https://skhc.ca/wp-content/uploads/2024/04/CuttingLeather.jpg
ORGANIZER;CN="Angela Nahwegahbow":MAILTO:anahwegahbow@skhc.ca
GEO:46.4929321;-80.9986778
X-APPLE-STRUCTURED-LOCATION;VALUE=URI;X-ADDRESS=Community Centre 105 Elm Street Suite E4 Sudbury ON Canada;X-APPLE-RADIUS=500;X-TITLE=105 Elm Street\, Suite E4:geo:-80.9986778,46.4929321
END:VEVENT
BEGIN:VEVENT
DTSTART;TZID=America/Toronto:20240412T130000
DTEND;TZID=America/Toronto:20240412T153000
DTSTAMP:20260424T210307
CREATED:20240430T211442Z
LAST-MODIFIED:20240430T211629Z
UID:10001123-1712926800-1712935800@skhc.ca
SUMMARY:Creative Hearts and Hands Art Drop-In
DESCRIPTION:
URL:https://skhc.ca/event/creative-hearts-and-hands-art-drop-in/2024-04-12/
LOCATION:Community Centre\, 105 Elm Street\, Suite E4\, Sudbury\, ON\, Canada
CATEGORIES:Community Programs
ATTACH;FMTTYPE=image/jpeg:https://skhc.ca/wp-content/uploads/2024/04/CuttingLeather.jpg
ORGANIZER;CN="Angela Nahwegahbow":MAILTO:anahwegahbow@skhc.ca
GEO:46.4929321;-80.9986778
X-APPLE-STRUCTURED-LOCATION;VALUE=URI;X-ADDRESS=Community Centre 105 Elm Street Suite E4 Sudbury ON Canada;X-APPLE-RADIUS=500;X-TITLE=105 Elm Street\, Suite E4:geo:-80.9986778,46.4929321
END:VEVENT
BEGIN:VEVENT
DTSTART;TZID=America/Toronto:20240405T130000
DTEND;TZID=America/Toronto:20240405T153000
DTSTAMP:20260424T210307
CREATED:20240430T211442Z
LAST-MODIFIED:20240430T211629Z
UID:10001122-1712322000-1712331000@skhc.ca
SUMMARY:Creative Hearts and Hands Art Drop-In
DESCRIPTION:
URL:https://skhc.ca/event/creative-hearts-and-hands-art-drop-in/2024-04-05/
LOCATION:Community Centre\, 105 Elm Street\, Suite E4\, Sudbury\, ON\, Canada
CATEGORIES:Community Programs
ATTACH;FMTTYPE=image/jpeg:https://skhc.ca/wp-content/uploads/2024/04/CuttingLeather.jpg
ORGANIZER;CN="Angela Nahwegahbow":MAILTO:anahwegahbow@skhc.ca
GEO:46.4929321;-80.9986778
X-APPLE-STRUCTURED-LOCATION;VALUE=URI;X-ADDRESS=Community Centre 105 Elm Street Suite E4 Sudbury ON Canada;X-APPLE-RADIUS=500;X-TITLE=105 Elm Street\, Suite E4:geo:-80.9986778,46.4929321
END:VEVENT
END:VCALENDAR