BEGIN:VCALENDAR
VERSION:2.0
PRODID:-//SKHC - ECPv6.15.18//NONSGML v1.0//EN
CALSCALE:GREGORIAN
METHOD:PUBLISH
X-WR-CALNAME:SKHC
X-ORIGINAL-URL:https://skhc.ca
X-WR-CALDESC:Events for SKHC
REFRESH-INTERVAL;VALUE=DURATION:PT1H
X-Robots-Tag:noindex
X-PUBLISHED-TTL:PT1H
BEGIN:VTIMEZONE
TZID:America/Toronto
BEGIN:DAYLIGHT
TZOFFSETFROM:-0500
TZOFFSETTO:-0400
TZNAME:EDT
DTSTART:20240310T070000
END:DAYLIGHT
BEGIN:STANDARD
TZOFFSETFROM:-0400
TZOFFSETTO:-0500
TZNAME:EST
DTSTART:20241103T060000
END:STANDARD
BEGIN:DAYLIGHT
TZOFFSETFROM:-0500
TZOFFSETTO:-0400
TZNAME:EDT
DTSTART:20250309T070000
END:DAYLIGHT
BEGIN:STANDARD
TZOFFSETFROM:-0400
TZOFFSETTO:-0500
TZNAME:EST
DTSTART:20251102T060000
END:STANDARD
BEGIN:DAYLIGHT
TZOFFSETFROM:-0500
TZOFFSETTO:-0400
TZNAME:EDT
DTSTART:20260308T070000
END:DAYLIGHT
BEGIN:STANDARD
TZOFFSETFROM:-0400
TZOFFSETTO:-0500
TZNAME:EST
DTSTART:20261101T060000
END:STANDARD
END:VTIMEZONE
BEGIN:VEVENT
DTSTART;TZID=America/Toronto:20251210T163000
DTEND;TZID=America/Toronto:20251210T183000
DTSTAMP:20260423T195043
CREATED:20250130T160248Z
LAST-MODIFIED:20250130T183316Z
UID:10002209-1765384200-1765391400@skhc.ca
SUMMARY:Young Thunderbirds Drum Group
DESCRIPTION:
URL:https://skhc.ca/event/young-thunderbirds-drum-group/2025-12-10/
LOCATION:Community Centre\, 105 Elm Street\, Suite E4\, Sudbury\, ON\, Canada
CATEGORIES:Traditional Program
ATTACH;FMTTYPE=image/jpeg:https://skhc.ca/wp-content/uploads/2025/01/IMG_1050_Edited_WEB.jpg
ORGANIZER;CN="Debbie Plain-McGregor":MAILTO:dplain-mcgregor@skhc.ca
GEO:46.4929321;-80.9986778
X-APPLE-STRUCTURED-LOCATION;VALUE=URI;X-ADDRESS=Community Centre 105 Elm Street Suite E4 Sudbury ON Canada;X-APPLE-RADIUS=500;X-TITLE=105 Elm Street\, Suite E4:geo:-80.9986778,46.4929321
END:VEVENT
BEGIN:VEVENT
DTSTART;TZID=America/Toronto:20251203T163000
DTEND;TZID=America/Toronto:20251203T183000
DTSTAMP:20260423T195043
CREATED:20250130T160248Z
LAST-MODIFIED:20250130T183316Z
UID:10002208-1764779400-1764786600@skhc.ca
SUMMARY:Young Thunderbirds Drum Group
DESCRIPTION:
URL:https://skhc.ca/event/young-thunderbirds-drum-group/2025-12-03/
LOCATION:Community Centre\, 105 Elm Street\, Suite E4\, Sudbury\, ON\, Canada
CATEGORIES:Traditional Program
ATTACH;FMTTYPE=image/jpeg:https://skhc.ca/wp-content/uploads/2025/01/IMG_1050_Edited_WEB.jpg
ORGANIZER;CN="Debbie Plain-McGregor":MAILTO:dplain-mcgregor@skhc.ca
GEO:46.4929321;-80.9986778
X-APPLE-STRUCTURED-LOCATION;VALUE=URI;X-ADDRESS=Community Centre 105 Elm Street Suite E4 Sudbury ON Canada;X-APPLE-RADIUS=500;X-TITLE=105 Elm Street\, Suite E4:geo:-80.9986778,46.4929321
END:VEVENT
BEGIN:VEVENT
DTSTART;TZID=America/Toronto:20251126T163000
DTEND;TZID=America/Toronto:20251126T183000
DTSTAMP:20260423T195043
CREATED:20250130T160248Z
LAST-MODIFIED:20250130T183316Z
UID:10002207-1764174600-1764181800@skhc.ca
SUMMARY:Young Thunderbirds Drum Group
DESCRIPTION:
URL:https://skhc.ca/event/young-thunderbirds-drum-group/2025-11-26/
LOCATION:Community Centre\, 105 Elm Street\, Suite E4\, Sudbury\, ON\, Canada
CATEGORIES:Traditional Program
ATTACH;FMTTYPE=image/jpeg:https://skhc.ca/wp-content/uploads/2025/01/IMG_1050_Edited_WEB.jpg
ORGANIZER;CN="Debbie Plain-McGregor":MAILTO:dplain-mcgregor@skhc.ca
GEO:46.4929321;-80.9986778
X-APPLE-STRUCTURED-LOCATION;VALUE=URI;X-ADDRESS=Community Centre 105 Elm Street Suite E4 Sudbury ON Canada;X-APPLE-RADIUS=500;X-TITLE=105 Elm Street\, Suite E4:geo:-80.9986778,46.4929321
END:VEVENT
BEGIN:VEVENT
DTSTART;TZID=America/Toronto:20251119T163000
DTEND;TZID=America/Toronto:20251119T183000
DTSTAMP:20260423T195043
CREATED:20250130T160248Z
LAST-MODIFIED:20250130T183316Z
UID:10002206-1763569800-1763577000@skhc.ca
SUMMARY:Young Thunderbirds Drum Group
DESCRIPTION:
URL:https://skhc.ca/event/young-thunderbirds-drum-group/2025-11-19/
LOCATION:Community Centre\, 105 Elm Street\, Suite E4\, Sudbury\, ON\, Canada
CATEGORIES:Traditional Program
ATTACH;FMTTYPE=image/jpeg:https://skhc.ca/wp-content/uploads/2025/01/IMG_1050_Edited_WEB.jpg
ORGANIZER;CN="Debbie Plain-McGregor":MAILTO:dplain-mcgregor@skhc.ca
GEO:46.4929321;-80.9986778
X-APPLE-STRUCTURED-LOCATION;VALUE=URI;X-ADDRESS=Community Centre 105 Elm Street Suite E4 Sudbury ON Canada;X-APPLE-RADIUS=500;X-TITLE=105 Elm Street\, Suite E4:geo:-80.9986778,46.4929321
END:VEVENT
BEGIN:VEVENT
DTSTART;TZID=America/Toronto:20251112T163000
DTEND;TZID=America/Toronto:20251112T183000
DTSTAMP:20260423T195043
CREATED:20250130T160248Z
LAST-MODIFIED:20250130T183316Z
UID:10002205-1762965000-1762972200@skhc.ca
SUMMARY:Young Thunderbirds Drum Group
DESCRIPTION:
URL:https://skhc.ca/event/young-thunderbirds-drum-group/2025-11-12/
LOCATION:Community Centre\, 105 Elm Street\, Suite E4\, Sudbury\, ON\, Canada
CATEGORIES:Traditional Program
ATTACH;FMTTYPE=image/jpeg:https://skhc.ca/wp-content/uploads/2025/01/IMG_1050_Edited_WEB.jpg
ORGANIZER;CN="Debbie Plain-McGregor":MAILTO:dplain-mcgregor@skhc.ca
GEO:46.4929321;-80.9986778
X-APPLE-STRUCTURED-LOCATION;VALUE=URI;X-ADDRESS=Community Centre 105 Elm Street Suite E4 Sudbury ON Canada;X-APPLE-RADIUS=500;X-TITLE=105 Elm Street\, Suite E4:geo:-80.9986778,46.4929321
END:VEVENT
BEGIN:VEVENT
DTSTART;TZID=America/Toronto:20251105T163000
DTEND;TZID=America/Toronto:20251105T183000
DTSTAMP:20260423T195043
CREATED:20250130T160248Z
LAST-MODIFIED:20250130T183316Z
UID:10002204-1762360200-1762367400@skhc.ca
SUMMARY:Young Thunderbirds Drum Group
DESCRIPTION:
URL:https://skhc.ca/event/young-thunderbirds-drum-group/2025-11-05/
LOCATION:Community Centre\, 105 Elm Street\, Suite E4\, Sudbury\, ON\, Canada
CATEGORIES:Traditional Program
ATTACH;FMTTYPE=image/jpeg:https://skhc.ca/wp-content/uploads/2025/01/IMG_1050_Edited_WEB.jpg
ORGANIZER;CN="Debbie Plain-McGregor":MAILTO:dplain-mcgregor@skhc.ca
GEO:46.4929321;-80.9986778
X-APPLE-STRUCTURED-LOCATION;VALUE=URI;X-ADDRESS=Community Centre 105 Elm Street Suite E4 Sudbury ON Canada;X-APPLE-RADIUS=500;X-TITLE=105 Elm Street\, Suite E4:geo:-80.9986778,46.4929321
END:VEVENT
BEGIN:VEVENT
DTSTART;TZID=America/Toronto:20251029T163000
DTEND;TZID=America/Toronto:20251029T183000
DTSTAMP:20260423T195043
CREATED:20250130T160248Z
LAST-MODIFIED:20250130T183316Z
UID:10002203-1761755400-1761762600@skhc.ca
SUMMARY:Young Thunderbirds Drum Group
DESCRIPTION:
URL:https://skhc.ca/event/young-thunderbirds-drum-group/2025-10-29/
LOCATION:Community Centre\, 105 Elm Street\, Suite E4\, Sudbury\, ON\, Canada
CATEGORIES:Traditional Program
ATTACH;FMTTYPE=image/jpeg:https://skhc.ca/wp-content/uploads/2025/01/IMG_1050_Edited_WEB.jpg
ORGANIZER;CN="Debbie Plain-McGregor":MAILTO:dplain-mcgregor@skhc.ca
GEO:46.4929321;-80.9986778
X-APPLE-STRUCTURED-LOCATION;VALUE=URI;X-ADDRESS=Community Centre 105 Elm Street Suite E4 Sudbury ON Canada;X-APPLE-RADIUS=500;X-TITLE=105 Elm Street\, Suite E4:geo:-80.9986778,46.4929321
END:VEVENT
BEGIN:VEVENT
DTSTART;TZID=America/Toronto:20251022T163000
DTEND;TZID=America/Toronto:20251022T183000
DTSTAMP:20260423T195043
CREATED:20250130T160248Z
LAST-MODIFIED:20250130T183316Z
UID:10002202-1761150600-1761157800@skhc.ca
SUMMARY:Young Thunderbirds Drum Group
DESCRIPTION:
URL:https://skhc.ca/event/young-thunderbirds-drum-group/2025-10-22/
LOCATION:Community Centre\, 105 Elm Street\, Suite E4\, Sudbury\, ON\, Canada
CATEGORIES:Traditional Program
ATTACH;FMTTYPE=image/jpeg:https://skhc.ca/wp-content/uploads/2025/01/IMG_1050_Edited_WEB.jpg
ORGANIZER;CN="Debbie Plain-McGregor":MAILTO:dplain-mcgregor@skhc.ca
GEO:46.4929321;-80.9986778
X-APPLE-STRUCTURED-LOCATION;VALUE=URI;X-ADDRESS=Community Centre 105 Elm Street Suite E4 Sudbury ON Canada;X-APPLE-RADIUS=500;X-TITLE=105 Elm Street\, Suite E4:geo:-80.9986778,46.4929321
END:VEVENT
BEGIN:VEVENT
DTSTART;TZID=America/Toronto:20251008T163000
DTEND;TZID=America/Toronto:20251008T183000
DTSTAMP:20260423T195043
CREATED:20250130T160248Z
LAST-MODIFIED:20250130T183316Z
UID:10002201-1759941000-1759948200@skhc.ca
SUMMARY:Young Thunderbirds Drum Group
DESCRIPTION:
URL:https://skhc.ca/event/young-thunderbirds-drum-group/2025-10-08/
LOCATION:Community Centre\, 105 Elm Street\, Suite E4\, Sudbury\, ON\, Canada
CATEGORIES:Traditional Program
ATTACH;FMTTYPE=image/jpeg:https://skhc.ca/wp-content/uploads/2025/01/IMG_1050_Edited_WEB.jpg
ORGANIZER;CN="Debbie Plain-McGregor":MAILTO:dplain-mcgregor@skhc.ca
GEO:46.4929321;-80.9986778
X-APPLE-STRUCTURED-LOCATION;VALUE=URI;X-ADDRESS=Community Centre 105 Elm Street Suite E4 Sudbury ON Canada;X-APPLE-RADIUS=500;X-TITLE=105 Elm Street\, Suite E4:geo:-80.9986778,46.4929321
END:VEVENT
BEGIN:VEVENT
DTSTART;TZID=America/Toronto:20251001T163000
DTEND;TZID=America/Toronto:20251001T183000
DTSTAMP:20260423T195043
CREATED:20250130T160248Z
LAST-MODIFIED:20250130T183316Z
UID:10002200-1759336200-1759343400@skhc.ca
SUMMARY:Young Thunderbirds Drum Group
DESCRIPTION:
URL:https://skhc.ca/event/young-thunderbirds-drum-group/2025-10-01/
LOCATION:Community Centre\, 105 Elm Street\, Suite E4\, Sudbury\, ON\, Canada
CATEGORIES:Traditional Program
ATTACH;FMTTYPE=image/jpeg:https://skhc.ca/wp-content/uploads/2025/01/IMG_1050_Edited_WEB.jpg
ORGANIZER;CN="Debbie Plain-McGregor":MAILTO:dplain-mcgregor@skhc.ca
GEO:46.4929321;-80.9986778
X-APPLE-STRUCTURED-LOCATION;VALUE=URI;X-ADDRESS=Community Centre 105 Elm Street Suite E4 Sudbury ON Canada;X-APPLE-RADIUS=500;X-TITLE=105 Elm Street\, Suite E4:geo:-80.9986778,46.4929321
END:VEVENT
BEGIN:VEVENT
DTSTART;TZID=America/Toronto:20250924T163000
DTEND;TZID=America/Toronto:20250924T183000
DTSTAMP:20260423T195043
CREATED:20250130T160248Z
LAST-MODIFIED:20250130T183316Z
UID:10002199-1758731400-1758738600@skhc.ca
SUMMARY:Young Thunderbirds Drum Group
DESCRIPTION:
URL:https://skhc.ca/event/young-thunderbirds-drum-group/2025-09-24/
LOCATION:Community Centre\, 105 Elm Street\, Suite E4\, Sudbury\, ON\, Canada
CATEGORIES:Traditional Program
ATTACH;FMTTYPE=image/jpeg:https://skhc.ca/wp-content/uploads/2025/01/IMG_1050_Edited_WEB.jpg
ORGANIZER;CN="Debbie Plain-McGregor":MAILTO:dplain-mcgregor@skhc.ca
GEO:46.4929321;-80.9986778
X-APPLE-STRUCTURED-LOCATION;VALUE=URI;X-ADDRESS=Community Centre 105 Elm Street Suite E4 Sudbury ON Canada;X-APPLE-RADIUS=500;X-TITLE=105 Elm Street\, Suite E4:geo:-80.9986778,46.4929321
END:VEVENT
BEGIN:VEVENT
DTSTART;TZID=America/Toronto:20250917T163000
DTEND;TZID=America/Toronto:20250917T183000
DTSTAMP:20260423T195043
CREATED:20250130T160248Z
LAST-MODIFIED:20250130T183316Z
UID:10002198-1758126600-1758133800@skhc.ca
SUMMARY:Young Thunderbirds Drum Group
DESCRIPTION:
URL:https://skhc.ca/event/young-thunderbirds-drum-group/2025-09-17/
LOCATION:Community Centre\, 105 Elm Street\, Suite E4\, Sudbury\, ON\, Canada
CATEGORIES:Traditional Program
ATTACH;FMTTYPE=image/jpeg:https://skhc.ca/wp-content/uploads/2025/01/IMG_1050_Edited_WEB.jpg
ORGANIZER;CN="Debbie Plain-McGregor":MAILTO:dplain-mcgregor@skhc.ca
GEO:46.4929321;-80.9986778
X-APPLE-STRUCTURED-LOCATION;VALUE=URI;X-ADDRESS=Community Centre 105 Elm Street Suite E4 Sudbury ON Canada;X-APPLE-RADIUS=500;X-TITLE=105 Elm Street\, Suite E4:geo:-80.9986778,46.4929321
END:VEVENT
BEGIN:VEVENT
DTSTART;TZID=America/Toronto:20250910T163000
DTEND;TZID=America/Toronto:20250910T183000
DTSTAMP:20260423T195043
CREATED:20250130T160248Z
LAST-MODIFIED:20250130T183316Z
UID:10002197-1757521800-1757529000@skhc.ca
SUMMARY:Young Thunderbirds Drum Group
DESCRIPTION:
URL:https://skhc.ca/event/young-thunderbirds-drum-group/2025-09-10/
LOCATION:Community Centre\, 105 Elm Street\, Suite E4\, Sudbury\, ON\, Canada
CATEGORIES:Traditional Program
ATTACH;FMTTYPE=image/jpeg:https://skhc.ca/wp-content/uploads/2025/01/IMG_1050_Edited_WEB.jpg
ORGANIZER;CN="Debbie Plain-McGregor":MAILTO:dplain-mcgregor@skhc.ca
GEO:46.4929321;-80.9986778
X-APPLE-STRUCTURED-LOCATION;VALUE=URI;X-ADDRESS=Community Centre 105 Elm Street Suite E4 Sudbury ON Canada;X-APPLE-RADIUS=500;X-TITLE=105 Elm Street\, Suite E4:geo:-80.9986778,46.4929321
END:VEVENT
BEGIN:VEVENT
DTSTART;TZID=America/Toronto:20250903T163000
DTEND;TZID=America/Toronto:20250903T183000
DTSTAMP:20260423T195043
CREATED:20250130T160248Z
LAST-MODIFIED:20250130T183316Z
UID:10002196-1756917000-1756924200@skhc.ca
SUMMARY:Young Thunderbirds Drum Group
DESCRIPTION:
URL:https://skhc.ca/event/young-thunderbirds-drum-group/2025-09-03/
LOCATION:Community Centre\, 105 Elm Street\, Suite E4\, Sudbury\, ON\, Canada
CATEGORIES:Traditional Program
ATTACH;FMTTYPE=image/jpeg:https://skhc.ca/wp-content/uploads/2025/01/IMG_1050_Edited_WEB.jpg
ORGANIZER;CN="Debbie Plain-McGregor":MAILTO:dplain-mcgregor@skhc.ca
GEO:46.4929321;-80.9986778
X-APPLE-STRUCTURED-LOCATION;VALUE=URI;X-ADDRESS=Community Centre 105 Elm Street Suite E4 Sudbury ON Canada;X-APPLE-RADIUS=500;X-TITLE=105 Elm Street\, Suite E4:geo:-80.9986778,46.4929321
END:VEVENT
BEGIN:VEVENT
DTSTART;TZID=America/Toronto:20250625T163000
DTEND;TZID=America/Toronto:20250625T183000
DTSTAMP:20260423T195043
CREATED:20250130T160248Z
LAST-MODIFIED:20250130T183316Z
UID:10002195-1750869000-1750876200@skhc.ca
SUMMARY:Young Thunderbirds Drum Group
DESCRIPTION:
URL:https://skhc.ca/event/young-thunderbirds-drum-group/2025-06-25/
LOCATION:Community Centre\, 105 Elm Street\, Suite E4\, Sudbury\, ON\, Canada
CATEGORIES:Traditional Program
ATTACH;FMTTYPE=image/jpeg:https://skhc.ca/wp-content/uploads/2025/01/IMG_1050_Edited_WEB.jpg
ORGANIZER;CN="Debbie Plain-McGregor":MAILTO:dplain-mcgregor@skhc.ca
GEO:46.4929321;-80.9986778
X-APPLE-STRUCTURED-LOCATION;VALUE=URI;X-ADDRESS=Community Centre 105 Elm Street Suite E4 Sudbury ON Canada;X-APPLE-RADIUS=500;X-TITLE=105 Elm Street\, Suite E4:geo:-80.9986778,46.4929321
END:VEVENT
BEGIN:VEVENT
DTSTART;TZID=America/Toronto:20250618T163000
DTEND;TZID=America/Toronto:20250618T183000
DTSTAMP:20260423T195043
CREATED:20250130T160248Z
LAST-MODIFIED:20250130T183316Z
UID:10002194-1750264200-1750271400@skhc.ca
SUMMARY:Young Thunderbirds Drum Group
DESCRIPTION:
URL:https://skhc.ca/event/young-thunderbirds-drum-group/2025-06-18/
LOCATION:Community Centre\, 105 Elm Street\, Suite E4\, Sudbury\, ON\, Canada
CATEGORIES:Traditional Program
ATTACH;FMTTYPE=image/jpeg:https://skhc.ca/wp-content/uploads/2025/01/IMG_1050_Edited_WEB.jpg
ORGANIZER;CN="Debbie Plain-McGregor":MAILTO:dplain-mcgregor@skhc.ca
GEO:46.4929321;-80.9986778
X-APPLE-STRUCTURED-LOCATION;VALUE=URI;X-ADDRESS=Community Centre 105 Elm Street Suite E4 Sudbury ON Canada;X-APPLE-RADIUS=500;X-TITLE=105 Elm Street\, Suite E4:geo:-80.9986778,46.4929321
END:VEVENT
BEGIN:VEVENT
DTSTART;TZID=America/Toronto:20250611T163000
DTEND;TZID=America/Toronto:20250611T183000
DTSTAMP:20260423T195043
CREATED:20250130T160248Z
LAST-MODIFIED:20250130T183316Z
UID:10002193-1749659400-1749666600@skhc.ca
SUMMARY:Young Thunderbirds Drum Group
DESCRIPTION:
URL:https://skhc.ca/event/young-thunderbirds-drum-group/2025-06-11/
LOCATION:Community Centre\, 105 Elm Street\, Suite E4\, Sudbury\, ON\, Canada
CATEGORIES:Traditional Program
ATTACH;FMTTYPE=image/jpeg:https://skhc.ca/wp-content/uploads/2025/01/IMG_1050_Edited_WEB.jpg
ORGANIZER;CN="Debbie Plain-McGregor":MAILTO:dplain-mcgregor@skhc.ca
GEO:46.4929321;-80.9986778
X-APPLE-STRUCTURED-LOCATION;VALUE=URI;X-ADDRESS=Community Centre 105 Elm Street Suite E4 Sudbury ON Canada;X-APPLE-RADIUS=500;X-TITLE=105 Elm Street\, Suite E4:geo:-80.9986778,46.4929321
END:VEVENT
BEGIN:VEVENT
DTSTART;TZID=America/Toronto:20250604T163000
DTEND;TZID=America/Toronto:20250604T183000
DTSTAMP:20260423T195043
CREATED:20250130T160248Z
LAST-MODIFIED:20250130T183316Z
UID:10002192-1749054600-1749061800@skhc.ca
SUMMARY:Young Thunderbirds Drum Group
DESCRIPTION:
URL:https://skhc.ca/event/young-thunderbirds-drum-group/2025-06-04/
LOCATION:Community Centre\, 105 Elm Street\, Suite E4\, Sudbury\, ON\, Canada
CATEGORIES:Traditional Program
ATTACH;FMTTYPE=image/jpeg:https://skhc.ca/wp-content/uploads/2025/01/IMG_1050_Edited_WEB.jpg
ORGANIZER;CN="Debbie Plain-McGregor":MAILTO:dplain-mcgregor@skhc.ca
GEO:46.4929321;-80.9986778
X-APPLE-STRUCTURED-LOCATION;VALUE=URI;X-ADDRESS=Community Centre 105 Elm Street Suite E4 Sudbury ON Canada;X-APPLE-RADIUS=500;X-TITLE=105 Elm Street\, Suite E4:geo:-80.9986778,46.4929321
END:VEVENT
BEGIN:VEVENT
DTSTART;TZID=America/Toronto:20250528T163000
DTEND;TZID=America/Toronto:20250528T183000
DTSTAMP:20260423T195043
CREATED:20250130T160248Z
LAST-MODIFIED:20250130T183316Z
UID:10002191-1748449800-1748457000@skhc.ca
SUMMARY:Young Thunderbirds Drum Group
DESCRIPTION:
URL:https://skhc.ca/event/young-thunderbirds-drum-group/2025-05-28/
LOCATION:Community Centre\, 105 Elm Street\, Suite E4\, Sudbury\, ON\, Canada
CATEGORIES:Traditional Program
ATTACH;FMTTYPE=image/jpeg:https://skhc.ca/wp-content/uploads/2025/01/IMG_1050_Edited_WEB.jpg
ORGANIZER;CN="Debbie Plain-McGregor":MAILTO:dplain-mcgregor@skhc.ca
GEO:46.4929321;-80.9986778
X-APPLE-STRUCTURED-LOCATION;VALUE=URI;X-ADDRESS=Community Centre 105 Elm Street Suite E4 Sudbury ON Canada;X-APPLE-RADIUS=500;X-TITLE=105 Elm Street\, Suite E4:geo:-80.9986778,46.4929321
END:VEVENT
BEGIN:VEVENT
DTSTART;TZID=America/Toronto:20250521T163000
DTEND;TZID=America/Toronto:20250521T183000
DTSTAMP:20260423T195043
CREATED:20250130T160248Z
LAST-MODIFIED:20250130T183316Z
UID:10002190-1747845000-1747852200@skhc.ca
SUMMARY:Young Thunderbirds Drum Group
DESCRIPTION:
URL:https://skhc.ca/event/young-thunderbirds-drum-group/2025-05-21/
LOCATION:Community Centre\, 105 Elm Street\, Suite E4\, Sudbury\, ON\, Canada
CATEGORIES:Traditional Program
ATTACH;FMTTYPE=image/jpeg:https://skhc.ca/wp-content/uploads/2025/01/IMG_1050_Edited_WEB.jpg
ORGANIZER;CN="Debbie Plain-McGregor":MAILTO:dplain-mcgregor@skhc.ca
GEO:46.4929321;-80.9986778
X-APPLE-STRUCTURED-LOCATION;VALUE=URI;X-ADDRESS=Community Centre 105 Elm Street Suite E4 Sudbury ON Canada;X-APPLE-RADIUS=500;X-TITLE=105 Elm Street\, Suite E4:geo:-80.9986778,46.4929321
END:VEVENT
BEGIN:VEVENT
DTSTART;TZID=America/Toronto:20250514T163000
DTEND;TZID=America/Toronto:20250514T183000
DTSTAMP:20260423T195043
CREATED:20250130T160248Z
LAST-MODIFIED:20250130T183316Z
UID:10002189-1747240200-1747247400@skhc.ca
SUMMARY:Young Thunderbirds Drum Group
DESCRIPTION:
URL:https://skhc.ca/event/young-thunderbirds-drum-group/2025-05-14/
LOCATION:Community Centre\, 105 Elm Street\, Suite E4\, Sudbury\, ON\, Canada
CATEGORIES:Traditional Program
ATTACH;FMTTYPE=image/jpeg:https://skhc.ca/wp-content/uploads/2025/01/IMG_1050_Edited_WEB.jpg
ORGANIZER;CN="Debbie Plain-McGregor":MAILTO:dplain-mcgregor@skhc.ca
GEO:46.4929321;-80.9986778
X-APPLE-STRUCTURED-LOCATION;VALUE=URI;X-ADDRESS=Community Centre 105 Elm Street Suite E4 Sudbury ON Canada;X-APPLE-RADIUS=500;X-TITLE=105 Elm Street\, Suite E4:geo:-80.9986778,46.4929321
END:VEVENT
BEGIN:VEVENT
DTSTART;TZID=America/Toronto:20250507T163000
DTEND;TZID=America/Toronto:20250507T183000
DTSTAMP:20260423T195043
CREATED:20250130T160248Z
LAST-MODIFIED:20250130T183316Z
UID:10002188-1746635400-1746642600@skhc.ca
SUMMARY:Young Thunderbirds Drum Group
DESCRIPTION:
URL:https://skhc.ca/event/young-thunderbirds-drum-group/2025-05-07/
LOCATION:Community Centre\, 105 Elm Street\, Suite E4\, Sudbury\, ON\, Canada
CATEGORIES:Traditional Program
ATTACH;FMTTYPE=image/jpeg:https://skhc.ca/wp-content/uploads/2025/01/IMG_1050_Edited_WEB.jpg
ORGANIZER;CN="Debbie Plain-McGregor":MAILTO:dplain-mcgregor@skhc.ca
GEO:46.4929321;-80.9986778
X-APPLE-STRUCTURED-LOCATION;VALUE=URI;X-ADDRESS=Community Centre 105 Elm Street Suite E4 Sudbury ON Canada;X-APPLE-RADIUS=500;X-TITLE=105 Elm Street\, Suite E4:geo:-80.9986778,46.4929321
END:VEVENT
BEGIN:VEVENT
DTSTART;TZID=America/Toronto:20250430T163000
DTEND;TZID=America/Toronto:20250430T183000
DTSTAMP:20260423T195043
CREATED:20250130T160248Z
LAST-MODIFIED:20250130T183316Z
UID:10002187-1746030600-1746037800@skhc.ca
SUMMARY:Young Thunderbirds Drum Group
DESCRIPTION:
URL:https://skhc.ca/event/young-thunderbirds-drum-group/2025-04-30/
LOCATION:Community Centre\, 105 Elm Street\, Suite E4\, Sudbury\, ON\, Canada
CATEGORIES:Traditional Program
ATTACH;FMTTYPE=image/jpeg:https://skhc.ca/wp-content/uploads/2025/01/IMG_1050_Edited_WEB.jpg
ORGANIZER;CN="Debbie Plain-McGregor":MAILTO:dplain-mcgregor@skhc.ca
GEO:46.4929321;-80.9986778
X-APPLE-STRUCTURED-LOCATION;VALUE=URI;X-ADDRESS=Community Centre 105 Elm Street Suite E4 Sudbury ON Canada;X-APPLE-RADIUS=500;X-TITLE=105 Elm Street\, Suite E4:geo:-80.9986778,46.4929321
END:VEVENT
BEGIN:VEVENT
DTSTART;TZID=America/Toronto:20250423T163000
DTEND;TZID=America/Toronto:20250423T183000
DTSTAMP:20260423T195043
CREATED:20250130T160248Z
LAST-MODIFIED:20250130T183316Z
UID:10002186-1745425800-1745433000@skhc.ca
SUMMARY:Young Thunderbirds Drum Group
DESCRIPTION:
URL:https://skhc.ca/event/young-thunderbirds-drum-group/2025-04-23/
LOCATION:Community Centre\, 105 Elm Street\, Suite E4\, Sudbury\, ON\, Canada
CATEGORIES:Traditional Program
ATTACH;FMTTYPE=image/jpeg:https://skhc.ca/wp-content/uploads/2025/01/IMG_1050_Edited_WEB.jpg
ORGANIZER;CN="Debbie Plain-McGregor":MAILTO:dplain-mcgregor@skhc.ca
GEO:46.4929321;-80.9986778
X-APPLE-STRUCTURED-LOCATION;VALUE=URI;X-ADDRESS=Community Centre 105 Elm Street Suite E4 Sudbury ON Canada;X-APPLE-RADIUS=500;X-TITLE=105 Elm Street\, Suite E4:geo:-80.9986778,46.4929321
END:VEVENT
BEGIN:VEVENT
DTSTART;TZID=America/Toronto:20250416T163000
DTEND;TZID=America/Toronto:20250416T183000
DTSTAMP:20260423T195043
CREATED:20250130T160248Z
LAST-MODIFIED:20250130T183316Z
UID:10002185-1744821000-1744828200@skhc.ca
SUMMARY:Young Thunderbirds Drum Group
DESCRIPTION:
URL:https://skhc.ca/event/young-thunderbirds-drum-group/2025-04-16/
LOCATION:Community Centre\, 105 Elm Street\, Suite E4\, Sudbury\, ON\, Canada
CATEGORIES:Traditional Program
ATTACH;FMTTYPE=image/jpeg:https://skhc.ca/wp-content/uploads/2025/01/IMG_1050_Edited_WEB.jpg
ORGANIZER;CN="Debbie Plain-McGregor":MAILTO:dplain-mcgregor@skhc.ca
GEO:46.4929321;-80.9986778
X-APPLE-STRUCTURED-LOCATION;VALUE=URI;X-ADDRESS=Community Centre 105 Elm Street Suite E4 Sudbury ON Canada;X-APPLE-RADIUS=500;X-TITLE=105 Elm Street\, Suite E4:geo:-80.9986778,46.4929321
END:VEVENT
BEGIN:VEVENT
DTSTART;TZID=America/Toronto:20250409T163000
DTEND;TZID=America/Toronto:20250409T183000
DTSTAMP:20260423T195043
CREATED:20250130T160248Z
LAST-MODIFIED:20250130T183316Z
UID:10002184-1744216200-1744223400@skhc.ca
SUMMARY:Young Thunderbirds Drum Group
DESCRIPTION:
URL:https://skhc.ca/event/young-thunderbirds-drum-group/2025-04-09/
LOCATION:Community Centre\, 105 Elm Street\, Suite E4\, Sudbury\, ON\, Canada
CATEGORIES:Traditional Program
ATTACH;FMTTYPE=image/jpeg:https://skhc.ca/wp-content/uploads/2025/01/IMG_1050_Edited_WEB.jpg
ORGANIZER;CN="Debbie Plain-McGregor":MAILTO:dplain-mcgregor@skhc.ca
GEO:46.4929321;-80.9986778
X-APPLE-STRUCTURED-LOCATION;VALUE=URI;X-ADDRESS=Community Centre 105 Elm Street Suite E4 Sudbury ON Canada;X-APPLE-RADIUS=500;X-TITLE=105 Elm Street\, Suite E4:geo:-80.9986778,46.4929321
END:VEVENT
BEGIN:VEVENT
DTSTART;TZID=America/Toronto:20250402T163000
DTEND;TZID=America/Toronto:20250402T183000
DTSTAMP:20260423T195043
CREATED:20250130T160248Z
LAST-MODIFIED:20250130T183316Z
UID:10002183-1743611400-1743618600@skhc.ca
SUMMARY:Young Thunderbirds Drum Group
DESCRIPTION:
URL:https://skhc.ca/event/young-thunderbirds-drum-group/2025-04-02/
LOCATION:Community Centre\, 105 Elm Street\, Suite E4\, Sudbury\, ON\, Canada
CATEGORIES:Traditional Program
ATTACH;FMTTYPE=image/jpeg:https://skhc.ca/wp-content/uploads/2025/01/IMG_1050_Edited_WEB.jpg
ORGANIZER;CN="Debbie Plain-McGregor":MAILTO:dplain-mcgregor@skhc.ca
GEO:46.4929321;-80.9986778
X-APPLE-STRUCTURED-LOCATION;VALUE=URI;X-ADDRESS=Community Centre 105 Elm Street Suite E4 Sudbury ON Canada;X-APPLE-RADIUS=500;X-TITLE=105 Elm Street\, Suite E4:geo:-80.9986778,46.4929321
END:VEVENT
BEGIN:VEVENT
DTSTART;TZID=America/Toronto:20250326T163000
DTEND;TZID=America/Toronto:20250326T183000
DTSTAMP:20260423T195043
CREATED:20250130T160248Z
LAST-MODIFIED:20250130T183316Z
UID:10002182-1743006600-1743013800@skhc.ca
SUMMARY:Young Thunderbirds Drum Group
DESCRIPTION:
URL:https://skhc.ca/event/young-thunderbirds-drum-group/2025-03-26/
LOCATION:Community Centre\, 105 Elm Street\, Suite E4\, Sudbury\, ON\, Canada
CATEGORIES:Traditional Program
ATTACH;FMTTYPE=image/jpeg:https://skhc.ca/wp-content/uploads/2025/01/IMG_1050_Edited_WEB.jpg
ORGANIZER;CN="Debbie Plain-McGregor":MAILTO:dplain-mcgregor@skhc.ca
GEO:46.4929321;-80.9986778
X-APPLE-STRUCTURED-LOCATION;VALUE=URI;X-ADDRESS=Community Centre 105 Elm Street Suite E4 Sudbury ON Canada;X-APPLE-RADIUS=500;X-TITLE=105 Elm Street\, Suite E4:geo:-80.9986778,46.4929321
END:VEVENT
BEGIN:VEVENT
DTSTART;TZID=America/Toronto:20250319T163000
DTEND;TZID=America/Toronto:20250319T183000
DTSTAMP:20260423T195043
CREATED:20250130T160248Z
LAST-MODIFIED:20250130T183316Z
UID:10002181-1742401800-1742409000@skhc.ca
SUMMARY:Young Thunderbirds Drum Group
DESCRIPTION:
URL:https://skhc.ca/event/young-thunderbirds-drum-group/2025-03-19/
LOCATION:Community Centre\, 105 Elm Street\, Suite E4\, Sudbury\, ON\, Canada
CATEGORIES:Traditional Program
ATTACH;FMTTYPE=image/jpeg:https://skhc.ca/wp-content/uploads/2025/01/IMG_1050_Edited_WEB.jpg
ORGANIZER;CN="Debbie Plain-McGregor":MAILTO:dplain-mcgregor@skhc.ca
GEO:46.4929321;-80.9986778
X-APPLE-STRUCTURED-LOCATION;VALUE=URI;X-ADDRESS=Community Centre 105 Elm Street Suite E4 Sudbury ON Canada;X-APPLE-RADIUS=500;X-TITLE=105 Elm Street\, Suite E4:geo:-80.9986778,46.4929321
END:VEVENT
BEGIN:VEVENT
DTSTART;TZID=America/Toronto:20250312T163000
DTEND;TZID=America/Toronto:20250312T183000
DTSTAMP:20260423T195043
CREATED:20250130T160248Z
LAST-MODIFIED:20250130T183316Z
UID:10002180-1741797000-1741804200@skhc.ca
SUMMARY:Young Thunderbirds Drum Group
DESCRIPTION:
URL:https://skhc.ca/event/young-thunderbirds-drum-group/2025-03-12/
LOCATION:Community Centre\, 105 Elm Street\, Suite E4\, Sudbury\, ON\, Canada
CATEGORIES:Traditional Program
ATTACH;FMTTYPE=image/jpeg:https://skhc.ca/wp-content/uploads/2025/01/IMG_1050_Edited_WEB.jpg
ORGANIZER;CN="Debbie Plain-McGregor":MAILTO:dplain-mcgregor@skhc.ca
GEO:46.4929321;-80.9986778
X-APPLE-STRUCTURED-LOCATION;VALUE=URI;X-ADDRESS=Community Centre 105 Elm Street Suite E4 Sudbury ON Canada;X-APPLE-RADIUS=500;X-TITLE=105 Elm Street\, Suite E4:geo:-80.9986778,46.4929321
END:VEVENT
END:VCALENDAR