BEGIN:VCALENDAR
VERSION:2.0
PRODID:-//SKHC - ECPv6.15.18//NONSGML v1.0//EN
CALSCALE:GREGORIAN
METHOD:PUBLISH
X-WR-CALNAME:SKHC
X-ORIGINAL-URL:https://skhc.ca
X-WR-CALDESC:Events for SKHC
REFRESH-INTERVAL;VALUE=DURATION:PT1H
X-Robots-Tag:noindex
X-PUBLISHED-TTL:PT1H
BEGIN:VTIMEZONE
TZID:America/Toronto
BEGIN:DAYLIGHT
TZOFFSETFROM:-0500
TZOFFSETTO:-0400
TZNAME:EDT
DTSTART:20230312T070000
END:DAYLIGHT
BEGIN:STANDARD
TZOFFSETFROM:-0400
TZOFFSETTO:-0500
TZNAME:EST
DTSTART:20231105T060000
END:STANDARD
BEGIN:DAYLIGHT
TZOFFSETFROM:-0500
TZOFFSETTO:-0400
TZNAME:EDT
DTSTART:20240310T070000
END:DAYLIGHT
BEGIN:STANDARD
TZOFFSETFROM:-0400
TZOFFSETTO:-0500
TZNAME:EST
DTSTART:20241103T060000
END:STANDARD
BEGIN:DAYLIGHT
TZOFFSETFROM:-0500
TZOFFSETTO:-0400
TZNAME:EDT
DTSTART:20250309T070000
END:DAYLIGHT
BEGIN:STANDARD
TZOFFSETFROM:-0400
TZOFFSETTO:-0500
TZNAME:EST
DTSTART:20251102T060000
END:STANDARD
BEGIN:DAYLIGHT
TZOFFSETFROM:-0500
TZOFFSETTO:-0400
TZNAME:EDT
DTSTART:20260308T070000
END:DAYLIGHT
BEGIN:STANDARD
TZOFFSETFROM:-0400
TZOFFSETTO:-0500
TZNAME:EST
DTSTART:20261101T060000
END:STANDARD
END:VTIMEZONE
BEGIN:VEVENT
DTSTART;TZID=America/Toronto:20250122T163000
DTEND;TZID=America/Toronto:20250122T183000
DTSTAMP:20260424T005004
CREATED:20250130T160248Z
LAST-MODIFIED:20250130T183316Z
UID:10002173-1737563400-1737570600@skhc.ca
SUMMARY:Young Thunderbirds Drum Group
DESCRIPTION:
URL:https://skhc.ca/event/young-thunderbirds-drum-group/2025-01-22/
LOCATION:Community Centre\, 105 Elm Street\, Suite E4\, Sudbury\, ON\, Canada
CATEGORIES:Traditional Program
ATTACH;FMTTYPE=image/jpeg:https://skhc.ca/wp-content/uploads/2025/01/IMG_1050_Edited_WEB.jpg
ORGANIZER;CN="Debbie Plain-McGregor":MAILTO:dplain-mcgregor@skhc.ca
GEO:46.4929321;-80.9986778
X-APPLE-STRUCTURED-LOCATION;VALUE=URI;X-ADDRESS=Community Centre 105 Elm Street Suite E4 Sudbury ON Canada;X-APPLE-RADIUS=500;X-TITLE=105 Elm Street\, Suite E4:geo:-80.9986778,46.4929321
END:VEVENT
BEGIN:VEVENT
DTSTART;TZID=America/Toronto:20250115T163000
DTEND;TZID=America/Toronto:20250115T183000
DTSTAMP:20260424T005004
CREATED:20250130T160248Z
LAST-MODIFIED:20250130T183316Z
UID:10002172-1736958600-1736965800@skhc.ca
SUMMARY:Young Thunderbirds Drum Group
DESCRIPTION:
URL:https://skhc.ca/event/young-thunderbirds-drum-group/2025-01-15/
LOCATION:Community Centre\, 105 Elm Street\, Suite E4\, Sudbury\, ON\, Canada
CATEGORIES:Traditional Program
ATTACH;FMTTYPE=image/jpeg:https://skhc.ca/wp-content/uploads/2025/01/IMG_1050_Edited_WEB.jpg
ORGANIZER;CN="Debbie Plain-McGregor":MAILTO:dplain-mcgregor@skhc.ca
GEO:46.4929321;-80.9986778
X-APPLE-STRUCTURED-LOCATION;VALUE=URI;X-ADDRESS=Community Centre 105 Elm Street Suite E4 Sudbury ON Canada;X-APPLE-RADIUS=500;X-TITLE=105 Elm Street\, Suite E4:geo:-80.9986778,46.4929321
END:VEVENT
BEGIN:VEVENT
DTSTART;TZID=America/Toronto:20250108T163000
DTEND;TZID=America/Toronto:20250108T183000
DTSTAMP:20260424T005004
CREATED:20250130T160248Z
LAST-MODIFIED:20250130T183316Z
UID:10002171-1736353800-1736361000@skhc.ca
SUMMARY:Young Thunderbirds Drum Group
DESCRIPTION:
URL:https://skhc.ca/event/young-thunderbirds-drum-group/2025-01-08/
LOCATION:Community Centre\, 105 Elm Street\, Suite E4\, Sudbury\, ON\, Canada
CATEGORIES:Traditional Program
ATTACH;FMTTYPE=image/jpeg:https://skhc.ca/wp-content/uploads/2025/01/IMG_1050_Edited_WEB.jpg
ORGANIZER;CN="Debbie Plain-McGregor":MAILTO:dplain-mcgregor@skhc.ca
GEO:46.4929321;-80.9986778
X-APPLE-STRUCTURED-LOCATION;VALUE=URI;X-ADDRESS=Community Centre 105 Elm Street Suite E4 Sudbury ON Canada;X-APPLE-RADIUS=500;X-TITLE=105 Elm Street\, Suite E4:geo:-80.9986778,46.4929321
END:VEVENT
BEGIN:VEVENT
DTSTART;TZID=America/Toronto:20241218T173000
DTEND;TZID=America/Toronto:20241218T183000
DTSTAMP:20260424T005004
CREATED:20240904T180815Z
LAST-MODIFIED:20241112T153033Z
UID:10001970-1734543000-1734546600@skhc.ca
SUMMARY:Boys Big Drum
DESCRIPTION:
URL:https://skhc.ca/event/boys-big-drum-2/2024-12-18/
LOCATION:Community Centre\, 105 Elm Street\, Suite E4\, Sudbury\, ON\, Canada
CATEGORIES:Traditional Program
ATTACH;FMTTYPE=image/jpeg:https://skhc.ca/wp-content/uploads/2024/05/drum_WEB.jpg
ORGANIZER;CN="Debbie Plain-McGregor":MAILTO:dplain-mcgregor@skhc.ca
GEO:46.4929321;-80.9986778
X-APPLE-STRUCTURED-LOCATION;VALUE=URI;X-ADDRESS=Community Centre 105 Elm Street Suite E4 Sudbury ON Canada;X-APPLE-RADIUS=500;X-TITLE=105 Elm Street\, Suite E4:geo:-80.9986778,46.4929321
END:VEVENT
BEGIN:VEVENT
DTSTART;TZID=America/Toronto:20241211T173000
DTEND;TZID=America/Toronto:20241211T183000
DTSTAMP:20260424T005004
CREATED:20240904T180815Z
LAST-MODIFIED:20241112T153033Z
UID:10001969-1733938200-1733941800@skhc.ca
SUMMARY:Boys Big Drum
DESCRIPTION:
URL:https://skhc.ca/event/boys-big-drum-2/2024-12-11/
LOCATION:Community Centre\, 105 Elm Street\, Suite E4\, Sudbury\, ON\, Canada
CATEGORIES:Traditional Program
ATTACH;FMTTYPE=image/jpeg:https://skhc.ca/wp-content/uploads/2024/05/drum_WEB.jpg
ORGANIZER;CN="Debbie Plain-McGregor":MAILTO:dplain-mcgregor@skhc.ca
GEO:46.4929321;-80.9986778
X-APPLE-STRUCTURED-LOCATION;VALUE=URI;X-ADDRESS=Community Centre 105 Elm Street Suite E4 Sudbury ON Canada;X-APPLE-RADIUS=500;X-TITLE=105 Elm Street\, Suite E4:geo:-80.9986778,46.4929321
END:VEVENT
BEGIN:VEVENT
DTSTART;TZID=America/Toronto:20241204T173000
DTEND;TZID=America/Toronto:20241204T183000
DTSTAMP:20260424T005004
CREATED:20240904T180815Z
LAST-MODIFIED:20241112T153033Z
UID:10001968-1733333400-1733337000@skhc.ca
SUMMARY:Boys Big Drum
DESCRIPTION:
URL:https://skhc.ca/event/boys-big-drum-2/2024-12-04/
LOCATION:Community Centre\, 105 Elm Street\, Suite E4\, Sudbury\, ON\, Canada
CATEGORIES:Traditional Program
ATTACH;FMTTYPE=image/jpeg:https://skhc.ca/wp-content/uploads/2024/05/drum_WEB.jpg
ORGANIZER;CN="Debbie Plain-McGregor":MAILTO:dplain-mcgregor@skhc.ca
GEO:46.4929321;-80.9986778
X-APPLE-STRUCTURED-LOCATION;VALUE=URI;X-ADDRESS=Community Centre 105 Elm Street Suite E4 Sudbury ON Canada;X-APPLE-RADIUS=500;X-TITLE=105 Elm Street\, Suite E4:geo:-80.9986778,46.4929321
END:VEVENT
BEGIN:VEVENT
DTSTART;TZID=America/Toronto:20241127T173000
DTEND;TZID=America/Toronto:20241127T183000
DTSTAMP:20260424T005004
CREATED:20240904T180815Z
LAST-MODIFIED:20241112T153033Z
UID:10001967-1732728600-1732732200@skhc.ca
SUMMARY:Boys Big Drum
DESCRIPTION:
URL:https://skhc.ca/event/boys-big-drum-2/2024-11-27/
LOCATION:Community Centre\, 105 Elm Street\, Suite E4\, Sudbury\, ON\, Canada
CATEGORIES:Traditional Program
ATTACH;FMTTYPE=image/jpeg:https://skhc.ca/wp-content/uploads/2024/05/drum_WEB.jpg
ORGANIZER;CN="Debbie Plain-McGregor":MAILTO:dplain-mcgregor@skhc.ca
GEO:46.4929321;-80.9986778
X-APPLE-STRUCTURED-LOCATION;VALUE=URI;X-ADDRESS=Community Centre 105 Elm Street Suite E4 Sudbury ON Canada;X-APPLE-RADIUS=500;X-TITLE=105 Elm Street\, Suite E4:geo:-80.9986778,46.4929321
END:VEVENT
BEGIN:VEVENT
DTSTART;TZID=America/Toronto:20241120T173000
DTEND;TZID=America/Toronto:20241120T183000
DTSTAMP:20260424T005004
CREATED:20240904T180815Z
LAST-MODIFIED:20241112T153033Z
UID:10001966-1732123800-1732127400@skhc.ca
SUMMARY:Boys Big Drum
DESCRIPTION:
URL:https://skhc.ca/event/boys-big-drum-2/2024-11-20/
LOCATION:Community Centre\, 105 Elm Street\, Suite E4\, Sudbury\, ON\, Canada
CATEGORIES:Traditional Program
ATTACH;FMTTYPE=image/jpeg:https://skhc.ca/wp-content/uploads/2024/05/drum_WEB.jpg
ORGANIZER;CN="Debbie Plain-McGregor":MAILTO:dplain-mcgregor@skhc.ca
GEO:46.4929321;-80.9986778
X-APPLE-STRUCTURED-LOCATION;VALUE=URI;X-ADDRESS=Community Centre 105 Elm Street Suite E4 Sudbury ON Canada;X-APPLE-RADIUS=500;X-TITLE=105 Elm Street\, Suite E4:geo:-80.9986778,46.4929321
END:VEVENT
BEGIN:VEVENT
DTSTART;TZID=America/Toronto:20241113T173000
DTEND;TZID=America/Toronto:20241113T183000
DTSTAMP:20260424T005004
CREATED:20240904T180815Z
LAST-MODIFIED:20241112T153033Z
UID:10001965-1731519000-1731522600@skhc.ca
SUMMARY:Boys Big Drum
DESCRIPTION:
URL:https://skhc.ca/event/boys-big-drum-2/2024-11-13/
LOCATION:Community Centre\, 105 Elm Street\, Suite E4\, Sudbury\, ON\, Canada
CATEGORIES:Traditional Program
ATTACH;FMTTYPE=image/jpeg:https://skhc.ca/wp-content/uploads/2024/05/drum_WEB.jpg
ORGANIZER;CN="Debbie Plain-McGregor":MAILTO:dplain-mcgregor@skhc.ca
GEO:46.4929321;-80.9986778
X-APPLE-STRUCTURED-LOCATION;VALUE=URI;X-ADDRESS=Community Centre 105 Elm Street Suite E4 Sudbury ON Canada;X-APPLE-RADIUS=500;X-TITLE=105 Elm Street\, Suite E4:geo:-80.9986778,46.4929321
END:VEVENT
BEGIN:VEVENT
DTSTART;TZID=America/Toronto:20241106T173000
DTEND;TZID=America/Toronto:20241106T183000
DTSTAMP:20260424T005004
CREATED:20240904T180815Z
LAST-MODIFIED:20241112T153033Z
UID:10001964-1730914200-1730917800@skhc.ca
SUMMARY:Boys Big Drum
DESCRIPTION:
URL:https://skhc.ca/event/boys-big-drum-2/2024-11-06/
LOCATION:Community Centre\, 105 Elm Street\, Suite E4\, Sudbury\, ON\, Canada
CATEGORIES:Traditional Program
ATTACH;FMTTYPE=image/jpeg:https://skhc.ca/wp-content/uploads/2024/05/drum_WEB.jpg
ORGANIZER;CN="Debbie Plain-McGregor":MAILTO:dplain-mcgregor@skhc.ca
GEO:46.4929321;-80.9986778
X-APPLE-STRUCTURED-LOCATION;VALUE=URI;X-ADDRESS=Community Centre 105 Elm Street Suite E4 Sudbury ON Canada;X-APPLE-RADIUS=500;X-TITLE=105 Elm Street\, Suite E4:geo:-80.9986778,46.4929321
END:VEVENT
BEGIN:VEVENT
DTSTART;TZID=America/Toronto:20241030T173000
DTEND;TZID=America/Toronto:20241030T183000
DTSTAMP:20260424T005004
CREATED:20240904T180815Z
LAST-MODIFIED:20241112T153033Z
UID:10001963-1730309400-1730313000@skhc.ca
SUMMARY:Boys Big Drum
DESCRIPTION:
URL:https://skhc.ca/event/boys-big-drum-2/2024-10-30/
LOCATION:Community Centre\, 105 Elm Street\, Suite E4\, Sudbury\, ON\, Canada
CATEGORIES:Traditional Program
ATTACH;FMTTYPE=image/jpeg:https://skhc.ca/wp-content/uploads/2024/05/drum_WEB.jpg
ORGANIZER;CN="Debbie Plain-McGregor":MAILTO:dplain-mcgregor@skhc.ca
GEO:46.4929321;-80.9986778
X-APPLE-STRUCTURED-LOCATION;VALUE=URI;X-ADDRESS=Community Centre 105 Elm Street Suite E4 Sudbury ON Canada;X-APPLE-RADIUS=500;X-TITLE=105 Elm Street\, Suite E4:geo:-80.9986778,46.4929321
END:VEVENT
BEGIN:VEVENT
DTSTART;TZID=America/Toronto:20241023T173000
DTEND;TZID=America/Toronto:20241023T183000
DTSTAMP:20260424T005004
CREATED:20240904T180815Z
LAST-MODIFIED:20241112T153033Z
UID:10001962-1729704600-1729708200@skhc.ca
SUMMARY:Boys Big Drum
DESCRIPTION:
URL:https://skhc.ca/event/boys-big-drum-2/2024-10-23/
LOCATION:Community Centre\, 105 Elm Street\, Suite E4\, Sudbury\, ON\, Canada
CATEGORIES:Traditional Program
ATTACH;FMTTYPE=image/jpeg:https://skhc.ca/wp-content/uploads/2024/05/drum_WEB.jpg
ORGANIZER;CN="Debbie Plain-McGregor":MAILTO:dplain-mcgregor@skhc.ca
GEO:46.4929321;-80.9986778
X-APPLE-STRUCTURED-LOCATION;VALUE=URI;X-ADDRESS=Community Centre 105 Elm Street Suite E4 Sudbury ON Canada;X-APPLE-RADIUS=500;X-TITLE=105 Elm Street\, Suite E4:geo:-80.9986778,46.4929321
END:VEVENT
BEGIN:VEVENT
DTSTART;TZID=America/Toronto:20241016T173000
DTEND;TZID=America/Toronto:20241016T183000
DTSTAMP:20260424T005004
CREATED:20240904T180815Z
LAST-MODIFIED:20241112T153033Z
UID:10001961-1729099800-1729103400@skhc.ca
SUMMARY:Boys Big Drum
DESCRIPTION:
URL:https://skhc.ca/event/boys-big-drum-2/2024-10-16/
LOCATION:Community Centre\, 105 Elm Street\, Suite E4\, Sudbury\, ON\, Canada
CATEGORIES:Traditional Program
ATTACH;FMTTYPE=image/jpeg:https://skhc.ca/wp-content/uploads/2024/05/drum_WEB.jpg
ORGANIZER;CN="Debbie Plain-McGregor":MAILTO:dplain-mcgregor@skhc.ca
GEO:46.4929321;-80.9986778
X-APPLE-STRUCTURED-LOCATION;VALUE=URI;X-ADDRESS=Community Centre 105 Elm Street Suite E4 Sudbury ON Canada;X-APPLE-RADIUS=500;X-TITLE=105 Elm Street\, Suite E4:geo:-80.9986778,46.4929321
END:VEVENT
BEGIN:VEVENT
DTSTART;TZID=America/Toronto:20241009T173000
DTEND;TZID=America/Toronto:20241009T183000
DTSTAMP:20260424T005004
CREATED:20240904T180815Z
LAST-MODIFIED:20241112T153033Z
UID:10001960-1728495000-1728498600@skhc.ca
SUMMARY:Boys Big Drum
DESCRIPTION:
URL:https://skhc.ca/event/boys-big-drum-2/2024-10-09/
LOCATION:Community Centre\, 105 Elm Street\, Suite E4\, Sudbury\, ON\, Canada
CATEGORIES:Traditional Program
ATTACH;FMTTYPE=image/jpeg:https://skhc.ca/wp-content/uploads/2024/05/drum_WEB.jpg
ORGANIZER;CN="Debbie Plain-McGregor":MAILTO:dplain-mcgregor@skhc.ca
GEO:46.4929321;-80.9986778
X-APPLE-STRUCTURED-LOCATION;VALUE=URI;X-ADDRESS=Community Centre 105 Elm Street Suite E4 Sudbury ON Canada;X-APPLE-RADIUS=500;X-TITLE=105 Elm Street\, Suite E4:geo:-80.9986778,46.4929321
END:VEVENT
BEGIN:VEVENT
DTSTART;TZID=America/Toronto:20241002T173000
DTEND;TZID=America/Toronto:20241002T183000
DTSTAMP:20260424T005004
CREATED:20240904T180815Z
LAST-MODIFIED:20241112T153033Z
UID:10001959-1727890200-1727893800@skhc.ca
SUMMARY:Boys Big Drum
DESCRIPTION:
URL:https://skhc.ca/event/boys-big-drum-2/2024-10-02/
LOCATION:Community Centre\, 105 Elm Street\, Suite E4\, Sudbury\, ON\, Canada
CATEGORIES:Traditional Program
ATTACH;FMTTYPE=image/jpeg:https://skhc.ca/wp-content/uploads/2024/05/drum_WEB.jpg
ORGANIZER;CN="Debbie Plain-McGregor":MAILTO:dplain-mcgregor@skhc.ca
GEO:46.4929321;-80.9986778
X-APPLE-STRUCTURED-LOCATION;VALUE=URI;X-ADDRESS=Community Centre 105 Elm Street Suite E4 Sudbury ON Canada;X-APPLE-RADIUS=500;X-TITLE=105 Elm Street\, Suite E4:geo:-80.9986778,46.4929321
END:VEVENT
BEGIN:VEVENT
DTSTART;TZID=America/Toronto:20240925T173000
DTEND;TZID=America/Toronto:20240925T183000
DTSTAMP:20260424T005004
CREATED:20240904T180815Z
LAST-MODIFIED:20241112T153033Z
UID:10001958-1727285400-1727289000@skhc.ca
SUMMARY:Boys Big Drum
DESCRIPTION:
URL:https://skhc.ca/event/boys-big-drum-2/2024-09-25/
LOCATION:Community Centre\, 105 Elm Street\, Suite E4\, Sudbury\, ON\, Canada
CATEGORIES:Traditional Program
ATTACH;FMTTYPE=image/jpeg:https://skhc.ca/wp-content/uploads/2024/05/drum_WEB.jpg
ORGANIZER;CN="Debbie Plain-McGregor":MAILTO:dplain-mcgregor@skhc.ca
GEO:46.4929321;-80.9986778
X-APPLE-STRUCTURED-LOCATION;VALUE=URI;X-ADDRESS=Community Centre 105 Elm Street Suite E4 Sudbury ON Canada;X-APPLE-RADIUS=500;X-TITLE=105 Elm Street\, Suite E4:geo:-80.9986778,46.4929321
END:VEVENT
BEGIN:VEVENT
DTSTART;TZID=America/Toronto:20240918T173000
DTEND;TZID=America/Toronto:20240918T183000
DTSTAMP:20260424T005004
CREATED:20240904T180815Z
LAST-MODIFIED:20241112T153033Z
UID:10001957-1726680600-1726684200@skhc.ca
SUMMARY:Boys Big Drum
DESCRIPTION:
URL:https://skhc.ca/event/boys-big-drum-2/2024-09-18/
LOCATION:Community Centre\, 105 Elm Street\, Suite E4\, Sudbury\, ON\, Canada
CATEGORIES:Traditional Program
ATTACH;FMTTYPE=image/jpeg:https://skhc.ca/wp-content/uploads/2024/05/drum_WEB.jpg
ORGANIZER;CN="Debbie Plain-McGregor":MAILTO:dplain-mcgregor@skhc.ca
GEO:46.4929321;-80.9986778
X-APPLE-STRUCTURED-LOCATION;VALUE=URI;X-ADDRESS=Community Centre 105 Elm Street Suite E4 Sudbury ON Canada;X-APPLE-RADIUS=500;X-TITLE=105 Elm Street\, Suite E4:geo:-80.9986778,46.4929321
END:VEVENT
BEGIN:VEVENT
DTSTART;TZID=America/Toronto:20240911T173000
DTEND;TZID=America/Toronto:20240911T183000
DTSTAMP:20260424T005004
CREATED:20240904T180815Z
LAST-MODIFIED:20241112T153033Z
UID:10001947-1726075800-1726079400@skhc.ca
SUMMARY:Boys Big Drum
DESCRIPTION:
URL:https://skhc.ca/event/boys-big-drum-2/2024-09-11/
LOCATION:Community Centre\, 105 Elm Street\, Suite E4\, Sudbury\, ON\, Canada
CATEGORIES:Traditional Program
ATTACH;FMTTYPE=image/jpeg:https://skhc.ca/wp-content/uploads/2024/05/drum_WEB.jpg
ORGANIZER;CN="Debbie Plain-McGregor":MAILTO:dplain-mcgregor@skhc.ca
GEO:46.4929321;-80.9986778
X-APPLE-STRUCTURED-LOCATION;VALUE=URI;X-ADDRESS=Community Centre 105 Elm Street Suite E4 Sudbury ON Canada;X-APPLE-RADIUS=500;X-TITLE=105 Elm Street\, Suite E4:geo:-80.9986778,46.4929321
END:VEVENT
BEGIN:VEVENT
DTSTART;TZID=America/Toronto:20240619T170000
DTEND;TZID=America/Toronto:20240619T183000
DTSTAMP:20260424T005004
CREATED:20240522T144038Z
LAST-MODIFIED:20240522T144038Z
UID:10001878-1718816400-1718821800@skhc.ca
SUMMARY:Boys Big Drum
DESCRIPTION:
URL:https://skhc.ca/event/boys-big-drum/2024-06-19/
LOCATION:Community Centre\, 105 Elm Street\, Suite E4\, Sudbury\, ON\, Canada
CATEGORIES:Traditional Program
ATTACH;FMTTYPE=image/jpeg:https://skhc.ca/wp-content/uploads/2024/05/drum_WEB.jpg
ORGANIZER;CN="Debbie Plain-McGregor":MAILTO:dplain-mcgregor@skhc.ca
GEO:46.4929321;-80.9986778
X-APPLE-STRUCTURED-LOCATION;VALUE=URI;X-ADDRESS=Community Centre 105 Elm Street Suite E4 Sudbury ON Canada;X-APPLE-RADIUS=500;X-TITLE=105 Elm Street\, Suite E4:geo:-80.9986778,46.4929321
END:VEVENT
BEGIN:VEVENT
DTSTART;TZID=America/Toronto:20240612T170000
DTEND;TZID=America/Toronto:20240612T183000
DTSTAMP:20260424T005004
CREATED:20240522T144038Z
LAST-MODIFIED:20240522T144038Z
UID:10001877-1718211600-1718217000@skhc.ca
SUMMARY:Boys Big Drum
DESCRIPTION:
URL:https://skhc.ca/event/boys-big-drum/2024-06-12/
LOCATION:Community Centre\, 105 Elm Street\, Suite E4\, Sudbury\, ON\, Canada
CATEGORIES:Traditional Program
ATTACH;FMTTYPE=image/jpeg:https://skhc.ca/wp-content/uploads/2024/05/drum_WEB.jpg
ORGANIZER;CN="Debbie Plain-McGregor":MAILTO:dplain-mcgregor@skhc.ca
GEO:46.4929321;-80.9986778
X-APPLE-STRUCTURED-LOCATION;VALUE=URI;X-ADDRESS=Community Centre 105 Elm Street Suite E4 Sudbury ON Canada;X-APPLE-RADIUS=500;X-TITLE=105 Elm Street\, Suite E4:geo:-80.9986778,46.4929321
END:VEVENT
BEGIN:VEVENT
DTSTART;TZID=America/Toronto:20240605T170000
DTEND;TZID=America/Toronto:20240605T183000
DTSTAMP:20260424T005004
CREATED:20240522T144038Z
LAST-MODIFIED:20240522T144038Z
UID:10001876-1717606800-1717612200@skhc.ca
SUMMARY:Boys Big Drum
DESCRIPTION:
URL:https://skhc.ca/event/boys-big-drum/2024-06-05/
LOCATION:Community Centre\, 105 Elm Street\, Suite E4\, Sudbury\, ON\, Canada
CATEGORIES:Traditional Program
ATTACH;FMTTYPE=image/jpeg:https://skhc.ca/wp-content/uploads/2024/05/drum_WEB.jpg
ORGANIZER;CN="Debbie Plain-McGregor":MAILTO:dplain-mcgregor@skhc.ca
GEO:46.4929321;-80.9986778
X-APPLE-STRUCTURED-LOCATION;VALUE=URI;X-ADDRESS=Community Centre 105 Elm Street Suite E4 Sudbury ON Canada;X-APPLE-RADIUS=500;X-TITLE=105 Elm Street\, Suite E4:geo:-80.9986778,46.4929321
END:VEVENT
BEGIN:VEVENT
DTSTART;TZID=America/Toronto:20240604T170000
DTEND;TZID=America/Toronto:20240604T190000
DTSTAMP:20260424T005004
CREATED:20240516T165944Z
LAST-MODIFIED:20240516T165944Z
UID:10001539-1717520400-1717527600@skhc.ca
SUMMARY:Journey Talks – Youth Empowerment Series
DESCRIPTION:
URL:https://skhc.ca/event/journey-talks-youth-empowerment-series-2/
LOCATION:Community Centre\, 105 Elm Street\, Suite E4\, Sudbury\, ON\, Canada
CATEGORIES:Community Programs
ATTACH;FMTTYPE=image/jpeg:https://skhc.ca/wp-content/uploads/2024/05/SKHC_JourneyTalks_Header.jpg
ORGANIZER;CN="Debbie Plain-McGregor":MAILTO:dplain-mcgregor@skhc.ca
GEO:46.4929321;-80.9986778
X-APPLE-STRUCTURED-LOCATION;VALUE=URI;X-ADDRESS=Community Centre 105 Elm Street Suite E4 Sudbury ON Canada;X-APPLE-RADIUS=500;X-TITLE=105 Elm Street\, Suite E4:geo:-80.9986778,46.4929321
END:VEVENT
BEGIN:VEVENT
DTSTART;TZID=America/Toronto:20240528T170000
DTEND;TZID=America/Toronto:20240528T190000
DTSTAMP:20260424T005004
CREATED:20240516T165721Z
LAST-MODIFIED:20240516T165721Z
UID:10001538-1716915600-1716922800@skhc.ca
SUMMARY:Journey Talks – Youth Empowerment Series
DESCRIPTION:
URL:https://skhc.ca/event/journey-talks-youth-empowerment-series/
LOCATION:Community Centre\, 105 Elm Street\, Suite E4\, Sudbury\, ON\, Canada
CATEGORIES:Community Programs
ATTACH;FMTTYPE=image/jpeg:https://skhc.ca/wp-content/uploads/2024/05/SKHC_JourneyTalks_Header.jpg
ORGANIZER;CN="Debbie Plain-McGregor":MAILTO:dplain-mcgregor@skhc.ca
GEO:46.4929321;-80.9986778
X-APPLE-STRUCTURED-LOCATION;VALUE=URI;X-ADDRESS=Community Centre 105 Elm Street Suite E4 Sudbury ON Canada;X-APPLE-RADIUS=500;X-TITLE=105 Elm Street\, Suite E4:geo:-80.9986778,46.4929321
END:VEVENT
END:VCALENDAR