BEGIN:VCALENDAR
VERSION:2.0
PRODID:-//SKHC - ECPv6.15.18//NONSGML v1.0//EN
CALSCALE:GREGORIAN
METHOD:PUBLISH
X-WR-CALNAME:SKHC
X-ORIGINAL-URL:https://skhc.ca
X-WR-CALDESC:Events for SKHC
REFRESH-INTERVAL;VALUE=DURATION:PT1H
X-Robots-Tag:noindex
X-PUBLISHED-TTL:PT1H
BEGIN:VTIMEZONE
TZID:America/Toronto
BEGIN:DAYLIGHT
TZOFFSETFROM:-0500
TZOFFSETTO:-0400
TZNAME:EDT
DTSTART:20230312T070000
END:DAYLIGHT
BEGIN:STANDARD
TZOFFSETFROM:-0400
TZOFFSETTO:-0500
TZNAME:EST
DTSTART:20231105T060000
END:STANDARD
BEGIN:DAYLIGHT
TZOFFSETFROM:-0500
TZOFFSETTO:-0400
TZNAME:EDT
DTSTART:20240310T070000
END:DAYLIGHT
BEGIN:STANDARD
TZOFFSETFROM:-0400
TZOFFSETTO:-0500
TZNAME:EST
DTSTART:20241103T060000
END:STANDARD
BEGIN:DAYLIGHT
TZOFFSETFROM:-0500
TZOFFSETTO:-0400
TZNAME:EDT
DTSTART:20250309T070000
END:DAYLIGHT
BEGIN:STANDARD
TZOFFSETFROM:-0400
TZOFFSETTO:-0500
TZNAME:EST
DTSTART:20251102T060000
END:STANDARD
END:VTIMEZONE
BEGIN:VEVENT
DTSTART;TZID=America/Toronto:20240604T110000
DTEND;TZID=America/Toronto:20240604T130000
DTSTAMP:20260424T210321
CREATED:20240508T164350Z
LAST-MODIFIED:20240521T134202Z
UID:10001812-1717498800-1717506000@skhc.ca
SUMMARY:Mishko-Ode-Wendam Sharing Circle
DESCRIPTION:
URL:https://skhc.ca/event/mishko-ode-wendam-sharing-circle-2/2024-06-04/
LOCATION:Community Centre\, 105 Elm Street\, Suite E4\, Sudbury\, ON\, Canada
CATEGORIES:Traditional Program
ORGANIZER;CN="Natalie Lacasse":MAILTO:nlacasse@skhc.ca
GEO:46.4929321;-80.9986778
X-APPLE-STRUCTURED-LOCATION;VALUE=URI;X-ADDRESS=Community Centre 105 Elm Street Suite E4 Sudbury ON Canada;X-APPLE-RADIUS=500;X-TITLE=105 Elm Street\, Suite E4:geo:-80.9986778,46.4929321
END:VEVENT
BEGIN:VEVENT
DTSTART;TZID=America/Toronto:20240531T093000
DTEND;TZID=America/Toronto:20240531T140000
DTSTAMP:20260424T210321
CREATED:20240521T183817Z
LAST-MODIFIED:20240521T183817Z
UID:10001817-1717147800-1717164000@skhc.ca
SUMMARY:Painting on the Land
DESCRIPTION:
URL:https://skhc.ca/event/painting-on-the-land/
CATEGORIES:Traditional Program
ATTACH;FMTTYPE=image/jpeg:https://skhc.ca/wp-content/uploads/2024/05/AdobeStock_621316713_WEB.jpg
ORGANIZER;CN="Natalie Lacasse":MAILTO:nlacasse@skhc.ca
END:VEVENT
BEGIN:VEVENT
DTSTART;TZID=America/Toronto:20240529T170000
DTEND;TZID=America/Toronto:20240529T183000
DTSTAMP:20260424T210321
CREATED:20240508T164714Z
LAST-MODIFIED:20240508T164714Z
UID:10001533-1717002000-1717007400@skhc.ca
SUMMARY:Boys Drum
DESCRIPTION:
URL:https://skhc.ca/event/boys-drum/2024-05-29/
LOCATION:Community Centre\, 105 Elm Street\, Suite E4\, Sudbury\, ON\, Canada
CATEGORIES:Traditional Program
ORGANIZER;CN="Natalie Lacasse":MAILTO:nlacasse@skhc.ca
GEO:46.4929321;-80.9986778
X-APPLE-STRUCTURED-LOCATION;VALUE=URI;X-ADDRESS=Community Centre 105 Elm Street Suite E4 Sudbury ON Canada;X-APPLE-RADIUS=500;X-TITLE=105 Elm Street\, Suite E4:geo:-80.9986778,46.4929321
END:VEVENT
BEGIN:VEVENT
DTSTART;TZID=America/Toronto:20240528T170000
DTEND;TZID=America/Toronto:20240528T190000
DTSTAMP:20260424T210321
CREATED:20240508T164510Z
LAST-MODIFIED:20240730T140032Z
UID:10001530-1716915600-1716922800@skhc.ca
SUMMARY:Youth Drop-In
DESCRIPTION:
URL:https://skhc.ca/event/youth-drop-in/2024-05-28/
LOCATION:Community Centre\, 105 Elm Street\, Suite E4\, Sudbury\, ON\, Canada
CATEGORIES:Traditional Program
ORGANIZER;CN="Natalie Lacasse":MAILTO:nlacasse@skhc.ca
GEO:46.4929321;-80.9986778
X-APPLE-STRUCTURED-LOCATION;VALUE=URI;X-ADDRESS=Community Centre 105 Elm Street Suite E4 Sudbury ON Canada;X-APPLE-RADIUS=500;X-TITLE=105 Elm Street\, Suite E4:geo:-80.9986778,46.4929321
END:VEVENT
BEGIN:VEVENT
DTSTART;TZID=America/Toronto:20240523T170000
DTEND;TZID=America/Toronto:20240523T190000
DTSTAMP:20260424T210321
CREATED:20240508T164924Z
LAST-MODIFIED:20240523T144135Z
UID:10001535-1716483600-1716490800@skhc.ca
SUMMARY:Men’s Group
DESCRIPTION:
URL:https://skhc.ca/event/mens-group/
LOCATION:Community Centre\, 105 Elm Street\, Suite E4\, Sudbury\, ON\, Canada
CATEGORIES:Traditional Program
ATTACH;FMTTYPE=image/jpeg:https://skhc.ca/wp-content/uploads/2024/05/PHOTOS-0092_WEB.jpg
ORGANIZER;CN="Natalie Lacasse":MAILTO:nlacasse@skhc.ca
GEO:46.4929321;-80.9986778
X-APPLE-STRUCTURED-LOCATION;VALUE=URI;X-ADDRESS=Community Centre 105 Elm Street Suite E4 Sudbury ON Canada;X-APPLE-RADIUS=500;X-TITLE=105 Elm Street\, Suite E4:geo:-80.9986778,46.4929321
END:VEVENT
BEGIN:VEVENT
DTSTART;TZID=America/Toronto:20240521T110000
DTEND;TZID=America/Toronto:20240521T130000
DTSTAMP:20260424T210321
CREATED:20240508T164350Z
LAST-MODIFIED:20240521T134202Z
UID:10001529-1716289200-1716296400@skhc.ca
SUMMARY:Mishko-Ode-Wendam Sharing Circle
DESCRIPTION:
URL:https://skhc.ca/event/mishko-ode-wendam-sharing-circle-2/2024-05-21/
LOCATION:Community Centre\, 105 Elm Street\, Suite E4\, Sudbury\, ON\, Canada
CATEGORIES:Traditional Program
ORGANIZER;CN="Natalie Lacasse":MAILTO:nlacasse@skhc.ca
GEO:46.4929321;-80.9986778
X-APPLE-STRUCTURED-LOCATION;VALUE=URI;X-ADDRESS=Community Centre 105 Elm Street Suite E4 Sudbury ON Canada;X-APPLE-RADIUS=500;X-TITLE=105 Elm Street\, Suite E4:geo:-80.9986778,46.4929321
END:VEVENT
BEGIN:VEVENT
DTSTART;TZID=America/Toronto:20240516T180000
DTEND;TZID=America/Toronto:20240516T200000
DTSTAMP:20260424T210321
CREATED:20240508T164838Z
LAST-MODIFIED:20240508T164838Z
UID:10001534-1715882400-1715889600@skhc.ca
SUMMARY:Anishinaabemowin Class
DESCRIPTION:
URL:https://skhc.ca/event/anishinaabemowin-class/
LOCATION:Community Centre\, 105 Elm Street\, Suite E4\, Sudbury\, ON\, Canada
CATEGORIES:Traditional Program
ORGANIZER;CN="Natalie Lacasse":MAILTO:nlacasse@skhc.ca
GEO:46.4929321;-80.9986778
X-APPLE-STRUCTURED-LOCATION;VALUE=URI;X-ADDRESS=Community Centre 105 Elm Street Suite E4 Sudbury ON Canada;X-APPLE-RADIUS=500;X-TITLE=105 Elm Street\, Suite E4:geo:-80.9986778,46.4929321
END:VEVENT
BEGIN:VEVENT
DTSTART;TZID=America/Toronto:20240515T170000
DTEND;TZID=America/Toronto:20240515T183000
DTSTAMP:20260424T210321
CREATED:20240508T164714Z
LAST-MODIFIED:20240508T164714Z
UID:10001532-1715792400-1715797800@skhc.ca
SUMMARY:Boys Drum
DESCRIPTION:
URL:https://skhc.ca/event/boys-drum/2024-05-15/
LOCATION:Community Centre\, 105 Elm Street\, Suite E4\, Sudbury\, ON\, Canada
CATEGORIES:Traditional Program
ORGANIZER;CN="Natalie Lacasse":MAILTO:nlacasse@skhc.ca
GEO:46.4929321;-80.9986778
X-APPLE-STRUCTURED-LOCATION;VALUE=URI;X-ADDRESS=Community Centre 105 Elm Street Suite E4 Sudbury ON Canada;X-APPLE-RADIUS=500;X-TITLE=105 Elm Street\, Suite E4:geo:-80.9986778,46.4929321
END:VEVENT
BEGIN:VEVENT
DTSTART;TZID=America/Toronto:20240508T170000
DTEND;TZID=America/Toronto:20240508T183000
DTSTAMP:20260424T210321
CREATED:20240508T164714Z
LAST-MODIFIED:20240508T164714Z
UID:10001531-1715187600-1715193000@skhc.ca
SUMMARY:Boys Drum
DESCRIPTION:
URL:https://skhc.ca/event/boys-drum/2024-05-08/
LOCATION:Community Centre\, 105 Elm Street\, Suite E4\, Sudbury\, ON\, Canada
CATEGORIES:Traditional Program
ORGANIZER;CN="Natalie Lacasse":MAILTO:nlacasse@skhc.ca
GEO:46.4929321;-80.9986778
X-APPLE-STRUCTURED-LOCATION;VALUE=URI;X-ADDRESS=Community Centre 105 Elm Street Suite E4 Sudbury ON Canada;X-APPLE-RADIUS=500;X-TITLE=105 Elm Street\, Suite E4:geo:-80.9986778,46.4929321
END:VEVENT
BEGIN:VEVENT
DTSTART;TZID=America/Toronto:20240507T110000
DTEND;TZID=America/Toronto:20240507T130000
DTSTAMP:20260424T210321
CREATED:20240508T164250Z
LAST-MODIFIED:20240508T164250Z
UID:10001528-1715079600-1715086800@skhc.ca
SUMMARY:Mishko-Ode-Wendam Sharing Circle
DESCRIPTION:
URL:https://skhc.ca/event/mishko-ode-wendam-sharing-circle/
LOCATION:Community Centre\, 105 Elm Street\, Suite E4\, Sudbury\, ON\, Canada
CATEGORIES:Traditional Program
ORGANIZER;CN="Natalie Lacasse":MAILTO:nlacasse@skhc.ca
GEO:46.4929321;-80.9986778
X-APPLE-STRUCTURED-LOCATION;VALUE=URI;X-ADDRESS=Community Centre 105 Elm Street Suite E4 Sudbury ON Canada;X-APPLE-RADIUS=500;X-TITLE=105 Elm Street\, Suite E4:geo:-80.9986778,46.4929321
END:VEVENT
END:VCALENDAR