BEGIN:VCALENDAR
VERSION:2.0
PRODID:-//SKHC - ECPv6.15.18//NONSGML v1.0//EN
CALSCALE:GREGORIAN
METHOD:PUBLISH
X-ORIGINAL-URL:https://skhc.ca
X-WR-CALDESC:Events for SKHC
REFRESH-INTERVAL;VALUE=DURATION:PT1H
X-Robots-Tag:noindex
X-PUBLISHED-TTL:PT1H
BEGIN:VTIMEZONE
TZID:America/Toronto
BEGIN:DAYLIGHT
TZOFFSETFROM:-0500
TZOFFSETTO:-0400
TZNAME:EDT
DTSTART:20240310T070000
END:DAYLIGHT
BEGIN:STANDARD
TZOFFSETFROM:-0400
TZOFFSETTO:-0500
TZNAME:EST
DTSTART:20241103T060000
END:STANDARD
BEGIN:DAYLIGHT
TZOFFSETFROM:-0500
TZOFFSETTO:-0400
TZNAME:EDT
DTSTART:20250309T070000
END:DAYLIGHT
BEGIN:STANDARD
TZOFFSETFROM:-0400
TZOFFSETTO:-0500
TZNAME:EST
DTSTART:20251102T060000
END:STANDARD
BEGIN:DAYLIGHT
TZOFFSETFROM:-0500
TZOFFSETTO:-0400
TZNAME:EDT
DTSTART:20260308T070000
END:DAYLIGHT
BEGIN:STANDARD
TZOFFSETFROM:-0400
TZOFFSETTO:-0500
TZNAME:EST
DTSTART:20261101T060000
END:STANDARD
END:VTIMEZONE
BEGIN:VEVENT
DTSTART;TZID=America/Toronto:20250910T163000
DTEND;TZID=America/Toronto:20250910T183000
DTSTAMP:20260423T210231
CREATED:20250130T160248Z
LAST-MODIFIED:20250130T183316Z
UID:10002197-1757521800-1757529000@skhc.ca
SUMMARY:Young Thunderbirds Drum Group
DESCRIPTION:
URL:https://skhc.ca/event/young-thunderbirds-drum-group/2025-09-10/
LOCATION:Community Centre\, 105 Elm Street\, Suite E4\, Sudbury\, ON\, Canada
CATEGORIES:Traditional Program
ATTACH;FMTTYPE=image/jpeg:https://skhc.ca/wp-content/uploads/2025/01/IMG_1050_Edited_WEB.jpg
ORGANIZER;CN="Debbie Plain-McGregor":MAILTO:dplain-mcgregor@skhc.ca
GEO:46.4929321;-80.9986778
X-APPLE-STRUCTURED-LOCATION;VALUE=URI;X-ADDRESS=Community Centre 105 Elm Street Suite E4 Sudbury ON Canada;X-APPLE-RADIUS=500;X-TITLE=105 Elm Street\, Suite E4:geo:-80.9986778,46.4929321
END:VEVENT
BEGIN:VEVENT
DTSTART;TZID=America/Toronto:20250903T163000
DTEND;TZID=America/Toronto:20250903T183000
DTSTAMP:20260423T210231
CREATED:20250130T160248Z
LAST-MODIFIED:20250130T183316Z
UID:10002196-1756917000-1756924200@skhc.ca
SUMMARY:Young Thunderbirds Drum Group
DESCRIPTION:
URL:https://skhc.ca/event/young-thunderbirds-drum-group/2025-09-03/
LOCATION:Community Centre\, 105 Elm Street\, Suite E4\, Sudbury\, ON\, Canada
CATEGORIES:Traditional Program
ATTACH;FMTTYPE=image/jpeg:https://skhc.ca/wp-content/uploads/2025/01/IMG_1050_Edited_WEB.jpg
ORGANIZER;CN="Debbie Plain-McGregor":MAILTO:dplain-mcgregor@skhc.ca
GEO:46.4929321;-80.9986778
X-APPLE-STRUCTURED-LOCATION;VALUE=URI;X-ADDRESS=Community Centre 105 Elm Street Suite E4 Sudbury ON Canada;X-APPLE-RADIUS=500;X-TITLE=105 Elm Street\, Suite E4:geo:-80.9986778,46.4929321
END:VEVENT
BEGIN:VEVENT
DTSTART;TZID=America/Toronto:20250630T120000
DTEND;TZID=America/Toronto:20250630T130000
DTSTAMP:20260423T210231
CREATED:20250130T161712Z
LAST-MODIFIED:20250520T164241Z
UID:10002229-1751284800-1751288400@skhc.ca
SUMMARY:Yoga
DESCRIPTION:
URL:https://skhc.ca/event/yoga-2/2025-06-30/
LOCATION:Community Centre\, 105 Elm Street\, Suite E4\, Sudbury\, ON\, Canada
CATEGORIES:Community Programs
ATTACH;FMTTYPE=image/jpeg:https://skhc.ca/wp-content/uploads/2025/01/active-activity-adult-1308746_WEB.jpg
ORGANIZER;CN="Jordan Assinewe":MAILTO:jassinewe@skhc.ca
GEO:46.4929321;-80.9986778
X-APPLE-STRUCTURED-LOCATION;VALUE=URI;X-ADDRESS=Community Centre 105 Elm Street Suite E4 Sudbury ON Canada;X-APPLE-RADIUS=500;X-TITLE=105 Elm Street\, Suite E4:geo:-80.9986778,46.4929321
END:VEVENT
BEGIN:VEVENT
DTSTART;TZID=America/Toronto:20250625T163000
DTEND;TZID=America/Toronto:20250625T183000
DTSTAMP:20260423T210231
CREATED:20250130T160248Z
LAST-MODIFIED:20250130T183316Z
UID:10002195-1750869000-1750876200@skhc.ca
SUMMARY:Young Thunderbirds Drum Group
DESCRIPTION:
URL:https://skhc.ca/event/young-thunderbirds-drum-group/2025-06-25/
LOCATION:Community Centre\, 105 Elm Street\, Suite E4\, Sudbury\, ON\, Canada
CATEGORIES:Traditional Program
ATTACH;FMTTYPE=image/jpeg:https://skhc.ca/wp-content/uploads/2025/01/IMG_1050_Edited_WEB.jpg
ORGANIZER;CN="Debbie Plain-McGregor":MAILTO:dplain-mcgregor@skhc.ca
GEO:46.4929321;-80.9986778
X-APPLE-STRUCTURED-LOCATION;VALUE=URI;X-ADDRESS=Community Centre 105 Elm Street Suite E4 Sudbury ON Canada;X-APPLE-RADIUS=500;X-TITLE=105 Elm Street\, Suite E4:geo:-80.9986778,46.4929321
END:VEVENT
BEGIN:VEVENT
DTSTART;TZID=America/Toronto:20250623T120000
DTEND;TZID=America/Toronto:20250623T130000
DTSTAMP:20260423T210231
CREATED:20250130T161712Z
LAST-MODIFIED:20250520T164241Z
UID:10002228-1750680000-1750683600@skhc.ca
SUMMARY:Yoga
DESCRIPTION:
URL:https://skhc.ca/event/yoga-2/2025-06-23/
LOCATION:Community Centre\, 105 Elm Street\, Suite E4\, Sudbury\, ON\, Canada
CATEGORIES:Community Programs
ATTACH;FMTTYPE=image/jpeg:https://skhc.ca/wp-content/uploads/2025/01/active-activity-adult-1308746_WEB.jpg
ORGANIZER;CN="Jordan Assinewe":MAILTO:jassinewe@skhc.ca
GEO:46.4929321;-80.9986778
X-APPLE-STRUCTURED-LOCATION;VALUE=URI;X-ADDRESS=Community Centre 105 Elm Street Suite E4 Sudbury ON Canada;X-APPLE-RADIUS=500;X-TITLE=105 Elm Street\, Suite E4:geo:-80.9986778,46.4929321
END:VEVENT
BEGIN:VEVENT
DTSTART;TZID=America/Toronto:20250618T163000
DTEND;TZID=America/Toronto:20250618T183000
DTSTAMP:20260423T210231
CREATED:20250130T160248Z
LAST-MODIFIED:20250130T183316Z
UID:10002194-1750264200-1750271400@skhc.ca
SUMMARY:Young Thunderbirds Drum Group
DESCRIPTION:
URL:https://skhc.ca/event/young-thunderbirds-drum-group/2025-06-18/
LOCATION:Community Centre\, 105 Elm Street\, Suite E4\, Sudbury\, ON\, Canada
CATEGORIES:Traditional Program
ATTACH;FMTTYPE=image/jpeg:https://skhc.ca/wp-content/uploads/2025/01/IMG_1050_Edited_WEB.jpg
ORGANIZER;CN="Debbie Plain-McGregor":MAILTO:dplain-mcgregor@skhc.ca
GEO:46.4929321;-80.9986778
X-APPLE-STRUCTURED-LOCATION;VALUE=URI;X-ADDRESS=Community Centre 105 Elm Street Suite E4 Sudbury ON Canada;X-APPLE-RADIUS=500;X-TITLE=105 Elm Street\, Suite E4:geo:-80.9986778,46.4929321
END:VEVENT
BEGIN:VEVENT
DTSTART;TZID=America/Toronto:20250616T120000
DTEND;TZID=America/Toronto:20250616T130000
DTSTAMP:20260423T210231
CREATED:20250130T161712Z
LAST-MODIFIED:20250520T164241Z
UID:10002227-1750075200-1750078800@skhc.ca
SUMMARY:Yoga
DESCRIPTION:
URL:https://skhc.ca/event/yoga-2/2025-06-16/
LOCATION:Community Centre\, 105 Elm Street\, Suite E4\, Sudbury\, ON\, Canada
CATEGORIES:Community Programs
ATTACH;FMTTYPE=image/jpeg:https://skhc.ca/wp-content/uploads/2025/01/active-activity-adult-1308746_WEB.jpg
ORGANIZER;CN="Jordan Assinewe":MAILTO:jassinewe@skhc.ca
GEO:46.4929321;-80.9986778
X-APPLE-STRUCTURED-LOCATION;VALUE=URI;X-ADDRESS=Community Centre 105 Elm Street Suite E4 Sudbury ON Canada;X-APPLE-RADIUS=500;X-TITLE=105 Elm Street\, Suite E4:geo:-80.9986778,46.4929321
END:VEVENT
BEGIN:VEVENT
DTSTART;TZID=America/Toronto:20250611T163000
DTEND;TZID=America/Toronto:20250611T183000
DTSTAMP:20260423T210231
CREATED:20250130T160248Z
LAST-MODIFIED:20250130T183316Z
UID:10002193-1749659400-1749666600@skhc.ca
SUMMARY:Young Thunderbirds Drum Group
DESCRIPTION:
URL:https://skhc.ca/event/young-thunderbirds-drum-group/2025-06-11/
LOCATION:Community Centre\, 105 Elm Street\, Suite E4\, Sudbury\, ON\, Canada
CATEGORIES:Traditional Program
ATTACH;FMTTYPE=image/jpeg:https://skhc.ca/wp-content/uploads/2025/01/IMG_1050_Edited_WEB.jpg
ORGANIZER;CN="Debbie Plain-McGregor":MAILTO:dplain-mcgregor@skhc.ca
GEO:46.4929321;-80.9986778
X-APPLE-STRUCTURED-LOCATION;VALUE=URI;X-ADDRESS=Community Centre 105 Elm Street Suite E4 Sudbury ON Canada;X-APPLE-RADIUS=500;X-TITLE=105 Elm Street\, Suite E4:geo:-80.9986778,46.4929321
END:VEVENT
BEGIN:VEVENT
DTSTART;TZID=America/Toronto:20250609T120000
DTEND;TZID=America/Toronto:20250609T130000
DTSTAMP:20260423T210231
CREATED:20250130T161712Z
LAST-MODIFIED:20250520T164241Z
UID:10002226-1749470400-1749474000@skhc.ca
SUMMARY:Yoga
DESCRIPTION:
URL:https://skhc.ca/event/yoga-2/2025-06-09/
LOCATION:Community Centre\, 105 Elm Street\, Suite E4\, Sudbury\, ON\, Canada
CATEGORIES:Community Programs
ATTACH;FMTTYPE=image/jpeg:https://skhc.ca/wp-content/uploads/2025/01/active-activity-adult-1308746_WEB.jpg
ORGANIZER;CN="Jordan Assinewe":MAILTO:jassinewe@skhc.ca
GEO:46.4929321;-80.9986778
X-APPLE-STRUCTURED-LOCATION;VALUE=URI;X-ADDRESS=Community Centre 105 Elm Street Suite E4 Sudbury ON Canada;X-APPLE-RADIUS=500;X-TITLE=105 Elm Street\, Suite E4:geo:-80.9986778,46.4929321
END:VEVENT
BEGIN:VEVENT
DTSTART;TZID=America/Toronto:20250604T163000
DTEND;TZID=America/Toronto:20250604T183000
DTSTAMP:20260423T210231
CREATED:20250130T160248Z
LAST-MODIFIED:20250130T183316Z
UID:10002192-1749054600-1749061800@skhc.ca
SUMMARY:Young Thunderbirds Drum Group
DESCRIPTION:
URL:https://skhc.ca/event/young-thunderbirds-drum-group/2025-06-04/
LOCATION:Community Centre\, 105 Elm Street\, Suite E4\, Sudbury\, ON\, Canada
CATEGORIES:Traditional Program
ATTACH;FMTTYPE=image/jpeg:https://skhc.ca/wp-content/uploads/2025/01/IMG_1050_Edited_WEB.jpg
ORGANIZER;CN="Debbie Plain-McGregor":MAILTO:dplain-mcgregor@skhc.ca
GEO:46.4929321;-80.9986778
X-APPLE-STRUCTURED-LOCATION;VALUE=URI;X-ADDRESS=Community Centre 105 Elm Street Suite E4 Sudbury ON Canada;X-APPLE-RADIUS=500;X-TITLE=105 Elm Street\, Suite E4:geo:-80.9986778,46.4929321
END:VEVENT
BEGIN:VEVENT
DTSTART;TZID=America/Toronto:20250602T120000
DTEND;TZID=America/Toronto:20250602T130000
DTSTAMP:20260423T210231
CREATED:20250130T161712Z
LAST-MODIFIED:20250520T164241Z
UID:10002225-1748865600-1748869200@skhc.ca
SUMMARY:Yoga
DESCRIPTION:
URL:https://skhc.ca/event/yoga-2/2025-06-02/
LOCATION:Community Centre\, 105 Elm Street\, Suite E4\, Sudbury\, ON\, Canada
CATEGORIES:Community Programs
ATTACH;FMTTYPE=image/jpeg:https://skhc.ca/wp-content/uploads/2025/01/active-activity-adult-1308746_WEB.jpg
ORGANIZER;CN="Jordan Assinewe":MAILTO:jassinewe@skhc.ca
GEO:46.4929321;-80.9986778
X-APPLE-STRUCTURED-LOCATION;VALUE=URI;X-ADDRESS=Community Centre 105 Elm Street Suite E4 Sudbury ON Canada;X-APPLE-RADIUS=500;X-TITLE=105 Elm Street\, Suite E4:geo:-80.9986778,46.4929321
END:VEVENT
BEGIN:VEVENT
DTSTART;TZID=America/Toronto:20250528T163000
DTEND;TZID=America/Toronto:20250528T183000
DTSTAMP:20260423T210231
CREATED:20250130T160248Z
LAST-MODIFIED:20250130T183316Z
UID:10002191-1748449800-1748457000@skhc.ca
SUMMARY:Young Thunderbirds Drum Group
DESCRIPTION:
URL:https://skhc.ca/event/young-thunderbirds-drum-group/2025-05-28/
LOCATION:Community Centre\, 105 Elm Street\, Suite E4\, Sudbury\, ON\, Canada
CATEGORIES:Traditional Program
ATTACH;FMTTYPE=image/jpeg:https://skhc.ca/wp-content/uploads/2025/01/IMG_1050_Edited_WEB.jpg
ORGANIZER;CN="Debbie Plain-McGregor":MAILTO:dplain-mcgregor@skhc.ca
GEO:46.4929321;-80.9986778
X-APPLE-STRUCTURED-LOCATION;VALUE=URI;X-ADDRESS=Community Centre 105 Elm Street Suite E4 Sudbury ON Canada;X-APPLE-RADIUS=500;X-TITLE=105 Elm Street\, Suite E4:geo:-80.9986778,46.4929321
END:VEVENT
BEGIN:VEVENT
DTSTART;TZID=America/Toronto:20250526T120000
DTEND;TZID=America/Toronto:20250526T130000
DTSTAMP:20260423T210231
CREATED:20250130T161712Z
LAST-MODIFIED:20250520T164241Z
UID:10002224-1748260800-1748264400@skhc.ca
SUMMARY:Yoga
DESCRIPTION:
URL:https://skhc.ca/event/yoga-2/2025-05-26/
LOCATION:Community Centre\, 105 Elm Street\, Suite E4\, Sudbury\, ON\, Canada
CATEGORIES:Community Programs
ATTACH;FMTTYPE=image/jpeg:https://skhc.ca/wp-content/uploads/2025/01/active-activity-adult-1308746_WEB.jpg
ORGANIZER;CN="Jordan Assinewe":MAILTO:jassinewe@skhc.ca
GEO:46.4929321;-80.9986778
X-APPLE-STRUCTURED-LOCATION;VALUE=URI;X-ADDRESS=Community Centre 105 Elm Street Suite E4 Sudbury ON Canada;X-APPLE-RADIUS=500;X-TITLE=105 Elm Street\, Suite E4:geo:-80.9986778,46.4929321
END:VEVENT
BEGIN:VEVENT
DTSTART;TZID=America/Toronto:20250521T163000
DTEND;TZID=America/Toronto:20250521T183000
DTSTAMP:20260423T210231
CREATED:20250130T160248Z
LAST-MODIFIED:20250130T183316Z
UID:10002190-1747845000-1747852200@skhc.ca
SUMMARY:Young Thunderbirds Drum Group
DESCRIPTION:
URL:https://skhc.ca/event/young-thunderbirds-drum-group/2025-05-21/
LOCATION:Community Centre\, 105 Elm Street\, Suite E4\, Sudbury\, ON\, Canada
CATEGORIES:Traditional Program
ATTACH;FMTTYPE=image/jpeg:https://skhc.ca/wp-content/uploads/2025/01/IMG_1050_Edited_WEB.jpg
ORGANIZER;CN="Debbie Plain-McGregor":MAILTO:dplain-mcgregor@skhc.ca
GEO:46.4929321;-80.9986778
X-APPLE-STRUCTURED-LOCATION;VALUE=URI;X-ADDRESS=Community Centre 105 Elm Street Suite E4 Sudbury ON Canada;X-APPLE-RADIUS=500;X-TITLE=105 Elm Street\, Suite E4:geo:-80.9986778,46.4929321
END:VEVENT
BEGIN:VEVENT
DTSTART;TZID=America/Toronto:20250521T113000
DTEND;TZID=America/Toronto:20250521T130000
DTSTAMP:20260423T210231
CREATED:20250520T170400Z
LAST-MODIFIED:20250520T170503Z
UID:10002239-1747827000-1747832400@skhc.ca
SUMMARY:Lunch and Learn
DESCRIPTION:
URL:https://skhc.ca/event/lunch-and-learn-3/
LOCATION:Community Centre\, 105 Elm Street\, Suite E4\, Sudbury\, ON\, Canada
CATEGORIES:Community Programs
ATTACH;FMTTYPE=image/jpeg:https://skhc.ca/wp-content/uploads/2024/05/AdobeStock_353420437_WEB.jpg
ORGANIZER;CN="Jordan Assinewe":MAILTO:jassinewe@skhc.ca
GEO:46.4929321;-80.9986778
X-APPLE-STRUCTURED-LOCATION;VALUE=URI;X-ADDRESS=Community Centre 105 Elm Street Suite E4 Sudbury ON Canada;X-APPLE-RADIUS=500;X-TITLE=105 Elm Street\, Suite E4:geo:-80.9986778,46.4929321
END:VEVENT
BEGIN:VEVENT
DTSTART;TZID=America/Toronto:20250519T120000
DTEND;TZID=America/Toronto:20250519T130000
DTSTAMP:20260423T210231
CREATED:20250130T161712Z
LAST-MODIFIED:20250520T164241Z
UID:10002223-1747656000-1747659600@skhc.ca
SUMMARY:Yoga
DESCRIPTION:
URL:https://skhc.ca/event/yoga-2/2025-05-19/
LOCATION:Community Centre\, 105 Elm Street\, Suite E4\, Sudbury\, ON\, Canada
CATEGORIES:Community Programs
ATTACH;FMTTYPE=image/jpeg:https://skhc.ca/wp-content/uploads/2025/01/active-activity-adult-1308746_WEB.jpg
ORGANIZER;CN="Jordan Assinewe":MAILTO:jassinewe@skhc.ca
GEO:46.4929321;-80.9986778
X-APPLE-STRUCTURED-LOCATION;VALUE=URI;X-ADDRESS=Community Centre 105 Elm Street Suite E4 Sudbury ON Canada;X-APPLE-RADIUS=500;X-TITLE=105 Elm Street\, Suite E4:geo:-80.9986778,46.4929321
END:VEVENT
BEGIN:VEVENT
DTSTART;TZID=America/Toronto:20250514T163000
DTEND;TZID=America/Toronto:20250514T183000
DTSTAMP:20260423T210231
CREATED:20250130T160248Z
LAST-MODIFIED:20250130T183316Z
UID:10002189-1747240200-1747247400@skhc.ca
SUMMARY:Young Thunderbirds Drum Group
DESCRIPTION:
URL:https://skhc.ca/event/young-thunderbirds-drum-group/2025-05-14/
LOCATION:Community Centre\, 105 Elm Street\, Suite E4\, Sudbury\, ON\, Canada
CATEGORIES:Traditional Program
ATTACH;FMTTYPE=image/jpeg:https://skhc.ca/wp-content/uploads/2025/01/IMG_1050_Edited_WEB.jpg
ORGANIZER;CN="Debbie Plain-McGregor":MAILTO:dplain-mcgregor@skhc.ca
GEO:46.4929321;-80.9986778
X-APPLE-STRUCTURED-LOCATION;VALUE=URI;X-ADDRESS=Community Centre 105 Elm Street Suite E4 Sudbury ON Canada;X-APPLE-RADIUS=500;X-TITLE=105 Elm Street\, Suite E4:geo:-80.9986778,46.4929321
END:VEVENT
BEGIN:VEVENT
DTSTART;TZID=America/Toronto:20250512T120000
DTEND;TZID=America/Toronto:20250512T130000
DTSTAMP:20260423T210231
CREATED:20250130T161712Z
LAST-MODIFIED:20250520T164241Z
UID:10002222-1747051200-1747054800@skhc.ca
SUMMARY:Yoga
DESCRIPTION:
URL:https://skhc.ca/event/yoga-2/2025-05-12/
LOCATION:Community Centre\, 105 Elm Street\, Suite E4\, Sudbury\, ON\, Canada
CATEGORIES:Community Programs
ATTACH;FMTTYPE=image/jpeg:https://skhc.ca/wp-content/uploads/2025/01/active-activity-adult-1308746_WEB.jpg
ORGANIZER;CN="Jordan Assinewe":MAILTO:jassinewe@skhc.ca
GEO:46.4929321;-80.9986778
X-APPLE-STRUCTURED-LOCATION;VALUE=URI;X-ADDRESS=Community Centre 105 Elm Street Suite E4 Sudbury ON Canada;X-APPLE-RADIUS=500;X-TITLE=105 Elm Street\, Suite E4:geo:-80.9986778,46.4929321
END:VEVENT
BEGIN:VEVENT
DTSTART;TZID=America/Toronto:20250507T163000
DTEND;TZID=America/Toronto:20250507T183000
DTSTAMP:20260423T210231
CREATED:20250130T160248Z
LAST-MODIFIED:20250130T183316Z
UID:10002188-1746635400-1746642600@skhc.ca
SUMMARY:Young Thunderbirds Drum Group
DESCRIPTION:
URL:https://skhc.ca/event/young-thunderbirds-drum-group/2025-05-07/
LOCATION:Community Centre\, 105 Elm Street\, Suite E4\, Sudbury\, ON\, Canada
CATEGORIES:Traditional Program
ATTACH;FMTTYPE=image/jpeg:https://skhc.ca/wp-content/uploads/2025/01/IMG_1050_Edited_WEB.jpg
ORGANIZER;CN="Debbie Plain-McGregor":MAILTO:dplain-mcgregor@skhc.ca
GEO:46.4929321;-80.9986778
X-APPLE-STRUCTURED-LOCATION;VALUE=URI;X-ADDRESS=Community Centre 105 Elm Street Suite E4 Sudbury ON Canada;X-APPLE-RADIUS=500;X-TITLE=105 Elm Street\, Suite E4:geo:-80.9986778,46.4929321
END:VEVENT
BEGIN:VEVENT
DTSTART;TZID=America/Toronto:20250505T120000
DTEND;TZID=America/Toronto:20250505T130000
DTSTAMP:20260423T210231
CREATED:20250130T161712Z
LAST-MODIFIED:20250520T164241Z
UID:10002221-1746446400-1746450000@skhc.ca
SUMMARY:Yoga
DESCRIPTION:
URL:https://skhc.ca/event/yoga-2/2025-05-05/
LOCATION:Community Centre\, 105 Elm Street\, Suite E4\, Sudbury\, ON\, Canada
CATEGORIES:Community Programs
ATTACH;FMTTYPE=image/jpeg:https://skhc.ca/wp-content/uploads/2025/01/active-activity-adult-1308746_WEB.jpg
ORGANIZER;CN="Jordan Assinewe":MAILTO:jassinewe@skhc.ca
GEO:46.4929321;-80.9986778
X-APPLE-STRUCTURED-LOCATION;VALUE=URI;X-ADDRESS=Community Centre 105 Elm Street Suite E4 Sudbury ON Canada;X-APPLE-RADIUS=500;X-TITLE=105 Elm Street\, Suite E4:geo:-80.9986778,46.4929321
END:VEVENT
BEGIN:VEVENT
DTSTART;TZID=America/Toronto:20250430T163000
DTEND;TZID=America/Toronto:20250430T183000
DTSTAMP:20260423T210231
CREATED:20250130T160248Z
LAST-MODIFIED:20250130T183316Z
UID:10002187-1746030600-1746037800@skhc.ca
SUMMARY:Young Thunderbirds Drum Group
DESCRIPTION:
URL:https://skhc.ca/event/young-thunderbirds-drum-group/2025-04-30/
LOCATION:Community Centre\, 105 Elm Street\, Suite E4\, Sudbury\, ON\, Canada
CATEGORIES:Traditional Program
ATTACH;FMTTYPE=image/jpeg:https://skhc.ca/wp-content/uploads/2025/01/IMG_1050_Edited_WEB.jpg
ORGANIZER;CN="Debbie Plain-McGregor":MAILTO:dplain-mcgregor@skhc.ca
GEO:46.4929321;-80.9986778
X-APPLE-STRUCTURED-LOCATION;VALUE=URI;X-ADDRESS=Community Centre 105 Elm Street Suite E4 Sudbury ON Canada;X-APPLE-RADIUS=500;X-TITLE=105 Elm Street\, Suite E4:geo:-80.9986778,46.4929321
END:VEVENT
BEGIN:VEVENT
DTSTART;TZID=America/Toronto:20250428T120000
DTEND;TZID=America/Toronto:20250428T130000
DTSTAMP:20260423T210231
CREATED:20250130T161712Z
LAST-MODIFIED:20250520T164241Z
UID:10002220-1745841600-1745845200@skhc.ca
SUMMARY:Yoga
DESCRIPTION:
URL:https://skhc.ca/event/yoga-2/2025-04-28/
LOCATION:Community Centre\, 105 Elm Street\, Suite E4\, Sudbury\, ON\, Canada
CATEGORIES:Community Programs
ATTACH;FMTTYPE=image/jpeg:https://skhc.ca/wp-content/uploads/2025/01/active-activity-adult-1308746_WEB.jpg
ORGANIZER;CN="Jordan Assinewe":MAILTO:jassinewe@skhc.ca
GEO:46.4929321;-80.9986778
X-APPLE-STRUCTURED-LOCATION;VALUE=URI;X-ADDRESS=Community Centre 105 Elm Street Suite E4 Sudbury ON Canada;X-APPLE-RADIUS=500;X-TITLE=105 Elm Street\, Suite E4:geo:-80.9986778,46.4929321
END:VEVENT
BEGIN:VEVENT
DTSTART;TZID=America/Toronto:20250425T133000
DTEND;TZID=America/Toronto:20250425T153000
DTSTAMP:20260423T210231
CREATED:20250130T160714Z
LAST-MODIFIED:20250130T160714Z
UID:10002102-1745587800-1745595000@skhc.ca
SUMMARY:Manidoo-Minenhsag Beading Group
DESCRIPTION:
URL:https://skhc.ca/event/manidoo-minenhsag-beading-group-2/2025-04-25/
LOCATION:Community Centre\, 105 Elm Street\, Suite E4\, Sudbury\, ON\, Canada
CATEGORIES:Traditional Program
ATTACH;FMTTYPE=image/jpeg:https://skhc.ca/wp-content/uploads/2024/11/SKHC_TraditionalProgram_BeadingGroup_2024_BG-scaled.jpg
ORGANIZER;CN="Liz Eshkibok-Trudeau":MAILTO:eeshkibok@skhc.ca
GEO:46.4929321;-80.9986778
X-APPLE-STRUCTURED-LOCATION;VALUE=URI;X-ADDRESS=Community Centre 105 Elm Street Suite E4 Sudbury ON Canada;X-APPLE-RADIUS=500;X-TITLE=105 Elm Street\, Suite E4:geo:-80.9986778,46.4929321
END:VEVENT
BEGIN:VEVENT
DTSTART;TZID=America/Toronto:20250423T163000
DTEND;TZID=America/Toronto:20250423T183000
DTSTAMP:20260423T210231
CREATED:20250130T160248Z
LAST-MODIFIED:20250130T183316Z
UID:10002186-1745425800-1745433000@skhc.ca
SUMMARY:Young Thunderbirds Drum Group
DESCRIPTION:
URL:https://skhc.ca/event/young-thunderbirds-drum-group/2025-04-23/
LOCATION:Community Centre\, 105 Elm Street\, Suite E4\, Sudbury\, ON\, Canada
CATEGORIES:Traditional Program
ATTACH;FMTTYPE=image/jpeg:https://skhc.ca/wp-content/uploads/2025/01/IMG_1050_Edited_WEB.jpg
ORGANIZER;CN="Debbie Plain-McGregor":MAILTO:dplain-mcgregor@skhc.ca
GEO:46.4929321;-80.9986778
X-APPLE-STRUCTURED-LOCATION;VALUE=URI;X-ADDRESS=Community Centre 105 Elm Street Suite E4 Sudbury ON Canada;X-APPLE-RADIUS=500;X-TITLE=105 Elm Street\, Suite E4:geo:-80.9986778,46.4929321
END:VEVENT
BEGIN:VEVENT
DTSTART;TZID=America/Toronto:20250421T120000
DTEND;TZID=America/Toronto:20250421T130000
DTSTAMP:20260423T210231
CREATED:20250130T161712Z
LAST-MODIFIED:20250520T164241Z
UID:10002219-1745236800-1745240400@skhc.ca
SUMMARY:Yoga
DESCRIPTION:
URL:https://skhc.ca/event/yoga-2/2025-04-21/
LOCATION:Community Centre\, 105 Elm Street\, Suite E4\, Sudbury\, ON\, Canada
CATEGORIES:Community Programs
ATTACH;FMTTYPE=image/jpeg:https://skhc.ca/wp-content/uploads/2025/01/active-activity-adult-1308746_WEB.jpg
ORGANIZER;CN="Jordan Assinewe":MAILTO:jassinewe@skhc.ca
GEO:46.4929321;-80.9986778
X-APPLE-STRUCTURED-LOCATION;VALUE=URI;X-ADDRESS=Community Centre 105 Elm Street Suite E4 Sudbury ON Canada;X-APPLE-RADIUS=500;X-TITLE=105 Elm Street\, Suite E4:geo:-80.9986778,46.4929321
END:VEVENT
BEGIN:VEVENT
DTSTART;TZID=America/Toronto:20250416T163000
DTEND;TZID=America/Toronto:20250416T183000
DTSTAMP:20260423T210231
CREATED:20250130T160248Z
LAST-MODIFIED:20250130T183316Z
UID:10002185-1744821000-1744828200@skhc.ca
SUMMARY:Young Thunderbirds Drum Group
DESCRIPTION:
URL:https://skhc.ca/event/young-thunderbirds-drum-group/2025-04-16/
LOCATION:Community Centre\, 105 Elm Street\, Suite E4\, Sudbury\, ON\, Canada
CATEGORIES:Traditional Program
ATTACH;FMTTYPE=image/jpeg:https://skhc.ca/wp-content/uploads/2025/01/IMG_1050_Edited_WEB.jpg
ORGANIZER;CN="Debbie Plain-McGregor":MAILTO:dplain-mcgregor@skhc.ca
GEO:46.4929321;-80.9986778
X-APPLE-STRUCTURED-LOCATION;VALUE=URI;X-ADDRESS=Community Centre 105 Elm Street Suite E4 Sudbury ON Canada;X-APPLE-RADIUS=500;X-TITLE=105 Elm Street\, Suite E4:geo:-80.9986778,46.4929321
END:VEVENT
BEGIN:VEVENT
DTSTART;TZID=America/Toronto:20250414T120000
DTEND;TZID=America/Toronto:20250414T130000
DTSTAMP:20260423T210231
CREATED:20250130T161712Z
LAST-MODIFIED:20250520T164241Z
UID:10002218-1744632000-1744635600@skhc.ca
SUMMARY:Yoga
DESCRIPTION:
URL:https://skhc.ca/event/yoga-2/2025-04-14/
LOCATION:Community Centre\, 105 Elm Street\, Suite E4\, Sudbury\, ON\, Canada
CATEGORIES:Community Programs
ATTACH;FMTTYPE=image/jpeg:https://skhc.ca/wp-content/uploads/2025/01/active-activity-adult-1308746_WEB.jpg
ORGANIZER;CN="Jordan Assinewe":MAILTO:jassinewe@skhc.ca
GEO:46.4929321;-80.9986778
X-APPLE-STRUCTURED-LOCATION;VALUE=URI;X-ADDRESS=Community Centre 105 Elm Street Suite E4 Sudbury ON Canada;X-APPLE-RADIUS=500;X-TITLE=105 Elm Street\, Suite E4:geo:-80.9986778,46.4929321
END:VEVENT
BEGIN:VEVENT
DTSTART;TZID=America/Toronto:20250411T133000
DTEND;TZID=America/Toronto:20250411T153000
DTSTAMP:20260423T210231
CREATED:20250130T160714Z
LAST-MODIFIED:20250130T160714Z
UID:10002101-1744378200-1744385400@skhc.ca
SUMMARY:Manidoo-Minenhsag Beading Group
DESCRIPTION:
URL:https://skhc.ca/event/manidoo-minenhsag-beading-group-2/2025-04-11/
LOCATION:Community Centre\, 105 Elm Street\, Suite E4\, Sudbury\, ON\, Canada
CATEGORIES:Traditional Program
ATTACH;FMTTYPE=image/jpeg:https://skhc.ca/wp-content/uploads/2024/11/SKHC_TraditionalProgram_BeadingGroup_2024_BG-scaled.jpg
ORGANIZER;CN="Liz Eshkibok-Trudeau":MAILTO:eeshkibok@skhc.ca
GEO:46.4929321;-80.9986778
X-APPLE-STRUCTURED-LOCATION;VALUE=URI;X-ADDRESS=Community Centre 105 Elm Street Suite E4 Sudbury ON Canada;X-APPLE-RADIUS=500;X-TITLE=105 Elm Street\, Suite E4:geo:-80.9986778,46.4929321
END:VEVENT
BEGIN:VEVENT
DTSTART;TZID=America/Toronto:20250409T163000
DTEND;TZID=America/Toronto:20250409T183000
DTSTAMP:20260423T210231
CREATED:20250130T160248Z
LAST-MODIFIED:20250130T183316Z
UID:10002184-1744216200-1744223400@skhc.ca
SUMMARY:Young Thunderbirds Drum Group
DESCRIPTION:
URL:https://skhc.ca/event/young-thunderbirds-drum-group/2025-04-09/
LOCATION:Community Centre\, 105 Elm Street\, Suite E4\, Sudbury\, ON\, Canada
CATEGORIES:Traditional Program
ATTACH;FMTTYPE=image/jpeg:https://skhc.ca/wp-content/uploads/2025/01/IMG_1050_Edited_WEB.jpg
ORGANIZER;CN="Debbie Plain-McGregor":MAILTO:dplain-mcgregor@skhc.ca
GEO:46.4929321;-80.9986778
X-APPLE-STRUCTURED-LOCATION;VALUE=URI;X-ADDRESS=Community Centre 105 Elm Street Suite E4 Sudbury ON Canada;X-APPLE-RADIUS=500;X-TITLE=105 Elm Street\, Suite E4:geo:-80.9986778,46.4929321
END:VEVENT
BEGIN:VEVENT
DTSTART;TZID=America/Toronto:20250407T120000
DTEND;TZID=America/Toronto:20250407T130000
DTSTAMP:20260423T210231
CREATED:20250130T161712Z
LAST-MODIFIED:20250520T164241Z
UID:10002217-1744027200-1744030800@skhc.ca
SUMMARY:Yoga
DESCRIPTION:
URL:https://skhc.ca/event/yoga-2/2025-04-07/
LOCATION:Community Centre\, 105 Elm Street\, Suite E4\, Sudbury\, ON\, Canada
CATEGORIES:Community Programs
ATTACH;FMTTYPE=image/jpeg:https://skhc.ca/wp-content/uploads/2025/01/active-activity-adult-1308746_WEB.jpg
ORGANIZER;CN="Jordan Assinewe":MAILTO:jassinewe@skhc.ca
GEO:46.4929321;-80.9986778
X-APPLE-STRUCTURED-LOCATION;VALUE=URI;X-ADDRESS=Community Centre 105 Elm Street Suite E4 Sudbury ON Canada;X-APPLE-RADIUS=500;X-TITLE=105 Elm Street\, Suite E4:geo:-80.9986778,46.4929321
END:VEVENT
END:VCALENDAR