BEGIN:VCALENDAR
VERSION:2.0
PRODID:-//SKHC - ECPv6.15.18//NONSGML v1.0//EN
CALSCALE:GREGORIAN
METHOD:PUBLISH
X-ORIGINAL-URL:https://skhc.ca
X-WR-CALDESC:Events for SKHC
REFRESH-INTERVAL;VALUE=DURATION:PT1H
X-Robots-Tag:noindex
X-PUBLISHED-TTL:PT1H
BEGIN:VTIMEZONE
TZID:America/Toronto
BEGIN:DAYLIGHT
TZOFFSETFROM:-0500
TZOFFSETTO:-0400
TZNAME:EDT
DTSTART:20240310T070000
END:DAYLIGHT
BEGIN:STANDARD
TZOFFSETFROM:-0400
TZOFFSETTO:-0500
TZNAME:EST
DTSTART:20241103T060000
END:STANDARD
BEGIN:DAYLIGHT
TZOFFSETFROM:-0500
TZOFFSETTO:-0400
TZNAME:EDT
DTSTART:20250309T070000
END:DAYLIGHT
BEGIN:STANDARD
TZOFFSETFROM:-0400
TZOFFSETTO:-0500
TZNAME:EST
DTSTART:20251102T060000
END:STANDARD
BEGIN:DAYLIGHT
TZOFFSETFROM:-0500
TZOFFSETTO:-0400
TZNAME:EDT
DTSTART:20260308T070000
END:DAYLIGHT
BEGIN:STANDARD
TZOFFSETFROM:-0400
TZOFFSETTO:-0500
TZNAME:EST
DTSTART:20261101T060000
END:STANDARD
END:VTIMEZONE
BEGIN:VEVENT
DTSTART;TZID=America/Toronto:20250321T133000
DTEND;TZID=America/Toronto:20250321T153000
DTSTAMP:20260424T004915
CREATED:20250130T160714Z
LAST-MODIFIED:20250130T160714Z
UID:10002098-1742563800-1742571000@skhc.ca
SUMMARY:Manidoo-Minenhsag Beading Group
DESCRIPTION:
URL:https://skhc.ca/event/manidoo-minenhsag-beading-group-2/2025-03-21/
LOCATION:Community Centre\, 105 Elm Street\, Suite E4\, Sudbury\, ON\, Canada
CATEGORIES:Traditional Program
ATTACH;FMTTYPE=image/jpeg:https://skhc.ca/wp-content/uploads/2024/11/SKHC_TraditionalProgram_BeadingGroup_2024_BG-scaled.jpg
ORGANIZER;CN="Liz Eshkibok-Trudeau":MAILTO:eeshkibok@skhc.ca
GEO:46.4929321;-80.9986778
X-APPLE-STRUCTURED-LOCATION;VALUE=URI;X-ADDRESS=Community Centre 105 Elm Street Suite E4 Sudbury ON Canada;X-APPLE-RADIUS=500;X-TITLE=105 Elm Street\, Suite E4:geo:-80.9986778,46.4929321
END:VEVENT
BEGIN:VEVENT
DTSTART;TZID=America/Toronto:20250319T163000
DTEND;TZID=America/Toronto:20250319T183000
DTSTAMP:20260424T004915
CREATED:20250130T160248Z
LAST-MODIFIED:20250130T183316Z
UID:10002181-1742401800-1742409000@skhc.ca
SUMMARY:Young Thunderbirds Drum Group
DESCRIPTION:
URL:https://skhc.ca/event/young-thunderbirds-drum-group/2025-03-19/
LOCATION:Community Centre\, 105 Elm Street\, Suite E4\, Sudbury\, ON\, Canada
CATEGORIES:Traditional Program
ATTACH;FMTTYPE=image/jpeg:https://skhc.ca/wp-content/uploads/2025/01/IMG_1050_Edited_WEB.jpg
ORGANIZER;CN="Debbie Plain-McGregor":MAILTO:dplain-mcgregor@skhc.ca
GEO:46.4929321;-80.9986778
X-APPLE-STRUCTURED-LOCATION;VALUE=URI;X-ADDRESS=Community Centre 105 Elm Street Suite E4 Sudbury ON Canada;X-APPLE-RADIUS=500;X-TITLE=105 Elm Street\, Suite E4:geo:-80.9986778,46.4929321
END:VEVENT
BEGIN:VEVENT
DTSTART;TZID=America/Toronto:20250317T120000
DTEND;TZID=America/Toronto:20250317T130000
DTSTAMP:20260424T004915
CREATED:20250130T161712Z
LAST-MODIFIED:20250520T164241Z
UID:10002214-1742212800-1742216400@skhc.ca
SUMMARY:Yoga
DESCRIPTION:
URL:https://skhc.ca/event/yoga-2/2025-03-17/
LOCATION:Community Centre\, 105 Elm Street\, Suite E4\, Sudbury\, ON\, Canada
CATEGORIES:Community Programs
ATTACH;FMTTYPE=image/jpeg:https://skhc.ca/wp-content/uploads/2025/01/active-activity-adult-1308746_WEB.jpg
ORGANIZER;CN="Jordan Assinewe":MAILTO:jassinewe@skhc.ca
GEO:46.4929321;-80.9986778
X-APPLE-STRUCTURED-LOCATION;VALUE=URI;X-ADDRESS=Community Centre 105 Elm Street Suite E4 Sudbury ON Canada;X-APPLE-RADIUS=500;X-TITLE=105 Elm Street\, Suite E4:geo:-80.9986778,46.4929321
END:VEVENT
BEGIN:VEVENT
DTSTART;TZID=America/Toronto:20250314T133000
DTEND;TZID=America/Toronto:20250314T153000
DTSTAMP:20260424T004915
CREATED:20250130T160714Z
LAST-MODIFIED:20250130T160714Z
UID:10002097-1741959000-1741966200@skhc.ca
SUMMARY:Manidoo-Minenhsag Beading Group
DESCRIPTION:
URL:https://skhc.ca/event/manidoo-minenhsag-beading-group-2/2025-03-14/
LOCATION:Community Centre\, 105 Elm Street\, Suite E4\, Sudbury\, ON\, Canada
CATEGORIES:Traditional Program
ATTACH;FMTTYPE=image/jpeg:https://skhc.ca/wp-content/uploads/2024/11/SKHC_TraditionalProgram_BeadingGroup_2024_BG-scaled.jpg
ORGANIZER;CN="Liz Eshkibok-Trudeau":MAILTO:eeshkibok@skhc.ca
GEO:46.4929321;-80.9986778
X-APPLE-STRUCTURED-LOCATION;VALUE=URI;X-ADDRESS=Community Centre 105 Elm Street Suite E4 Sudbury ON Canada;X-APPLE-RADIUS=500;X-TITLE=105 Elm Street\, Suite E4:geo:-80.9986778,46.4929321
END:VEVENT
BEGIN:VEVENT
DTSTART;TZID=America/Toronto:20250312T163000
DTEND;TZID=America/Toronto:20250312T183000
DTSTAMP:20260424T004915
CREATED:20250130T160248Z
LAST-MODIFIED:20250130T183316Z
UID:10002180-1741797000-1741804200@skhc.ca
SUMMARY:Young Thunderbirds Drum Group
DESCRIPTION:
URL:https://skhc.ca/event/young-thunderbirds-drum-group/2025-03-12/
LOCATION:Community Centre\, 105 Elm Street\, Suite E4\, Sudbury\, ON\, Canada
CATEGORIES:Traditional Program
ATTACH;FMTTYPE=image/jpeg:https://skhc.ca/wp-content/uploads/2025/01/IMG_1050_Edited_WEB.jpg
ORGANIZER;CN="Debbie Plain-McGregor":MAILTO:dplain-mcgregor@skhc.ca
GEO:46.4929321;-80.9986778
X-APPLE-STRUCTURED-LOCATION;VALUE=URI;X-ADDRESS=Community Centre 105 Elm Street Suite E4 Sudbury ON Canada;X-APPLE-RADIUS=500;X-TITLE=105 Elm Street\, Suite E4:geo:-80.9986778,46.4929321
END:VEVENT
BEGIN:VEVENT
DTSTART;TZID=America/Toronto:20250310T120000
DTEND;TZID=America/Toronto:20250310T130000
DTSTAMP:20260424T004915
CREATED:20250130T161712Z
LAST-MODIFIED:20250520T164241Z
UID:10002213-1741608000-1741611600@skhc.ca
SUMMARY:Yoga
DESCRIPTION:
URL:https://skhc.ca/event/yoga-2/2025-03-10/
LOCATION:Community Centre\, 105 Elm Street\, Suite E4\, Sudbury\, ON\, Canada
CATEGORIES:Community Programs
ATTACH;FMTTYPE=image/jpeg:https://skhc.ca/wp-content/uploads/2025/01/active-activity-adult-1308746_WEB.jpg
ORGANIZER;CN="Jordan Assinewe":MAILTO:jassinewe@skhc.ca
GEO:46.4929321;-80.9986778
X-APPLE-STRUCTURED-LOCATION;VALUE=URI;X-ADDRESS=Community Centre 105 Elm Street Suite E4 Sudbury ON Canada;X-APPLE-RADIUS=500;X-TITLE=105 Elm Street\, Suite E4:geo:-80.9986778,46.4929321
END:VEVENT
BEGIN:VEVENT
DTSTART;TZID=America/Toronto:20250307T133000
DTEND;TZID=America/Toronto:20250307T153000
DTSTAMP:20260424T004915
CREATED:20250130T160714Z
LAST-MODIFIED:20250130T160714Z
UID:10002096-1741354200-1741361400@skhc.ca
SUMMARY:Manidoo-Minenhsag Beading Group
DESCRIPTION:
URL:https://skhc.ca/event/manidoo-minenhsag-beading-group-2/2025-03-07/
LOCATION:Community Centre\, 105 Elm Street\, Suite E4\, Sudbury\, ON\, Canada
CATEGORIES:Traditional Program
ATTACH;FMTTYPE=image/jpeg:https://skhc.ca/wp-content/uploads/2024/11/SKHC_TraditionalProgram_BeadingGroup_2024_BG-scaled.jpg
ORGANIZER;CN="Liz Eshkibok-Trudeau":MAILTO:eeshkibok@skhc.ca
GEO:46.4929321;-80.9986778
X-APPLE-STRUCTURED-LOCATION;VALUE=URI;X-ADDRESS=Community Centre 105 Elm Street Suite E4 Sudbury ON Canada;X-APPLE-RADIUS=500;X-TITLE=105 Elm Street\, Suite E4:geo:-80.9986778,46.4929321
END:VEVENT
BEGIN:VEVENT
DTSTART;TZID=America/Toronto:20250305T163000
DTEND;TZID=America/Toronto:20250305T183000
DTSTAMP:20260424T004915
CREATED:20250130T160248Z
LAST-MODIFIED:20250130T183316Z
UID:10002179-1741192200-1741199400@skhc.ca
SUMMARY:Young Thunderbirds Drum Group
DESCRIPTION:
URL:https://skhc.ca/event/young-thunderbirds-drum-group/2025-03-05/
LOCATION:Community Centre\, 105 Elm Street\, Suite E4\, Sudbury\, ON\, Canada
CATEGORIES:Traditional Program
ATTACH;FMTTYPE=image/jpeg:https://skhc.ca/wp-content/uploads/2025/01/IMG_1050_Edited_WEB.jpg
ORGANIZER;CN="Debbie Plain-McGregor":MAILTO:dplain-mcgregor@skhc.ca
GEO:46.4929321;-80.9986778
X-APPLE-STRUCTURED-LOCATION;VALUE=URI;X-ADDRESS=Community Centre 105 Elm Street Suite E4 Sudbury ON Canada;X-APPLE-RADIUS=500;X-TITLE=105 Elm Street\, Suite E4:geo:-80.9986778,46.4929321
END:VEVENT
BEGIN:VEVENT
DTSTART;TZID=America/Toronto:20250303T120000
DTEND;TZID=America/Toronto:20250303T130000
DTSTAMP:20260424T004915
CREATED:20250130T161712Z
LAST-MODIFIED:20250520T164241Z
UID:10002212-1741003200-1741006800@skhc.ca
SUMMARY:Yoga
DESCRIPTION:
URL:https://skhc.ca/event/yoga-2/2025-03-03/
LOCATION:Community Centre\, 105 Elm Street\, Suite E4\, Sudbury\, ON\, Canada
CATEGORIES:Community Programs
ATTACH;FMTTYPE=image/jpeg:https://skhc.ca/wp-content/uploads/2025/01/active-activity-adult-1308746_WEB.jpg
ORGANIZER;CN="Jordan Assinewe":MAILTO:jassinewe@skhc.ca
GEO:46.4929321;-80.9986778
X-APPLE-STRUCTURED-LOCATION;VALUE=URI;X-ADDRESS=Community Centre 105 Elm Street Suite E4 Sudbury ON Canada;X-APPLE-RADIUS=500;X-TITLE=105 Elm Street\, Suite E4:geo:-80.9986778,46.4929321
END:VEVENT
BEGIN:VEVENT
DTSTART;TZID=America/Toronto:20250228T133000
DTEND;TZID=America/Toronto:20250228T153000
DTSTAMP:20260424T004915
CREATED:20250130T160714Z
LAST-MODIFIED:20250130T160714Z
UID:10002095-1740749400-1740756600@skhc.ca
SUMMARY:Manidoo-Minenhsag Beading Group
DESCRIPTION:
URL:https://skhc.ca/event/manidoo-minenhsag-beading-group-2/2025-02-28/
LOCATION:Community Centre\, 105 Elm Street\, Suite E4\, Sudbury\, ON\, Canada
CATEGORIES:Traditional Program
ATTACH;FMTTYPE=image/jpeg:https://skhc.ca/wp-content/uploads/2024/11/SKHC_TraditionalProgram_BeadingGroup_2024_BG-scaled.jpg
ORGANIZER;CN="Liz Eshkibok-Trudeau":MAILTO:eeshkibok@skhc.ca
GEO:46.4929321;-80.9986778
X-APPLE-STRUCTURED-LOCATION;VALUE=URI;X-ADDRESS=Community Centre 105 Elm Street Suite E4 Sudbury ON Canada;X-APPLE-RADIUS=500;X-TITLE=105 Elm Street\, Suite E4:geo:-80.9986778,46.4929321
END:VEVENT
BEGIN:VEVENT
DTSTART;TZID=America/Toronto:20250226T163000
DTEND;TZID=America/Toronto:20250226T183000
DTSTAMP:20260424T004915
CREATED:20250130T160248Z
LAST-MODIFIED:20250130T183316Z
UID:10002178-1740587400-1740594600@skhc.ca
SUMMARY:Young Thunderbirds Drum Group
DESCRIPTION:
URL:https://skhc.ca/event/young-thunderbirds-drum-group/2025-02-26/
LOCATION:Community Centre\, 105 Elm Street\, Suite E4\, Sudbury\, ON\, Canada
CATEGORIES:Traditional Program
ATTACH;FMTTYPE=image/jpeg:https://skhc.ca/wp-content/uploads/2025/01/IMG_1050_Edited_WEB.jpg
ORGANIZER;CN="Debbie Plain-McGregor":MAILTO:dplain-mcgregor@skhc.ca
GEO:46.4929321;-80.9986778
X-APPLE-STRUCTURED-LOCATION;VALUE=URI;X-ADDRESS=Community Centre 105 Elm Street Suite E4 Sudbury ON Canada;X-APPLE-RADIUS=500;X-TITLE=105 Elm Street\, Suite E4:geo:-80.9986778,46.4929321
END:VEVENT
BEGIN:VEVENT
DTSTART;TZID=America/Toronto:20250226T160000
DTEND;TZID=America/Toronto:20250226T180000
DTSTAMP:20260424T004915
CREATED:20250203T203751Z
LAST-MODIFIED:20250203T203751Z
UID:10002211-1740585600-1740592800@skhc.ca
SUMMARY:Cooking with Kids
DESCRIPTION:
URL:https://skhc.ca/event/cooking-with-kids-2/
LOCATION:Community Centre\, 105 Elm Street\, Suite E4\, Sudbury\, ON\, Canada
CATEGORIES:Community Programs
ATTACH;FMTTYPE=image/jpeg:https://skhc.ca/wp-content/uploads/2024/05/SKHC_1017_WEB.jpg
ORGANIZER;CN="Jordan Assinewe":MAILTO:jassinewe@skhc.ca
GEO:46.4929321;-80.9986778
X-APPLE-STRUCTURED-LOCATION;VALUE=URI;X-ADDRESS=Community Centre 105 Elm Street Suite E4 Sudbury ON Canada;X-APPLE-RADIUS=500;X-TITLE=105 Elm Street\, Suite E4:geo:-80.9986778,46.4929321
END:VEVENT
BEGIN:VEVENT
DTSTART;TZID=America/Toronto:20250224T170000
DTEND;TZID=America/Toronto:20250224T190000
DTSTAMP:20260424T004915
CREATED:20250203T201831Z
LAST-MODIFIED:20250203T201831Z
UID:10002210-1740416400-1740423600@skhc.ca
SUMMARY:Traditional Cooking Class
DESCRIPTION:
URL:https://skhc.ca/event/traditional-cooking-class/
LOCATION:Community Centre\, 105 Elm Street\, Suite E4\, Sudbury\, ON\, Canada
CATEGORIES:Traditional Program
ATTACH;FMTTYPE=image/jpeg:https://skhc.ca/wp-content/uploads/2025/02/DSC_7122_Edited_CROP_WEB.jpg
GEO:46.4929321;-80.9986778
X-APPLE-STRUCTURED-LOCATION;VALUE=URI;X-ADDRESS=Community Centre 105 Elm Street Suite E4 Sudbury ON Canada;X-APPLE-RADIUS=500;X-TITLE=105 Elm Street\, Suite E4:geo:-80.9986778,46.4929321
END:VEVENT
BEGIN:VEVENT
DTSTART;TZID=America/Toronto:20250224T120000
DTEND;TZID=America/Toronto:20250224T130000
DTSTAMP:20260424T004915
CREATED:20250130T161712Z
LAST-MODIFIED:20250520T164241Z
UID:10002109-1740398400-1740402000@skhc.ca
SUMMARY:Yoga
DESCRIPTION:
URL:https://skhc.ca/event/yoga-2/2025-02-24/
LOCATION:Community Centre\, 105 Elm Street\, Suite E4\, Sudbury\, ON\, Canada
CATEGORIES:Community Programs
ATTACH;FMTTYPE=image/jpeg:https://skhc.ca/wp-content/uploads/2025/01/active-activity-adult-1308746_WEB.jpg
ORGANIZER;CN="Jordan Assinewe":MAILTO:jassinewe@skhc.ca
GEO:46.4929321;-80.9986778
X-APPLE-STRUCTURED-LOCATION;VALUE=URI;X-ADDRESS=Community Centre 105 Elm Street Suite E4 Sudbury ON Canada;X-APPLE-RADIUS=500;X-TITLE=105 Elm Street\, Suite E4:geo:-80.9986778,46.4929321
END:VEVENT
BEGIN:VEVENT
DTSTART;TZID=America/Toronto:20250221T133000
DTEND;TZID=America/Toronto:20250221T153000
DTSTAMP:20260424T004915
CREATED:20250130T160714Z
LAST-MODIFIED:20250130T160714Z
UID:10002094-1740144600-1740151800@skhc.ca
SUMMARY:Manidoo-Minenhsag Beading Group
DESCRIPTION:
URL:https://skhc.ca/event/manidoo-minenhsag-beading-group-2/2025-02-21/
LOCATION:Community Centre\, 105 Elm Street\, Suite E4\, Sudbury\, ON\, Canada
CATEGORIES:Traditional Program
ATTACH;FMTTYPE=image/jpeg:https://skhc.ca/wp-content/uploads/2024/11/SKHC_TraditionalProgram_BeadingGroup_2024_BG-scaled.jpg
ORGANIZER;CN="Liz Eshkibok-Trudeau":MAILTO:eeshkibok@skhc.ca
GEO:46.4929321;-80.9986778
X-APPLE-STRUCTURED-LOCATION;VALUE=URI;X-ADDRESS=Community Centre 105 Elm Street Suite E4 Sudbury ON Canada;X-APPLE-RADIUS=500;X-TITLE=105 Elm Street\, Suite E4:geo:-80.9986778,46.4929321
END:VEVENT
BEGIN:VEVENT
DTSTART;TZID=America/Toronto:20250219T163000
DTEND;TZID=America/Toronto:20250219T183000
DTSTAMP:20260424T004915
CREATED:20250130T160248Z
LAST-MODIFIED:20250130T183316Z
UID:10002177-1739982600-1739989800@skhc.ca
SUMMARY:Young Thunderbirds Drum Group
DESCRIPTION:
URL:https://skhc.ca/event/young-thunderbirds-drum-group/2025-02-19/
LOCATION:Community Centre\, 105 Elm Street\, Suite E4\, Sudbury\, ON\, Canada
CATEGORIES:Traditional Program
ATTACH;FMTTYPE=image/jpeg:https://skhc.ca/wp-content/uploads/2025/01/IMG_1050_Edited_WEB.jpg
ORGANIZER;CN="Debbie Plain-McGregor":MAILTO:dplain-mcgregor@skhc.ca
GEO:46.4929321;-80.9986778
X-APPLE-STRUCTURED-LOCATION;VALUE=URI;X-ADDRESS=Community Centre 105 Elm Street Suite E4 Sudbury ON Canada;X-APPLE-RADIUS=500;X-TITLE=105 Elm Street\, Suite E4:geo:-80.9986778,46.4929321
END:VEVENT
BEGIN:VEVENT
DTSTART;TZID=America/Toronto:20250214T133000
DTEND;TZID=America/Toronto:20250214T153000
DTSTAMP:20260424T004915
CREATED:20250130T160714Z
LAST-MODIFIED:20250130T160714Z
UID:10002093-1739539800-1739547000@skhc.ca
SUMMARY:Manidoo-Minenhsag Beading Group
DESCRIPTION:
URL:https://skhc.ca/event/manidoo-minenhsag-beading-group-2/2025-02-14/
LOCATION:Community Centre\, 105 Elm Street\, Suite E4\, Sudbury\, ON\, Canada
CATEGORIES:Traditional Program
ATTACH;FMTTYPE=image/jpeg:https://skhc.ca/wp-content/uploads/2024/11/SKHC_TraditionalProgram_BeadingGroup_2024_BG-scaled.jpg
ORGANIZER;CN="Liz Eshkibok-Trudeau":MAILTO:eeshkibok@skhc.ca
GEO:46.4929321;-80.9986778
X-APPLE-STRUCTURED-LOCATION;VALUE=URI;X-ADDRESS=Community Centre 105 Elm Street Suite E4 Sudbury ON Canada;X-APPLE-RADIUS=500;X-TITLE=105 Elm Street\, Suite E4:geo:-80.9986778,46.4929321
END:VEVENT
BEGIN:VEVENT
DTSTART;TZID=America/Toronto:20250212T163000
DTEND;TZID=America/Toronto:20250212T183000
DTSTAMP:20260424T004915
CREATED:20250130T160248Z
LAST-MODIFIED:20250130T183316Z
UID:10002176-1739377800-1739385000@skhc.ca
SUMMARY:Young Thunderbirds Drum Group
DESCRIPTION:
URL:https://skhc.ca/event/young-thunderbirds-drum-group/2025-02-12/
LOCATION:Community Centre\, 105 Elm Street\, Suite E4\, Sudbury\, ON\, Canada
CATEGORIES:Traditional Program
ATTACH;FMTTYPE=image/jpeg:https://skhc.ca/wp-content/uploads/2025/01/IMG_1050_Edited_WEB.jpg
ORGANIZER;CN="Debbie Plain-McGregor":MAILTO:dplain-mcgregor@skhc.ca
GEO:46.4929321;-80.9986778
X-APPLE-STRUCTURED-LOCATION;VALUE=URI;X-ADDRESS=Community Centre 105 Elm Street Suite E4 Sudbury ON Canada;X-APPLE-RADIUS=500;X-TITLE=105 Elm Street\, Suite E4:geo:-80.9986778,46.4929321
END:VEVENT
BEGIN:VEVENT
DTSTART;TZID=America/Toronto:20250210T120000
DTEND;TZID=America/Toronto:20250210T130000
DTSTAMP:20260424T004915
CREATED:20250130T161712Z
LAST-MODIFIED:20250520T164241Z
UID:10002108-1739188800-1739192400@skhc.ca
SUMMARY:Yoga
DESCRIPTION:
URL:https://skhc.ca/event/yoga-2/2025-02-10/
LOCATION:Community Centre\, 105 Elm Street\, Suite E4\, Sudbury\, ON\, Canada
CATEGORIES:Community Programs
ATTACH;FMTTYPE=image/jpeg:https://skhc.ca/wp-content/uploads/2025/01/active-activity-adult-1308746_WEB.jpg
ORGANIZER;CN="Jordan Assinewe":MAILTO:jassinewe@skhc.ca
GEO:46.4929321;-80.9986778
X-APPLE-STRUCTURED-LOCATION;VALUE=URI;X-ADDRESS=Community Centre 105 Elm Street Suite E4 Sudbury ON Canada;X-APPLE-RADIUS=500;X-TITLE=105 Elm Street\, Suite E4:geo:-80.9986778,46.4929321
END:VEVENT
BEGIN:VEVENT
DTSTART;TZID=America/Toronto:20250207T133000
DTEND;TZID=America/Toronto:20250207T153000
DTSTAMP:20260424T004915
CREATED:20250130T160714Z
LAST-MODIFIED:20250130T160714Z
UID:10002092-1738935000-1738942200@skhc.ca
SUMMARY:Manidoo-Minenhsag Beading Group
DESCRIPTION:
URL:https://skhc.ca/event/manidoo-minenhsag-beading-group-2/2025-02-07/
LOCATION:Community Centre\, 105 Elm Street\, Suite E4\, Sudbury\, ON\, Canada
CATEGORIES:Traditional Program
ATTACH;FMTTYPE=image/jpeg:https://skhc.ca/wp-content/uploads/2024/11/SKHC_TraditionalProgram_BeadingGroup_2024_BG-scaled.jpg
ORGANIZER;CN="Liz Eshkibok-Trudeau":MAILTO:eeshkibok@skhc.ca
GEO:46.4929321;-80.9986778
X-APPLE-STRUCTURED-LOCATION;VALUE=URI;X-ADDRESS=Community Centre 105 Elm Street Suite E4 Sudbury ON Canada;X-APPLE-RADIUS=500;X-TITLE=105 Elm Street\, Suite E4:geo:-80.9986778,46.4929321
END:VEVENT
BEGIN:VEVENT
DTSTART;TZID=America/Toronto:20250206T170000
DTEND;TZID=America/Toronto:20250206T190000
DTSTAMP:20260424T004915
CREATED:20250130T181200Z
LAST-MODIFIED:20250130T181200Z
UID:10002170-1738861200-1738868400@skhc.ca
SUMMARY:Mnaadendijigaazod Mkwa Jichaakwan
DESCRIPTION:Feast to honour Mkwa Giizis.
URL:https://skhc.ca/event/mnaadendijigaazod-mkwa-jichaakwan/
LOCATION:Community Centre\, 105 Elm Street\, Suite E4\, Sudbury\, ON\, Canada
CATEGORIES:Traditional Program
ATTACH;FMTTYPE=image/jpeg:https://skhc.ca/wp-content/uploads/2025/01/SKHC_TraditionalProgram_BearFeast_February2025_Header.jpg
ORGANIZER;CN="Liz Eshkibok-Trudeau":MAILTO:eeshkibok@skhc.ca
GEO:46.4929321;-80.9986778
X-APPLE-STRUCTURED-LOCATION;VALUE=URI;X-ADDRESS=Community Centre 105 Elm Street Suite E4 Sudbury ON Canada;X-APPLE-RADIUS=500;X-TITLE=105 Elm Street\, Suite E4:geo:-80.9986778,46.4929321
END:VEVENT
BEGIN:VEVENT
DTSTART;TZID=America/Toronto:20250205T163000
DTEND;TZID=America/Toronto:20250205T183000
DTSTAMP:20260424T004915
CREATED:20250130T160248Z
LAST-MODIFIED:20250130T183316Z
UID:10002175-1738773000-1738780200@skhc.ca
SUMMARY:Young Thunderbirds Drum Group
DESCRIPTION:
URL:https://skhc.ca/event/young-thunderbirds-drum-group/2025-02-05/
LOCATION:Community Centre\, 105 Elm Street\, Suite E4\, Sudbury\, ON\, Canada
CATEGORIES:Traditional Program
ATTACH;FMTTYPE=image/jpeg:https://skhc.ca/wp-content/uploads/2025/01/IMG_1050_Edited_WEB.jpg
ORGANIZER;CN="Debbie Plain-McGregor":MAILTO:dplain-mcgregor@skhc.ca
GEO:46.4929321;-80.9986778
X-APPLE-STRUCTURED-LOCATION;VALUE=URI;X-ADDRESS=Community Centre 105 Elm Street Suite E4 Sudbury ON Canada;X-APPLE-RADIUS=500;X-TITLE=105 Elm Street\, Suite E4:geo:-80.9986778,46.4929321
END:VEVENT
BEGIN:VEVENT
DTSTART;TZID=America/Toronto:20250203T120000
DTEND;TZID=America/Toronto:20250203T130000
DTSTAMP:20260424T004915
CREATED:20250130T161712Z
LAST-MODIFIED:20250520T164241Z
UID:10002107-1738584000-1738587600@skhc.ca
SUMMARY:Yoga
DESCRIPTION:
URL:https://skhc.ca/event/yoga-2/2025-02-03/
LOCATION:Community Centre\, 105 Elm Street\, Suite E4\, Sudbury\, ON\, Canada
CATEGORIES:Community Programs
ATTACH;FMTTYPE=image/jpeg:https://skhc.ca/wp-content/uploads/2025/01/active-activity-adult-1308746_WEB.jpg
ORGANIZER;CN="Jordan Assinewe":MAILTO:jassinewe@skhc.ca
GEO:46.4929321;-80.9986778
X-APPLE-STRUCTURED-LOCATION;VALUE=URI;X-ADDRESS=Community Centre 105 Elm Street Suite E4 Sudbury ON Canada;X-APPLE-RADIUS=500;X-TITLE=105 Elm Street\, Suite E4:geo:-80.9986778,46.4929321
END:VEVENT
BEGIN:VEVENT
DTSTART;TZID=America/Toronto:20250131T133000
DTEND;TZID=America/Toronto:20250131T153000
DTSTAMP:20260424T004915
CREATED:20250130T160714Z
LAST-MODIFIED:20250130T160714Z
UID:10002091-1738330200-1738337400@skhc.ca
SUMMARY:Manidoo-Minenhsag Beading Group
DESCRIPTION:
URL:https://skhc.ca/event/manidoo-minenhsag-beading-group-2/2025-01-31/
LOCATION:Community Centre\, 105 Elm Street\, Suite E4\, Sudbury\, ON\, Canada
CATEGORIES:Traditional Program
ATTACH;FMTTYPE=image/jpeg:https://skhc.ca/wp-content/uploads/2024/11/SKHC_TraditionalProgram_BeadingGroup_2024_BG-scaled.jpg
ORGANIZER;CN="Liz Eshkibok-Trudeau":MAILTO:eeshkibok@skhc.ca
GEO:46.4929321;-80.9986778
X-APPLE-STRUCTURED-LOCATION;VALUE=URI;X-ADDRESS=Community Centre 105 Elm Street Suite E4 Sudbury ON Canada;X-APPLE-RADIUS=500;X-TITLE=105 Elm Street\, Suite E4:geo:-80.9986778,46.4929321
END:VEVENT
BEGIN:VEVENT
DTSTART;TZID=America/Toronto:20250129T163000
DTEND;TZID=America/Toronto:20250129T183000
DTSTAMP:20260424T004915
CREATED:20250130T160248Z
LAST-MODIFIED:20250130T183316Z
UID:10002174-1738168200-1738175400@skhc.ca
SUMMARY:Young Thunderbirds Drum Group
DESCRIPTION:
URL:https://skhc.ca/event/young-thunderbirds-drum-group/2025-01-29/
LOCATION:Community Centre\, 105 Elm Street\, Suite E4\, Sudbury\, ON\, Canada
CATEGORIES:Traditional Program
ATTACH;FMTTYPE=image/jpeg:https://skhc.ca/wp-content/uploads/2025/01/IMG_1050_Edited_WEB.jpg
ORGANIZER;CN="Debbie Plain-McGregor":MAILTO:dplain-mcgregor@skhc.ca
GEO:46.4929321;-80.9986778
X-APPLE-STRUCTURED-LOCATION;VALUE=URI;X-ADDRESS=Community Centre 105 Elm Street Suite E4 Sudbury ON Canada;X-APPLE-RADIUS=500;X-TITLE=105 Elm Street\, Suite E4:geo:-80.9986778,46.4929321
END:VEVENT
BEGIN:VEVENT
DTSTART;TZID=America/Toronto:20250127T120000
DTEND;TZID=America/Toronto:20250127T130000
DTSTAMP:20260424T004915
CREATED:20250130T161712Z
LAST-MODIFIED:20250520T164241Z
UID:10002106-1737979200-1737982800@skhc.ca
SUMMARY:Yoga
DESCRIPTION:
URL:https://skhc.ca/event/yoga-2/2025-01-27/
LOCATION:Community Centre\, 105 Elm Street\, Suite E4\, Sudbury\, ON\, Canada
CATEGORIES:Community Programs
ATTACH;FMTTYPE=image/jpeg:https://skhc.ca/wp-content/uploads/2025/01/active-activity-adult-1308746_WEB.jpg
ORGANIZER;CN="Jordan Assinewe":MAILTO:jassinewe@skhc.ca
GEO:46.4929321;-80.9986778
X-APPLE-STRUCTURED-LOCATION;VALUE=URI;X-ADDRESS=Community Centre 105 Elm Street Suite E4 Sudbury ON Canada;X-APPLE-RADIUS=500;X-TITLE=105 Elm Street\, Suite E4:geo:-80.9986778,46.4929321
END:VEVENT
BEGIN:VEVENT
DTSTART;TZID=America/Toronto:20250122T163000
DTEND;TZID=America/Toronto:20250122T183000
DTSTAMP:20260424T004915
CREATED:20250130T160248Z
LAST-MODIFIED:20250130T183316Z
UID:10002173-1737563400-1737570600@skhc.ca
SUMMARY:Young Thunderbirds Drum Group
DESCRIPTION:
URL:https://skhc.ca/event/young-thunderbirds-drum-group/2025-01-22/
LOCATION:Community Centre\, 105 Elm Street\, Suite E4\, Sudbury\, ON\, Canada
CATEGORIES:Traditional Program
ATTACH;FMTTYPE=image/jpeg:https://skhc.ca/wp-content/uploads/2025/01/IMG_1050_Edited_WEB.jpg
ORGANIZER;CN="Debbie Plain-McGregor":MAILTO:dplain-mcgregor@skhc.ca
GEO:46.4929321;-80.9986778
X-APPLE-STRUCTURED-LOCATION;VALUE=URI;X-ADDRESS=Community Centre 105 Elm Street Suite E4 Sudbury ON Canada;X-APPLE-RADIUS=500;X-TITLE=105 Elm Street\, Suite E4:geo:-80.9986778,46.4929321
END:VEVENT
BEGIN:VEVENT
DTSTART;TZID=America/Toronto:20250120T120000
DTEND;TZID=America/Toronto:20250120T130000
DTSTAMP:20260424T004915
CREATED:20250130T161712Z
LAST-MODIFIED:20250520T164241Z
UID:10002105-1737374400-1737378000@skhc.ca
SUMMARY:Yoga
DESCRIPTION:
URL:https://skhc.ca/event/yoga-2/2025-01-20/
LOCATION:Community Centre\, 105 Elm Street\, Suite E4\, Sudbury\, ON\, Canada
CATEGORIES:Community Programs
ATTACH;FMTTYPE=image/jpeg:https://skhc.ca/wp-content/uploads/2025/01/active-activity-adult-1308746_WEB.jpg
ORGANIZER;CN="Jordan Assinewe":MAILTO:jassinewe@skhc.ca
GEO:46.4929321;-80.9986778
X-APPLE-STRUCTURED-LOCATION;VALUE=URI;X-ADDRESS=Community Centre 105 Elm Street Suite E4 Sudbury ON Canada;X-APPLE-RADIUS=500;X-TITLE=105 Elm Street\, Suite E4:geo:-80.9986778,46.4929321
END:VEVENT
BEGIN:VEVENT
DTSTART;TZID=America/Toronto:20250117T133000
DTEND;TZID=America/Toronto:20250117T153000
DTSTAMP:20260424T004915
CREATED:20250130T160714Z
LAST-MODIFIED:20250130T160714Z
UID:10002090-1737120600-1737127800@skhc.ca
SUMMARY:Manidoo-Minenhsag Beading Group
DESCRIPTION:
URL:https://skhc.ca/event/manidoo-minenhsag-beading-group-2/2025-01-17/
LOCATION:Community Centre\, 105 Elm Street\, Suite E4\, Sudbury\, ON\, Canada
CATEGORIES:Traditional Program
ATTACH;FMTTYPE=image/jpeg:https://skhc.ca/wp-content/uploads/2024/11/SKHC_TraditionalProgram_BeadingGroup_2024_BG-scaled.jpg
ORGANIZER;CN="Liz Eshkibok-Trudeau":MAILTO:eeshkibok@skhc.ca
GEO:46.4929321;-80.9986778
X-APPLE-STRUCTURED-LOCATION;VALUE=URI;X-ADDRESS=Community Centre 105 Elm Street Suite E4 Sudbury ON Canada;X-APPLE-RADIUS=500;X-TITLE=105 Elm Street\, Suite E4:geo:-80.9986778,46.4929321
END:VEVENT
BEGIN:VEVENT
DTSTART;TZID=America/Toronto:20250115T163000
DTEND;TZID=America/Toronto:20250115T183000
DTSTAMP:20260424T004915
CREATED:20250130T160248Z
LAST-MODIFIED:20250130T183316Z
UID:10002172-1736958600-1736965800@skhc.ca
SUMMARY:Young Thunderbirds Drum Group
DESCRIPTION:
URL:https://skhc.ca/event/young-thunderbirds-drum-group/2025-01-15/
LOCATION:Community Centre\, 105 Elm Street\, Suite E4\, Sudbury\, ON\, Canada
CATEGORIES:Traditional Program
ATTACH;FMTTYPE=image/jpeg:https://skhc.ca/wp-content/uploads/2025/01/IMG_1050_Edited_WEB.jpg
ORGANIZER;CN="Debbie Plain-McGregor":MAILTO:dplain-mcgregor@skhc.ca
GEO:46.4929321;-80.9986778
X-APPLE-STRUCTURED-LOCATION;VALUE=URI;X-ADDRESS=Community Centre 105 Elm Street Suite E4 Sudbury ON Canada;X-APPLE-RADIUS=500;X-TITLE=105 Elm Street\, Suite E4:geo:-80.9986778,46.4929321
END:VEVENT
END:VCALENDAR