BEGIN:VCALENDAR
VERSION:2.0
PRODID:-//SKHC - ECPv6.15.18//NONSGML v1.0//EN
CALSCALE:GREGORIAN
METHOD:PUBLISH
X-WR-CALNAME:SKHC
X-ORIGINAL-URL:https://skhc.ca
X-WR-CALDESC:Events for SKHC
REFRESH-INTERVAL;VALUE=DURATION:PT1H
X-Robots-Tag:noindex
X-PUBLISHED-TTL:PT1H
BEGIN:VTIMEZONE
TZID:America/Toronto
BEGIN:DAYLIGHT
TZOFFSETFROM:-0500
TZOFFSETTO:-0400
TZNAME:EDT
DTSTART:20230312T070000
END:DAYLIGHT
BEGIN:STANDARD
TZOFFSETFROM:-0400
TZOFFSETTO:-0500
TZNAME:EST
DTSTART:20231105T060000
END:STANDARD
BEGIN:DAYLIGHT
TZOFFSETFROM:-0500
TZOFFSETTO:-0400
TZNAME:EDT
DTSTART:20240310T070000
END:DAYLIGHT
BEGIN:STANDARD
TZOFFSETFROM:-0400
TZOFFSETTO:-0500
TZNAME:EST
DTSTART:20241103T060000
END:STANDARD
BEGIN:DAYLIGHT
TZOFFSETFROM:-0500
TZOFFSETTO:-0400
TZNAME:EDT
DTSTART:20250309T070000
END:DAYLIGHT
BEGIN:STANDARD
TZOFFSETFROM:-0400
TZOFFSETTO:-0500
TZNAME:EST
DTSTART:20251102T060000
END:STANDARD
BEGIN:DAYLIGHT
TZOFFSETFROM:-0500
TZOFFSETTO:-0400
TZNAME:EDT
DTSTART:20260308T070000
END:DAYLIGHT
BEGIN:STANDARD
TZOFFSETFROM:-0400
TZOFFSETTO:-0500
TZNAME:EST
DTSTART:20261101T060000
END:STANDARD
END:VTIMEZONE
BEGIN:VEVENT
DTSTART;TZID=America/Toronto:20250129T163000
DTEND;TZID=America/Toronto:20250129T183000
DTSTAMP:20260424T034133
CREATED:20250130T160248Z
LAST-MODIFIED:20250130T183316Z
UID:10002174-1738168200-1738175400@skhc.ca
SUMMARY:Young Thunderbirds Drum Group
DESCRIPTION:
URL:https://skhc.ca/event/young-thunderbirds-drum-group/2025-01-29/
LOCATION:Community Centre\, 105 Elm Street\, Suite E4\, Sudbury\, ON\, Canada
CATEGORIES:Traditional Program
ATTACH;FMTTYPE=image/jpeg:https://skhc.ca/wp-content/uploads/2025/01/IMG_1050_Edited_WEB.jpg
ORGANIZER;CN="Debbie Plain-McGregor":MAILTO:dplain-mcgregor@skhc.ca
GEO:46.4929321;-80.9986778
X-APPLE-STRUCTURED-LOCATION;VALUE=URI;X-ADDRESS=Community Centre 105 Elm Street Suite E4 Sudbury ON Canada;X-APPLE-RADIUS=500;X-TITLE=105 Elm Street\, Suite E4:geo:-80.9986778,46.4929321
END:VEVENT
BEGIN:VEVENT
DTSTART;TZID=America/Toronto:20250127T120000
DTEND;TZID=America/Toronto:20250127T130000
DTSTAMP:20260424T034133
CREATED:20250130T161712Z
LAST-MODIFIED:20250520T164241Z
UID:10002106-1737979200-1737982800@skhc.ca
SUMMARY:Yoga
DESCRIPTION:
URL:https://skhc.ca/event/yoga-2/2025-01-27/
LOCATION:Community Centre\, 105 Elm Street\, Suite E4\, Sudbury\, ON\, Canada
CATEGORIES:Community Programs
ATTACH;FMTTYPE=image/jpeg:https://skhc.ca/wp-content/uploads/2025/01/active-activity-adult-1308746_WEB.jpg
ORGANIZER;CN="Jordan Assinewe":MAILTO:jassinewe@skhc.ca
GEO:46.4929321;-80.9986778
X-APPLE-STRUCTURED-LOCATION;VALUE=URI;X-ADDRESS=Community Centre 105 Elm Street Suite E4 Sudbury ON Canada;X-APPLE-RADIUS=500;X-TITLE=105 Elm Street\, Suite E4:geo:-80.9986778,46.4929321
END:VEVENT
BEGIN:VEVENT
DTSTART;TZID=America/Toronto:20250122T163000
DTEND;TZID=America/Toronto:20250122T183000
DTSTAMP:20260424T034133
CREATED:20250130T160248Z
LAST-MODIFIED:20250130T183316Z
UID:10002173-1737563400-1737570600@skhc.ca
SUMMARY:Young Thunderbirds Drum Group
DESCRIPTION:
URL:https://skhc.ca/event/young-thunderbirds-drum-group/2025-01-22/
LOCATION:Community Centre\, 105 Elm Street\, Suite E4\, Sudbury\, ON\, Canada
CATEGORIES:Traditional Program
ATTACH;FMTTYPE=image/jpeg:https://skhc.ca/wp-content/uploads/2025/01/IMG_1050_Edited_WEB.jpg
ORGANIZER;CN="Debbie Plain-McGregor":MAILTO:dplain-mcgregor@skhc.ca
GEO:46.4929321;-80.9986778
X-APPLE-STRUCTURED-LOCATION;VALUE=URI;X-ADDRESS=Community Centre 105 Elm Street Suite E4 Sudbury ON Canada;X-APPLE-RADIUS=500;X-TITLE=105 Elm Street\, Suite E4:geo:-80.9986778,46.4929321
END:VEVENT
BEGIN:VEVENT
DTSTART;TZID=America/Toronto:20250120T120000
DTEND;TZID=America/Toronto:20250120T130000
DTSTAMP:20260424T034133
CREATED:20250130T161712Z
LAST-MODIFIED:20250520T164241Z
UID:10002105-1737374400-1737378000@skhc.ca
SUMMARY:Yoga
DESCRIPTION:
URL:https://skhc.ca/event/yoga-2/2025-01-20/
LOCATION:Community Centre\, 105 Elm Street\, Suite E4\, Sudbury\, ON\, Canada
CATEGORIES:Community Programs
ATTACH;FMTTYPE=image/jpeg:https://skhc.ca/wp-content/uploads/2025/01/active-activity-adult-1308746_WEB.jpg
ORGANIZER;CN="Jordan Assinewe":MAILTO:jassinewe@skhc.ca
GEO:46.4929321;-80.9986778
X-APPLE-STRUCTURED-LOCATION;VALUE=URI;X-ADDRESS=Community Centre 105 Elm Street Suite E4 Sudbury ON Canada;X-APPLE-RADIUS=500;X-TITLE=105 Elm Street\, Suite E4:geo:-80.9986778,46.4929321
END:VEVENT
BEGIN:VEVENT
DTSTART;TZID=America/Toronto:20250117T133000
DTEND;TZID=America/Toronto:20250117T153000
DTSTAMP:20260424T034133
CREATED:20250130T160714Z
LAST-MODIFIED:20250130T160714Z
UID:10002090-1737120600-1737127800@skhc.ca
SUMMARY:Manidoo-Minenhsag Beading Group
DESCRIPTION:
URL:https://skhc.ca/event/manidoo-minenhsag-beading-group-2/2025-01-17/
LOCATION:Community Centre\, 105 Elm Street\, Suite E4\, Sudbury\, ON\, Canada
CATEGORIES:Traditional Program
ATTACH;FMTTYPE=image/jpeg:https://skhc.ca/wp-content/uploads/2024/11/SKHC_TraditionalProgram_BeadingGroup_2024_BG-scaled.jpg
ORGANIZER;CN="Liz Eshkibok-Trudeau":MAILTO:eeshkibok@skhc.ca
GEO:46.4929321;-80.9986778
X-APPLE-STRUCTURED-LOCATION;VALUE=URI;X-ADDRESS=Community Centre 105 Elm Street Suite E4 Sudbury ON Canada;X-APPLE-RADIUS=500;X-TITLE=105 Elm Street\, Suite E4:geo:-80.9986778,46.4929321
END:VEVENT
BEGIN:VEVENT
DTSTART;TZID=America/Toronto:20250115T163000
DTEND;TZID=America/Toronto:20250115T183000
DTSTAMP:20260424T034133
CREATED:20250130T160248Z
LAST-MODIFIED:20250130T183316Z
UID:10002172-1736958600-1736965800@skhc.ca
SUMMARY:Young Thunderbirds Drum Group
DESCRIPTION:
URL:https://skhc.ca/event/young-thunderbirds-drum-group/2025-01-15/
LOCATION:Community Centre\, 105 Elm Street\, Suite E4\, Sudbury\, ON\, Canada
CATEGORIES:Traditional Program
ATTACH;FMTTYPE=image/jpeg:https://skhc.ca/wp-content/uploads/2025/01/IMG_1050_Edited_WEB.jpg
ORGANIZER;CN="Debbie Plain-McGregor":MAILTO:dplain-mcgregor@skhc.ca
GEO:46.4929321;-80.9986778
X-APPLE-STRUCTURED-LOCATION;VALUE=URI;X-ADDRESS=Community Centre 105 Elm Street Suite E4 Sudbury ON Canada;X-APPLE-RADIUS=500;X-TITLE=105 Elm Street\, Suite E4:geo:-80.9986778,46.4929321
END:VEVENT
BEGIN:VEVENT
DTSTART;TZID=America/Toronto:20250113T120000
DTEND;TZID=America/Toronto:20250113T130000
DTSTAMP:20260424T034133
CREATED:20250130T161712Z
LAST-MODIFIED:20250520T164241Z
UID:10002104-1736769600-1736773200@skhc.ca
SUMMARY:Yoga
DESCRIPTION:
URL:https://skhc.ca/event/yoga-2/2025-01-13/
LOCATION:Community Centre\, 105 Elm Street\, Suite E4\, Sudbury\, ON\, Canada
CATEGORIES:Community Programs
ATTACH;FMTTYPE=image/jpeg:https://skhc.ca/wp-content/uploads/2025/01/active-activity-adult-1308746_WEB.jpg
ORGANIZER;CN="Jordan Assinewe":MAILTO:jassinewe@skhc.ca
GEO:46.4929321;-80.9986778
X-APPLE-STRUCTURED-LOCATION;VALUE=URI;X-ADDRESS=Community Centre 105 Elm Street Suite E4 Sudbury ON Canada;X-APPLE-RADIUS=500;X-TITLE=105 Elm Street\, Suite E4:geo:-80.9986778,46.4929321
END:VEVENT
BEGIN:VEVENT
DTSTART;TZID=America/Toronto:20250108T163000
DTEND;TZID=America/Toronto:20250108T183000
DTSTAMP:20260424T034133
CREATED:20250130T160248Z
LAST-MODIFIED:20250130T183316Z
UID:10002171-1736353800-1736361000@skhc.ca
SUMMARY:Young Thunderbirds Drum Group
DESCRIPTION:
URL:https://skhc.ca/event/young-thunderbirds-drum-group/2025-01-08/
LOCATION:Community Centre\, 105 Elm Street\, Suite E4\, Sudbury\, ON\, Canada
CATEGORIES:Traditional Program
ATTACH;FMTTYPE=image/jpeg:https://skhc.ca/wp-content/uploads/2025/01/IMG_1050_Edited_WEB.jpg
ORGANIZER;CN="Debbie Plain-McGregor":MAILTO:dplain-mcgregor@skhc.ca
GEO:46.4929321;-80.9986778
X-APPLE-STRUCTURED-LOCATION;VALUE=URI;X-ADDRESS=Community Centre 105 Elm Street Suite E4 Sudbury ON Canada;X-APPLE-RADIUS=500;X-TITLE=105 Elm Street\, Suite E4:geo:-80.9986778,46.4929321
END:VEVENT
BEGIN:VEVENT
DTSTART;TZID=America/Toronto:20250106T120000
DTEND;TZID=America/Toronto:20250106T130000
DTSTAMP:20260424T034133
CREATED:20250130T161712Z
LAST-MODIFIED:20250520T164241Z
UID:10002103-1736164800-1736168400@skhc.ca
SUMMARY:Yoga
DESCRIPTION:
URL:https://skhc.ca/event/yoga-2/2025-01-06/
LOCATION:Community Centre\, 105 Elm Street\, Suite E4\, Sudbury\, ON\, Canada
CATEGORIES:Community Programs
ATTACH;FMTTYPE=image/jpeg:https://skhc.ca/wp-content/uploads/2025/01/active-activity-adult-1308746_WEB.jpg
ORGANIZER;CN="Jordan Assinewe":MAILTO:jassinewe@skhc.ca
GEO:46.4929321;-80.9986778
X-APPLE-STRUCTURED-LOCATION;VALUE=URI;X-ADDRESS=Community Centre 105 Elm Street Suite E4 Sudbury ON Canada;X-APPLE-RADIUS=500;X-TITLE=105 Elm Street\, Suite E4:geo:-80.9986778,46.4929321
END:VEVENT
BEGIN:VEVENT
DTSTART;TZID=America/Toronto:20241218T173000
DTEND;TZID=America/Toronto:20241218T183000
DTSTAMP:20260424T034133
CREATED:20240904T180815Z
LAST-MODIFIED:20241112T153033Z
UID:10001970-1734543000-1734546600@skhc.ca
SUMMARY:Boys Big Drum
DESCRIPTION:
URL:https://skhc.ca/event/boys-big-drum-2/2024-12-18/
LOCATION:Community Centre\, 105 Elm Street\, Suite E4\, Sudbury\, ON\, Canada
CATEGORIES:Traditional Program
ATTACH;FMTTYPE=image/jpeg:https://skhc.ca/wp-content/uploads/2024/05/drum_WEB.jpg
ORGANIZER;CN="Debbie Plain-McGregor":MAILTO:dplain-mcgregor@skhc.ca
GEO:46.4929321;-80.9986778
X-APPLE-STRUCTURED-LOCATION;VALUE=URI;X-ADDRESS=Community Centre 105 Elm Street Suite E4 Sudbury ON Canada;X-APPLE-RADIUS=500;X-TITLE=105 Elm Street\, Suite E4:geo:-80.9986778,46.4929321
END:VEVENT
BEGIN:VEVENT
DTSTART;TZID=America/Toronto:20241216T120000
DTEND;TZID=America/Toronto:20241216T130000
DTSTAMP:20260424T034133
CREATED:20240507T185306Z
LAST-MODIFIED:20240904T183610Z
UID:10001917-1734350400-1734354000@skhc.ca
SUMMARY:Yoga
DESCRIPTION:
URL:https://skhc.ca/event/yoga/2024-12-16/
LOCATION:Community Centre\, 105 Elm Street\, Suite E4\, Sudbury\, ON\, Canada
CATEGORIES:Community Programs
ATTACH;FMTTYPE=image/jpeg:https://skhc.ca/wp-content/uploads/2024/05/active-activity-adult-1308746_WEB.jpg
ORGANIZER;CN="Jordan Assinewe":MAILTO:jassinewe@skhc.ca
GEO:46.4929321;-80.9986778
X-APPLE-STRUCTURED-LOCATION;VALUE=URI;X-ADDRESS=Community Centre 105 Elm Street Suite E4 Sudbury ON Canada;X-APPLE-RADIUS=500;X-TITLE=105 Elm Street\, Suite E4:geo:-80.9986778,46.4929321
END:VEVENT
BEGIN:VEVENT
DTSTART;TZID=America/Toronto:20241213T133000
DTEND;TZID=America/Toronto:20241213T153000
DTSTAMP:20260424T034133
CREATED:20241113T143943Z
LAST-MODIFIED:20241113T144108Z
UID:10001999-1734096600-1734103800@skhc.ca
SUMMARY:Manidoo-Minenhsag Beading Group
DESCRIPTION:
URL:https://skhc.ca/event/manidoo-minenhsag-beading-group/2024-12-13/
LOCATION:Community Centre\, 105 Elm Street\, Suite E4\, Sudbury\, ON\, Canada
CATEGORIES:Traditional Program
ATTACH;FMTTYPE=image/jpeg:https://skhc.ca/wp-content/uploads/2024/11/SKHC_TraditionalProgram_BeadingGroup_2024_BG-scaled.jpg
ORGANIZER;CN="Liz Eshkibok-Trudeau":MAILTO:eeshkibok@skhc.ca
GEO:46.4929321;-80.9986778
X-APPLE-STRUCTURED-LOCATION;VALUE=URI;X-ADDRESS=Community Centre 105 Elm Street Suite E4 Sudbury ON Canada;X-APPLE-RADIUS=500;X-TITLE=105 Elm Street\, Suite E4:geo:-80.9986778,46.4929321
END:VEVENT
BEGIN:VEVENT
DTSTART;TZID=America/Toronto:20241211T173000
DTEND;TZID=America/Toronto:20241211T183000
DTSTAMP:20260424T034133
CREATED:20240904T180815Z
LAST-MODIFIED:20241112T153033Z
UID:10001969-1733938200-1733941800@skhc.ca
SUMMARY:Boys Big Drum
DESCRIPTION:
URL:https://skhc.ca/event/boys-big-drum-2/2024-12-11/
LOCATION:Community Centre\, 105 Elm Street\, Suite E4\, Sudbury\, ON\, Canada
CATEGORIES:Traditional Program
ATTACH;FMTTYPE=image/jpeg:https://skhc.ca/wp-content/uploads/2024/05/drum_WEB.jpg
ORGANIZER;CN="Debbie Plain-McGregor":MAILTO:dplain-mcgregor@skhc.ca
GEO:46.4929321;-80.9986778
X-APPLE-STRUCTURED-LOCATION;VALUE=URI;X-ADDRESS=Community Centre 105 Elm Street Suite E4 Sudbury ON Canada;X-APPLE-RADIUS=500;X-TITLE=105 Elm Street\, Suite E4:geo:-80.9986778,46.4929321
END:VEVENT
BEGIN:VEVENT
DTSTART;TZID=America/Toronto:20241209T120000
DTEND;TZID=America/Toronto:20241209T130000
DTSTAMP:20260424T034133
CREATED:20240507T185306Z
LAST-MODIFIED:20240904T183610Z
UID:10001916-1733745600-1733749200@skhc.ca
SUMMARY:Yoga
DESCRIPTION:
URL:https://skhc.ca/event/yoga/2024-12-09/
LOCATION:Community Centre\, 105 Elm Street\, Suite E4\, Sudbury\, ON\, Canada
CATEGORIES:Community Programs
ATTACH;FMTTYPE=image/jpeg:https://skhc.ca/wp-content/uploads/2024/05/active-activity-adult-1308746_WEB.jpg
ORGANIZER;CN="Jordan Assinewe":MAILTO:jassinewe@skhc.ca
GEO:46.4929321;-80.9986778
X-APPLE-STRUCTURED-LOCATION;VALUE=URI;X-ADDRESS=Community Centre 105 Elm Street Suite E4 Sudbury ON Canada;X-APPLE-RADIUS=500;X-TITLE=105 Elm Street\, Suite E4:geo:-80.9986778,46.4929321
END:VEVENT
BEGIN:VEVENT
DTSTART;TZID=America/Toronto:20241206T133000
DTEND;TZID=America/Toronto:20241206T153000
DTSTAMP:20260424T034133
CREATED:20241113T143943Z
LAST-MODIFIED:20241113T144108Z
UID:10001998-1733491800-1733499000@skhc.ca
SUMMARY:Manidoo-Minenhsag Beading Group
DESCRIPTION:
URL:https://skhc.ca/event/manidoo-minenhsag-beading-group/2024-12-06/
LOCATION:Community Centre\, 105 Elm Street\, Suite E4\, Sudbury\, ON\, Canada
CATEGORIES:Traditional Program
ATTACH;FMTTYPE=image/jpeg:https://skhc.ca/wp-content/uploads/2024/11/SKHC_TraditionalProgram_BeadingGroup_2024_BG-scaled.jpg
ORGANIZER;CN="Liz Eshkibok-Trudeau":MAILTO:eeshkibok@skhc.ca
GEO:46.4929321;-80.9986778
X-APPLE-STRUCTURED-LOCATION;VALUE=URI;X-ADDRESS=Community Centre 105 Elm Street Suite E4 Sudbury ON Canada;X-APPLE-RADIUS=500;X-TITLE=105 Elm Street\, Suite E4:geo:-80.9986778,46.4929321
END:VEVENT
BEGIN:VEVENT
DTSTART;TZID=America/Toronto:20241204T173000
DTEND;TZID=America/Toronto:20241204T183000
DTSTAMP:20260424T034133
CREATED:20240904T180815Z
LAST-MODIFIED:20241112T153033Z
UID:10001968-1733333400-1733337000@skhc.ca
SUMMARY:Boys Big Drum
DESCRIPTION:
URL:https://skhc.ca/event/boys-big-drum-2/2024-12-04/
LOCATION:Community Centre\, 105 Elm Street\, Suite E4\, Sudbury\, ON\, Canada
CATEGORIES:Traditional Program
ATTACH;FMTTYPE=image/jpeg:https://skhc.ca/wp-content/uploads/2024/05/drum_WEB.jpg
ORGANIZER;CN="Debbie Plain-McGregor":MAILTO:dplain-mcgregor@skhc.ca
GEO:46.4929321;-80.9986778
X-APPLE-STRUCTURED-LOCATION;VALUE=URI;X-ADDRESS=Community Centre 105 Elm Street Suite E4 Sudbury ON Canada;X-APPLE-RADIUS=500;X-TITLE=105 Elm Street\, Suite E4:geo:-80.9986778,46.4929321
END:VEVENT
BEGIN:VEVENT
DTSTART;TZID=America/Toronto:20241202T120000
DTEND;TZID=America/Toronto:20241202T130000
DTSTAMP:20260424T034133
CREATED:20240507T185306Z
LAST-MODIFIED:20240904T183610Z
UID:10001915-1733140800-1733144400@skhc.ca
SUMMARY:Yoga
DESCRIPTION:
URL:https://skhc.ca/event/yoga/2024-12-02/
LOCATION:Community Centre\, 105 Elm Street\, Suite E4\, Sudbury\, ON\, Canada
CATEGORIES:Community Programs
ATTACH;FMTTYPE=image/jpeg:https://skhc.ca/wp-content/uploads/2024/05/active-activity-adult-1308746_WEB.jpg
ORGANIZER;CN="Jordan Assinewe":MAILTO:jassinewe@skhc.ca
GEO:46.4929321;-80.9986778
X-APPLE-STRUCTURED-LOCATION;VALUE=URI;X-ADDRESS=Community Centre 105 Elm Street Suite E4 Sudbury ON Canada;X-APPLE-RADIUS=500;X-TITLE=105 Elm Street\, Suite E4:geo:-80.9986778,46.4929321
END:VEVENT
BEGIN:VEVENT
DTSTART;TZID=America/Toronto:20241129T133000
DTEND;TZID=America/Toronto:20241129T153000
DTSTAMP:20260424T034133
CREATED:20241113T143943Z
LAST-MODIFIED:20241113T144108Z
UID:10001997-1732887000-1732894200@skhc.ca
SUMMARY:Manidoo-Minenhsag Beading Group
DESCRIPTION:
URL:https://skhc.ca/event/manidoo-minenhsag-beading-group/2024-11-29/
LOCATION:Community Centre\, 105 Elm Street\, Suite E4\, Sudbury\, ON\, Canada
CATEGORIES:Traditional Program
ATTACH;FMTTYPE=image/jpeg:https://skhc.ca/wp-content/uploads/2024/11/SKHC_TraditionalProgram_BeadingGroup_2024_BG-scaled.jpg
ORGANIZER;CN="Liz Eshkibok-Trudeau":MAILTO:eeshkibok@skhc.ca
GEO:46.4929321;-80.9986778
X-APPLE-STRUCTURED-LOCATION;VALUE=URI;X-ADDRESS=Community Centre 105 Elm Street Suite E4 Sudbury ON Canada;X-APPLE-RADIUS=500;X-TITLE=105 Elm Street\, Suite E4:geo:-80.9986778,46.4929321
END:VEVENT
BEGIN:VEVENT
DTSTART;TZID=America/Toronto:20241128T170000
DTEND;TZID=America/Toronto:20241128T193000
DTSTAMP:20260424T034133
CREATED:20240522T182532Z
LAST-MODIFIED:20241113T143016Z
UID:10001991-1732813200-1732822200@skhc.ca
SUMMARY:Mental Wellness Paint Night
DESCRIPTION:
URL:https://skhc.ca/event/mental-health-paint-social/2024-11-28/
LOCATION:Community Centre\, 105 Elm Street\, Suite E4\, Sudbury\, ON\, Canada
CATEGORIES:Community Programs
ATTACH;FMTTYPE=image/jpeg:https://skhc.ca/wp-content/uploads/2024/04/AdobeStock_639551247_WEB.jpg
ORGANIZER;CN="Krysta Laffrenier":MAILTO:klaffrenier@skhc.ca
GEO:46.4929321;-80.9986778
X-APPLE-STRUCTURED-LOCATION;VALUE=URI;X-ADDRESS=Community Centre 105 Elm Street Suite E4 Sudbury ON Canada;X-APPLE-RADIUS=500;X-TITLE=105 Elm Street\, Suite E4:geo:-80.9986778,46.4929321
END:VEVENT
BEGIN:VEVENT
DTSTART;TZID=America/Toronto:20241127T173000
DTEND;TZID=America/Toronto:20241127T183000
DTSTAMP:20260424T034133
CREATED:20240904T180815Z
LAST-MODIFIED:20241112T153033Z
UID:10001967-1732728600-1732732200@skhc.ca
SUMMARY:Boys Big Drum
DESCRIPTION:
URL:https://skhc.ca/event/boys-big-drum-2/2024-11-27/
LOCATION:Community Centre\, 105 Elm Street\, Suite E4\, Sudbury\, ON\, Canada
CATEGORIES:Traditional Program
ATTACH;FMTTYPE=image/jpeg:https://skhc.ca/wp-content/uploads/2024/05/drum_WEB.jpg
ORGANIZER;CN="Debbie Plain-McGregor":MAILTO:dplain-mcgregor@skhc.ca
GEO:46.4929321;-80.9986778
X-APPLE-STRUCTURED-LOCATION;VALUE=URI;X-ADDRESS=Community Centre 105 Elm Street Suite E4 Sudbury ON Canada;X-APPLE-RADIUS=500;X-TITLE=105 Elm Street\, Suite E4:geo:-80.9986778,46.4929321
END:VEVENT
BEGIN:VEVENT
DTSTART;TZID=America/Toronto:20241126T170000
DTEND;TZID=America/Toronto:20241126T190000
DTSTAMP:20260424T034133
CREATED:20240508T164510Z
LAST-MODIFIED:20240730T140032Z
UID:10001921-1732640400-1732647600@skhc.ca
SUMMARY:Youth Drop-In
DESCRIPTION:
URL:https://skhc.ca/event/youth-drop-in/2024-11-26/
LOCATION:Community Centre\, 105 Elm Street\, Suite E4\, Sudbury\, ON\, Canada
CATEGORIES:Traditional Program
ORGANIZER;CN="Natalie Lacasse":MAILTO:nlacasse@skhc.ca
GEO:46.4929321;-80.9986778
X-APPLE-STRUCTURED-LOCATION;VALUE=URI;X-ADDRESS=Community Centre 105 Elm Street Suite E4 Sudbury ON Canada;X-APPLE-RADIUS=500;X-TITLE=105 Elm Street\, Suite E4:geo:-80.9986778,46.4929321
END:VEVENT
BEGIN:VEVENT
DTSTART;TZID=America/Toronto:20241125T120000
DTEND;TZID=America/Toronto:20241125T130000
DTSTAMP:20260424T034133
CREATED:20240507T185306Z
LAST-MODIFIED:20240904T183610Z
UID:10001914-1732536000-1732539600@skhc.ca
SUMMARY:Yoga
DESCRIPTION:
URL:https://skhc.ca/event/yoga/2024-11-25/
LOCATION:Community Centre\, 105 Elm Street\, Suite E4\, Sudbury\, ON\, Canada
CATEGORIES:Community Programs
ATTACH;FMTTYPE=image/jpeg:https://skhc.ca/wp-content/uploads/2024/05/active-activity-adult-1308746_WEB.jpg
ORGANIZER;CN="Jordan Assinewe":MAILTO:jassinewe@skhc.ca
GEO:46.4929321;-80.9986778
X-APPLE-STRUCTURED-LOCATION;VALUE=URI;X-ADDRESS=Community Centre 105 Elm Street Suite E4 Sudbury ON Canada;X-APPLE-RADIUS=500;X-TITLE=105 Elm Street\, Suite E4:geo:-80.9986778,46.4929321
END:VEVENT
BEGIN:VEVENT
DTSTART;TZID=America/Toronto:20241122T133000
DTEND;TZID=America/Toronto:20241122T153000
DTSTAMP:20260424T034133
CREATED:20241113T143943Z
LAST-MODIFIED:20241113T144108Z
UID:10001996-1732282200-1732289400@skhc.ca
SUMMARY:Manidoo-Minenhsag Beading Group
DESCRIPTION:
URL:https://skhc.ca/event/manidoo-minenhsag-beading-group/2024-11-22/
LOCATION:Community Centre\, 105 Elm Street\, Suite E4\, Sudbury\, ON\, Canada
CATEGORIES:Traditional Program
ATTACH;FMTTYPE=image/jpeg:https://skhc.ca/wp-content/uploads/2024/11/SKHC_TraditionalProgram_BeadingGroup_2024_BG-scaled.jpg
ORGANIZER;CN="Liz Eshkibok-Trudeau":MAILTO:eeshkibok@skhc.ca
GEO:46.4929321;-80.9986778
X-APPLE-STRUCTURED-LOCATION;VALUE=URI;X-ADDRESS=Community Centre 105 Elm Street Suite E4 Sudbury ON Canada;X-APPLE-RADIUS=500;X-TITLE=105 Elm Street\, Suite E4:geo:-80.9986778,46.4929321
END:VEVENT
BEGIN:VEVENT
DTSTART;TZID=America/Toronto:20241120T173000
DTEND;TZID=America/Toronto:20241120T183000
DTSTAMP:20260424T034133
CREATED:20240904T180815Z
LAST-MODIFIED:20241112T153033Z
UID:10001966-1732123800-1732127400@skhc.ca
SUMMARY:Boys Big Drum
DESCRIPTION:
URL:https://skhc.ca/event/boys-big-drum-2/2024-11-20/
LOCATION:Community Centre\, 105 Elm Street\, Suite E4\, Sudbury\, ON\, Canada
CATEGORIES:Traditional Program
ATTACH;FMTTYPE=image/jpeg:https://skhc.ca/wp-content/uploads/2024/05/drum_WEB.jpg
ORGANIZER;CN="Debbie Plain-McGregor":MAILTO:dplain-mcgregor@skhc.ca
GEO:46.4929321;-80.9986778
X-APPLE-STRUCTURED-LOCATION;VALUE=URI;X-ADDRESS=Community Centre 105 Elm Street Suite E4 Sudbury ON Canada;X-APPLE-RADIUS=500;X-TITLE=105 Elm Street\, Suite E4:geo:-80.9986778,46.4929321
END:VEVENT
BEGIN:VEVENT
DTSTART;TZID=America/Toronto:20241118T120000
DTEND;TZID=America/Toronto:20241118T130000
DTSTAMP:20260424T034133
CREATED:20240507T185306Z
LAST-MODIFIED:20240904T183610Z
UID:10001913-1731931200-1731934800@skhc.ca
SUMMARY:Yoga
DESCRIPTION:
URL:https://skhc.ca/event/yoga/2024-11-18/
LOCATION:Community Centre\, 105 Elm Street\, Suite E4\, Sudbury\, ON\, Canada
CATEGORIES:Community Programs
ATTACH;FMTTYPE=image/jpeg:https://skhc.ca/wp-content/uploads/2024/05/active-activity-adult-1308746_WEB.jpg
ORGANIZER;CN="Jordan Assinewe":MAILTO:jassinewe@skhc.ca
GEO:46.4929321;-80.9986778
X-APPLE-STRUCTURED-LOCATION;VALUE=URI;X-ADDRESS=Community Centre 105 Elm Street Suite E4 Sudbury ON Canada;X-APPLE-RADIUS=500;X-TITLE=105 Elm Street\, Suite E4:geo:-80.9986778,46.4929321
END:VEVENT
BEGIN:VEVENT
DTSTART;TZID=America/Toronto:20241115T133000
DTEND;TZID=America/Toronto:20241115T153000
DTSTAMP:20260424T034133
CREATED:20241113T143943Z
LAST-MODIFIED:20241113T144108Z
UID:10001995-1731677400-1731684600@skhc.ca
SUMMARY:Manidoo-Minenhsag Beading Group
DESCRIPTION:
URL:https://skhc.ca/event/manidoo-minenhsag-beading-group/2024-11-15/
LOCATION:Community Centre\, 105 Elm Street\, Suite E4\, Sudbury\, ON\, Canada
CATEGORIES:Traditional Program
ATTACH;FMTTYPE=image/jpeg:https://skhc.ca/wp-content/uploads/2024/11/SKHC_TraditionalProgram_BeadingGroup_2024_BG-scaled.jpg
ORGANIZER;CN="Liz Eshkibok-Trudeau":MAILTO:eeshkibok@skhc.ca
GEO:46.4929321;-80.9986778
X-APPLE-STRUCTURED-LOCATION;VALUE=URI;X-ADDRESS=Community Centre 105 Elm Street Suite E4 Sudbury ON Canada;X-APPLE-RADIUS=500;X-TITLE=105 Elm Street\, Suite E4:geo:-80.9986778,46.4929321
END:VEVENT
BEGIN:VEVENT
DTSTART;TZID=America/Toronto:20241113T173000
DTEND;TZID=America/Toronto:20241113T183000
DTSTAMP:20260424T034133
CREATED:20240904T180815Z
LAST-MODIFIED:20241112T153033Z
UID:10001965-1731519000-1731522600@skhc.ca
SUMMARY:Boys Big Drum
DESCRIPTION:
URL:https://skhc.ca/event/boys-big-drum-2/2024-11-13/
LOCATION:Community Centre\, 105 Elm Street\, Suite E4\, Sudbury\, ON\, Canada
CATEGORIES:Traditional Program
ATTACH;FMTTYPE=image/jpeg:https://skhc.ca/wp-content/uploads/2024/05/drum_WEB.jpg
ORGANIZER;CN="Debbie Plain-McGregor":MAILTO:dplain-mcgregor@skhc.ca
GEO:46.4929321;-80.9986778
X-APPLE-STRUCTURED-LOCATION;VALUE=URI;X-ADDRESS=Community Centre 105 Elm Street Suite E4 Sudbury ON Canada;X-APPLE-RADIUS=500;X-TITLE=105 Elm Street\, Suite E4:geo:-80.9986778,46.4929321
END:VEVENT
BEGIN:VEVENT
DTSTART;TZID=America/Toronto:20241111T120000
DTEND;TZID=America/Toronto:20241111T130000
DTSTAMP:20260424T034133
CREATED:20240507T185306Z
LAST-MODIFIED:20240904T183610Z
UID:10001912-1731326400-1731330000@skhc.ca
SUMMARY:Yoga
DESCRIPTION:
URL:https://skhc.ca/event/yoga/2024-11-11/
LOCATION:Community Centre\, 105 Elm Street\, Suite E4\, Sudbury\, ON\, Canada
CATEGORIES:Community Programs
ATTACH;FMTTYPE=image/jpeg:https://skhc.ca/wp-content/uploads/2024/05/active-activity-adult-1308746_WEB.jpg
ORGANIZER;CN="Jordan Assinewe":MAILTO:jassinewe@skhc.ca
GEO:46.4929321;-80.9986778
X-APPLE-STRUCTURED-LOCATION;VALUE=URI;X-ADDRESS=Community Centre 105 Elm Street Suite E4 Sudbury ON Canada;X-APPLE-RADIUS=500;X-TITLE=105 Elm Street\, Suite E4:geo:-80.9986778,46.4929321
END:VEVENT
BEGIN:VEVENT
DTSTART;TZID=America/Toronto:20241108T133000
DTEND;TZID=America/Toronto:20241108T153000
DTSTAMP:20260424T034133
CREATED:20241113T143943Z
LAST-MODIFIED:20241113T144108Z
UID:10001994-1731072600-1731079800@skhc.ca
SUMMARY:Manidoo-Minenhsag Beading Group
DESCRIPTION:
URL:https://skhc.ca/event/manidoo-minenhsag-beading-group/2024-11-08/
LOCATION:Community Centre\, 105 Elm Street\, Suite E4\, Sudbury\, ON\, Canada
CATEGORIES:Traditional Program
ATTACH;FMTTYPE=image/jpeg:https://skhc.ca/wp-content/uploads/2024/11/SKHC_TraditionalProgram_BeadingGroup_2024_BG-scaled.jpg
ORGANIZER;CN="Liz Eshkibok-Trudeau":MAILTO:eeshkibok@skhc.ca
GEO:46.4929321;-80.9986778
X-APPLE-STRUCTURED-LOCATION;VALUE=URI;X-ADDRESS=Community Centre 105 Elm Street Suite E4 Sudbury ON Canada;X-APPLE-RADIUS=500;X-TITLE=105 Elm Street\, Suite E4:geo:-80.9986778,46.4929321
END:VEVENT
BEGIN:VEVENT
DTSTART;TZID=America/Toronto:20241106T173000
DTEND;TZID=America/Toronto:20241106T183000
DTSTAMP:20260424T034133
CREATED:20240904T180815Z
LAST-MODIFIED:20241112T153033Z
UID:10001964-1730914200-1730917800@skhc.ca
SUMMARY:Boys Big Drum
DESCRIPTION:
URL:https://skhc.ca/event/boys-big-drum-2/2024-11-06/
LOCATION:Community Centre\, 105 Elm Street\, Suite E4\, Sudbury\, ON\, Canada
CATEGORIES:Traditional Program
ATTACH;FMTTYPE=image/jpeg:https://skhc.ca/wp-content/uploads/2024/05/drum_WEB.jpg
ORGANIZER;CN="Debbie Plain-McGregor":MAILTO:dplain-mcgregor@skhc.ca
GEO:46.4929321;-80.9986778
X-APPLE-STRUCTURED-LOCATION;VALUE=URI;X-ADDRESS=Community Centre 105 Elm Street Suite E4 Sudbury ON Canada;X-APPLE-RADIUS=500;X-TITLE=105 Elm Street\, Suite E4:geo:-80.9986778,46.4929321
END:VEVENT
END:VCALENDAR