BEGIN:VCALENDAR
VERSION:2.0
PRODID:-//SKHC - ECPv6.15.18//NONSGML v1.0//EN
CALSCALE:GREGORIAN
METHOD:PUBLISH
X-ORIGINAL-URL:https://skhc.ca
X-WR-CALDESC:Events for SKHC
REFRESH-INTERVAL;VALUE=DURATION:PT1H
X-Robots-Tag:noindex
X-PUBLISHED-TTL:PT1H
BEGIN:VTIMEZONE
TZID:America/Toronto
BEGIN:DAYLIGHT
TZOFFSETFROM:-0500
TZOFFSETTO:-0400
TZNAME:EDT
DTSTART:20230312T070000
END:DAYLIGHT
BEGIN:STANDARD
TZOFFSETFROM:-0400
TZOFFSETTO:-0500
TZNAME:EST
DTSTART:20231105T060000
END:STANDARD
BEGIN:DAYLIGHT
TZOFFSETFROM:-0500
TZOFFSETTO:-0400
TZNAME:EDT
DTSTART:20240310T070000
END:DAYLIGHT
BEGIN:STANDARD
TZOFFSETFROM:-0400
TZOFFSETTO:-0500
TZNAME:EST
DTSTART:20241103T060000
END:STANDARD
BEGIN:DAYLIGHT
TZOFFSETFROM:-0500
TZOFFSETTO:-0400
TZNAME:EDT
DTSTART:20250309T070000
END:DAYLIGHT
BEGIN:STANDARD
TZOFFSETFROM:-0400
TZOFFSETTO:-0500
TZNAME:EST
DTSTART:20251102T060000
END:STANDARD
BEGIN:DAYLIGHT
TZOFFSETFROM:-0500
TZOFFSETTO:-0400
TZNAME:EDT
DTSTART:20260308T070000
END:DAYLIGHT
BEGIN:STANDARD
TZOFFSETFROM:-0400
TZOFFSETTO:-0500
TZNAME:EST
DTSTART:20261101T060000
END:STANDARD
END:VTIMEZONE
BEGIN:VEVENT
DTSTART;TZID=America/Toronto:20250127T100000
DTEND;TZID=America/Toronto:20250127T120000
DTSTAMP:20260424T192728
CREATED:20250130T150817Z
LAST-MODIFIED:20250130T160346Z
UID:10002003-1737972000-1737979200@skhc.ca
SUMMARY:Wild Food Bank
DESCRIPTION:
URL:https://skhc.ca/event/wild-food-bank-2/2025-01-27/
LOCATION:Main Centre\, 161 Applegrove Street\, Sudbury\, ON\, P3C 1N2\, Canada
CATEGORIES:Traditional Program
ATTACH;FMTTYPE=image/jpeg:https://skhc.ca/wp-content/uploads/2025/01/SKHC_TraditionalProgram_WildFoodBank_2025_Header.jpg
ORGANIZER;CN="Page Chartrand":MAILTO:pchartrand@skhc.ca
GEO:46.4917277;-81.0018929
X-APPLE-STRUCTURED-LOCATION;VALUE=URI;X-ADDRESS=Main Centre 161 Applegrove Street Sudbury ON P3C 1N2 Canada;X-APPLE-RADIUS=500;X-TITLE=161 Applegrove Street:geo:-81.0018929,46.4917277
END:VEVENT
BEGIN:VEVENT
DTSTART;TZID=America/Toronto:20250120T100000
DTEND;TZID=America/Toronto:20250120T120000
DTSTAMP:20260424T192728
CREATED:20250130T150817Z
LAST-MODIFIED:20250130T160346Z
UID:10002002-1737367200-1737374400@skhc.ca
SUMMARY:Wild Food Bank
DESCRIPTION:
URL:https://skhc.ca/event/wild-food-bank-2/2025-01-20/
LOCATION:Main Centre\, 161 Applegrove Street\, Sudbury\, ON\, P3C 1N2\, Canada
CATEGORIES:Traditional Program
ATTACH;FMTTYPE=image/jpeg:https://skhc.ca/wp-content/uploads/2025/01/SKHC_TraditionalProgram_WildFoodBank_2025_Header.jpg
ORGANIZER;CN="Page Chartrand":MAILTO:pchartrand@skhc.ca
GEO:46.4917277;-81.0018929
X-APPLE-STRUCTURED-LOCATION;VALUE=URI;X-ADDRESS=Main Centre 161 Applegrove Street Sudbury ON P3C 1N2 Canada;X-APPLE-RADIUS=500;X-TITLE=161 Applegrove Street:geo:-81.0018929,46.4917277
END:VEVENT
BEGIN:VEVENT
DTSTART;TZID=America/Toronto:20250113T100000
DTEND;TZID=America/Toronto:20250113T120000
DTSTAMP:20260424T192728
CREATED:20250130T150817Z
LAST-MODIFIED:20250130T160346Z
UID:10002001-1736762400-1736769600@skhc.ca
SUMMARY:Wild Food Bank
DESCRIPTION:
URL:https://skhc.ca/event/wild-food-bank-2/2025-01-13/
LOCATION:Main Centre\, 161 Applegrove Street\, Sudbury\, ON\, P3C 1N2\, Canada
CATEGORIES:Traditional Program
ATTACH;FMTTYPE=image/jpeg:https://skhc.ca/wp-content/uploads/2025/01/SKHC_TraditionalProgram_WildFoodBank_2025_Header.jpg
ORGANIZER;CN="Page Chartrand":MAILTO:pchartrand@skhc.ca
GEO:46.4917277;-81.0018929
X-APPLE-STRUCTURED-LOCATION;VALUE=URI;X-ADDRESS=Main Centre 161 Applegrove Street Sudbury ON P3C 1N2 Canada;X-APPLE-RADIUS=500;X-TITLE=161 Applegrove Street:geo:-81.0018929,46.4917277
END:VEVENT
BEGIN:VEVENT
DTSTART;TZID=America/Toronto:20250106T100000
DTEND;TZID=America/Toronto:20250106T120000
DTSTAMP:20260424T192728
CREATED:20250130T150817Z
LAST-MODIFIED:20250130T160346Z
UID:10002000-1736157600-1736164800@skhc.ca
SUMMARY:Wild Food Bank
DESCRIPTION:
URL:https://skhc.ca/event/wild-food-bank-2/2025-01-06/
LOCATION:Main Centre\, 161 Applegrove Street\, Sudbury\, ON\, P3C 1N2\, Canada
CATEGORIES:Traditional Program
ATTACH;FMTTYPE=image/jpeg:https://skhc.ca/wp-content/uploads/2025/01/SKHC_TraditionalProgram_WildFoodBank_2025_Header.jpg
ORGANIZER;CN="Page Chartrand":MAILTO:pchartrand@skhc.ca
GEO:46.4917277;-81.0018929
X-APPLE-STRUCTURED-LOCATION;VALUE=URI;X-ADDRESS=Main Centre 161 Applegrove Street Sudbury ON P3C 1N2 Canada;X-APPLE-RADIUS=500;X-TITLE=161 Applegrove Street:geo:-81.0018929,46.4917277
END:VEVENT
BEGIN:VEVENT
DTSTART;TZID=America/Toronto:20241121T170000
DTEND;TZID=America/Toronto:20241121T190000
DTSTAMP:20260424T192728
CREATED:20240522T145243Z
LAST-MODIFIED:20241112T153301Z
UID:10001989-1732208400-1732215600@skhc.ca
SUMMARY:Men's Group
DESCRIPTION:
URL:https://skhc.ca/event/mens-group-2/2024-11-21/
LOCATION:Main Centre\, 161 Applegrove Street\, Sudbury\, ON\, P3C 1N2\, Canada
CATEGORIES:Traditional Program
ATTACH;FMTTYPE=image/jpeg:https://skhc.ca/wp-content/uploads/2024/05/PHOTOS-0092_WEB.jpg
ORGANIZER;CN="Natalie Lacasse":MAILTO:nlacasse@skhc.ca
GEO:46.4917277;-81.0018929
X-APPLE-STRUCTURED-LOCATION;VALUE=URI;X-ADDRESS=Main Centre 161 Applegrove Street Sudbury ON P3C 1N2 Canada;X-APPLE-RADIUS=500;X-TITLE=161 Applegrove Street:geo:-81.0018929,46.4917277
END:VEVENT
BEGIN:VEVENT
DTSTART;TZID=America/Toronto:20241121T093000
DTEND;TZID=America/Toronto:20241121T153000
DTSTAMP:20260424T192728
CREATED:20241112T154749Z
LAST-MODIFIED:20241112T154749Z
UID:10001990-1732181400-1732203000@skhc.ca
SUMMARY:Well Women's Day
DESCRIPTION:
URL:https://skhc.ca/event/well-womens-day/
LOCATION:Main Centre\, 161 Applegrove Street\, Sudbury\, ON\, P3C 1N2\, Canada
CATEGORIES:Primary Care
ATTACH;FMTTYPE=image/jpeg:https://skhc.ca/wp-content/uploads/2024/11/SKHC_Clinical_WellWomen_2024_BG.jpg
ORGANIZER;CN="Erika Gollan":MAILTO:egollan@skhc.ca
GEO:46.4917277;-81.0018929
X-APPLE-STRUCTURED-LOCATION;VALUE=URI;X-ADDRESS=Main Centre 161 Applegrove Street Sudbury ON P3C 1N2 Canada;X-APPLE-RADIUS=500;X-TITLE=161 Applegrove Street:geo:-81.0018929,46.4917277
END:VEVENT
BEGIN:VEVENT
DTSTART;TZID=America/Toronto:20240829T170000
DTEND;TZID=America/Toronto:20240829T190000
DTSTAMP:20260424T192728
CREATED:20240522T145243Z
LAST-MODIFIED:20241112T153301Z
UID:10001900-1724950800-1724958000@skhc.ca
SUMMARY:Men's Group
DESCRIPTION:
URL:https://skhc.ca/event/mens-group-2/2024-08-29/
LOCATION:Main Centre\, 161 Applegrove Street\, Sudbury\, ON\, P3C 1N2\, Canada
CATEGORIES:Traditional Program
ATTACH;FMTTYPE=image/jpeg:https://skhc.ca/wp-content/uploads/2024/05/PHOTOS-0092_WEB.jpg
ORGANIZER;CN="Natalie Lacasse":MAILTO:nlacasse@skhc.ca
GEO:46.4917277;-81.0018929
X-APPLE-STRUCTURED-LOCATION;VALUE=URI;X-ADDRESS=Main Centre 161 Applegrove Street Sudbury ON P3C 1N2 Canada;X-APPLE-RADIUS=500;X-TITLE=161 Applegrove Street:geo:-81.0018929,46.4917277
END:VEVENT
BEGIN:VEVENT
DTSTART;TZID=America/Toronto:20240703T093000
DTEND;TZID=America/Toronto:20240703T150000
DTSTAMP:20260424T192728
CREATED:20240628T173137Z
LAST-MODIFIED:20240628T173141Z
UID:10001889-1719999000-1720018800@skhc.ca
SUMMARY:Medicine Walk
DESCRIPTION:
URL:https://skhc.ca/event/medicine-walk-2/
LOCATION:Main Centre\, 161 Applegrove Street\, Sudbury\, ON\, P3C 1N2\, Canada
CATEGORIES:Traditional Program
GEO:46.4917277;-81.0018929
X-APPLE-STRUCTURED-LOCATION;VALUE=URI;X-ADDRESS=Main Centre 161 Applegrove Street Sudbury ON P3C 1N2 Canada;X-APPLE-RADIUS=500;X-TITLE=161 Applegrove Street:geo:-81.0018929,46.4917277
END:VEVENT
BEGIN:VEVENT
DTSTART;VALUE=DATE:20240701
DTEND;VALUE=DATE:20240702
DTSTAMP:20260424T192728
CREATED:20240628T172612Z
LAST-MODIFIED:20240628T172842Z
UID:10001888-1719792000-1719878399@skhc.ca
SUMMARY:Canada Day
DESCRIPTION:Offices closed.
URL:https://skhc.ca/event/canada-day/
LOCATION:Main Centre\, 161 Applegrove Street\, Sudbury\, ON\, P3C 1N2\, Canada
CATEGORIES:Notable Dates
GEO:46.4917277;-81.0018929
X-APPLE-STRUCTURED-LOCATION;VALUE=URI;X-ADDRESS=Main Centre 161 Applegrove Street Sudbury ON P3C 1N2 Canada;X-APPLE-RADIUS=500;X-TITLE=161 Applegrove Street:geo:-81.0018929,46.4917277
END:VEVENT
BEGIN:VEVENT
DTSTART;TZID=America/Toronto:20240627T170000
DTEND;TZID=America/Toronto:20240627T190000
DTSTAMP:20260424T192728
CREATED:20240522T145243Z
LAST-MODIFIED:20241112T153301Z
UID:10001882-1719507600-1719514800@skhc.ca
SUMMARY:Men's Group
DESCRIPTION:
URL:https://skhc.ca/event/mens-group-2/2024-06-27/
LOCATION:Main Centre\, 161 Applegrove Street\, Sudbury\, ON\, P3C 1N2\, Canada
CATEGORIES:Traditional Program
ATTACH;FMTTYPE=image/jpeg:https://skhc.ca/wp-content/uploads/2024/05/PHOTOS-0092_WEB.jpg
ORGANIZER;CN="Natalie Lacasse":MAILTO:nlacasse@skhc.ca
GEO:46.4917277;-81.0018929
X-APPLE-STRUCTURED-LOCATION;VALUE=URI;X-ADDRESS=Main Centre 161 Applegrove Street Sudbury ON P3C 1N2 Canada;X-APPLE-RADIUS=500;X-TITLE=161 Applegrove Street:geo:-81.0018929,46.4917277
END:VEVENT
BEGIN:VEVENT
DTSTART;TZID=America/Toronto:20240501T090000
DTEND;TZID=America/Toronto:20240501T150000
DTSTAMP:20260424T192728
CREATED:20240425T192354Z
LAST-MODIFIED:20240430T194951Z
UID:10001090-1714554000-1714575600@skhc.ca
SUMMARY:Medicine Walk
DESCRIPTION:
URL:https://skhc.ca/event/medicine-walk/
LOCATION:Main Centre\, 161 Applegrove Street\, Sudbury\, ON\, P3C 1N2\, Canada
CATEGORIES:Traditional Program
GEO:46.4917277;-81.0018929
X-APPLE-STRUCTURED-LOCATION;VALUE=URI;X-ADDRESS=Main Centre 161 Applegrove Street Sudbury ON P3C 1N2 Canada;X-APPLE-RADIUS=500;X-TITLE=161 Applegrove Street:geo:-81.0018929,46.4917277
END:VEVENT
END:VCALENDAR